BEGIN:VCALENDAR
VERSION:2.0
PRODID:-//Village Arts Factory - ECPv6.15.20//NONSGML v1.0//EN
CALSCALE:GREGORIAN
METHOD:PUBLISH
X-WR-CALNAME:Village Arts Factory
X-ORIGINAL-URL:https://villageartsfactory.com
X-WR-CALDESC:Events for Village Arts Factory
REFRESH-INTERVAL;VALUE=DURATION:PT1H
X-Robots-Tag:noindex
X-PUBLISHED-TTL:PT1H
BEGIN:VTIMEZONE
TZID:America/Detroit
BEGIN:DAYLIGHT
TZOFFSETFROM:-0500
TZOFFSETTO:-0400
TZNAME:EDT
DTSTART:20220313T070000
END:DAYLIGHT
BEGIN:STANDARD
TZOFFSETFROM:-0400
TZOFFSETTO:-0500
TZNAME:EST
DTSTART:20221106T060000
END:STANDARD
BEGIN:DAYLIGHT
TZOFFSETFROM:-0500
TZOFFSETTO:-0400
TZNAME:EDT
DTSTART:20230312T070000
END:DAYLIGHT
BEGIN:STANDARD
TZOFFSETFROM:-0400
TZOFFSETTO:-0500
TZNAME:EST
DTSTART:20231105T060000
END:STANDARD
BEGIN:DAYLIGHT
TZOFFSETFROM:-0500
TZOFFSETTO:-0400
TZNAME:EDT
DTSTART:20240310T070000
END:DAYLIGHT
BEGIN:STANDARD
TZOFFSETFROM:-0400
TZOFFSETTO:-0500
TZNAME:EST
DTSTART:20241103T060000
END:STANDARD
END:VTIMEZONE
BEGIN:VEVENT
DTSTART;TZID=America/Detroit:20231008T100000
DTEND;TZID=America/Detroit:20231008T130000
DTSTAMP:20260425T195047
CREATED:20231004T142423Z
LAST-MODIFIED:20231004T143710Z
UID:1306-1696759200-1696770000@villageartsfactory.com
SUMMARY:Holiday Mosaic Ornament Workshop
DESCRIPTION:Save the date for our next Broken China Mosaic Workshop at the Village Arts Factory on Sunday\, October 8 at 10am! This time\, we’ll be making heart-shaped holiday ornaments\, customized using your own creativity. Each participant will go home with four ornaments: three small and one large. Add them to your holiday décor or give them as gifts to those special people in your life. The cost is $40 and includes all materials. This time\, make a special day of it with your child! Parent/child duos can enjoy crafting together for no additional cost. \nUpdate: this event is SOLD OUT. Keep your eye out for our next mosaic workshop!
URL:https://villageartsfactory.com/event/holiday-ornaments-mosaic-workshop/
LOCATION:Village Arts Factory\, 50755 Cherry Hill Rd\, Canton\, MI\, 48188\, United States
ATTACH;FMTTYPE=image/png:https://villageartsfactory.com/wp-content/uploads/2023/10/Mosaic-Workshop-Oct-8.png
ORGANIZER;CN="Eye Candy Mosaics":MAILTO:bkw2848@gmail.com
END:VEVENT
END:VCALENDAR