BEGIN:VCALENDAR
VERSION:2.0
PRODID:-//Village Arts Factory - ECPv6.15.20//NONSGML v1.0//EN
CALSCALE:GREGORIAN
METHOD:PUBLISH
X-ORIGINAL-URL:https://villageartsfactory.com
X-WR-CALDESC:Events for Village Arts Factory
REFRESH-INTERVAL;VALUE=DURATION:PT1H
X-Robots-Tag:noindex
X-PUBLISHED-TTL:PT1H
BEGIN:VTIMEZONE
TZID:America/Detroit
BEGIN:DAYLIGHT
TZOFFSETFROM:-0500
TZOFFSETTO:-0400
TZNAME:EDT
DTSTART:20220313T070000
END:DAYLIGHT
BEGIN:STANDARD
TZOFFSETFROM:-0400
TZOFFSETTO:-0500
TZNAME:EST
DTSTART:20221106T060000
END:STANDARD
BEGIN:DAYLIGHT
TZOFFSETFROM:-0500
TZOFFSETTO:-0400
TZNAME:EDT
DTSTART:20230312T070000
END:DAYLIGHT
BEGIN:STANDARD
TZOFFSETFROM:-0400
TZOFFSETTO:-0500
TZNAME:EST
DTSTART:20231105T060000
END:STANDARD
BEGIN:DAYLIGHT
TZOFFSETFROM:-0500
TZOFFSETTO:-0400
TZNAME:EDT
DTSTART:20240310T070000
END:DAYLIGHT
BEGIN:STANDARD
TZOFFSETFROM:-0400
TZOFFSETTO:-0500
TZNAME:EST
DTSTART:20241103T060000
END:STANDARD
END:VTIMEZONE
BEGIN:VEVENT
DTSTART;TZID=America/Detroit:20231208T063000
DTEND;TZID=America/Detroit:20231208T203000
DTSTAMP:20260425T165305
CREATED:20230713T194048Z
LAST-MODIFIED:20231129T180351Z
UID:1051-1702017000-1702067400@villageartsfactory.com
SUMMARY:Holiday Charcuterie Date Night
DESCRIPTION:Canton Leisure Services presents a Holiday Charcuterie Date Night at the Village Arts Factory! Come and learn how to create beautiful charcuterie boards with your loved one…or make it a friends night out! The cost is just $40 per person and all materials are included. Click the event page link below to register online!
URL:https://villageartsfactory.com/event/holiday-charcuterie-wine-workshop/
LOCATION:Village Arts Factory\, 50755 Cherry Hill Rd\, Canton\, MI\, 48188\, United States
CATEGORIES:Public Events
ATTACH;FMTTYPE=image/png:https://villageartsfactory.com/wp-content/uploads/2023/07/Untitled-design-4.png
END:VEVENT
END:VCALENDAR