BEGIN:VCALENDAR
VERSION:2.0
PRODID:-//Village Arts Factory - ECPv6.15.20//NONSGML v1.0//EN
CALSCALE:GREGORIAN
METHOD:PUBLISH
X-WR-CALNAME:Village Arts Factory
X-ORIGINAL-URL:https://villageartsfactory.com
X-WR-CALDESC:Events for Village Arts Factory
REFRESH-INTERVAL;VALUE=DURATION:PT1H
X-Robots-Tag:noindex
X-PUBLISHED-TTL:PT1H
BEGIN:VTIMEZONE
TZID:America/Detroit
BEGIN:DAYLIGHT
TZOFFSETFROM:-0500
TZOFFSETTO:-0400
TZNAME:EDT
DTSTART:20220313T070000
END:DAYLIGHT
BEGIN:STANDARD
TZOFFSETFROM:-0400
TZOFFSETTO:-0500
TZNAME:EST
DTSTART:20221106T060000
END:STANDARD
BEGIN:DAYLIGHT
TZOFFSETFROM:-0500
TZOFFSETTO:-0400
TZNAME:EDT
DTSTART:20230312T070000
END:DAYLIGHT
BEGIN:STANDARD
TZOFFSETFROM:-0400
TZOFFSETTO:-0500
TZNAME:EST
DTSTART:20231105T060000
END:STANDARD
BEGIN:DAYLIGHT
TZOFFSETFROM:-0500
TZOFFSETTO:-0400
TZNAME:EDT
DTSTART:20240310T070000
END:DAYLIGHT
BEGIN:STANDARD
TZOFFSETFROM:-0400
TZOFFSETTO:-0500
TZNAME:EST
DTSTART:20241103T060000
END:STANDARD
END:VTIMEZONE
BEGIN:VEVENT
DTSTART;TZID=America/Detroit:20231210T100000
DTEND;TZID=America/Detroit:20231210T113000
DTSTAMP:20260425T165244
CREATED:20231129T175350Z
LAST-MODIFIED:20231129T175350Z
UID:1433-1702202400-1702207800@villageartsfactory.com
SUMMARY:Holiday Doormat Craft Workshop
DESCRIPTION:Kick off the holidays with a fun Holiday Doormat Craft Workshop at the Village Arts Factory! Join us on Sunday\, December 10 at 10am as we get into the creative spirit and create custom winter doormats. Select from one of three stencil designs and bring home a beautiful\, holiday-themed doormat to grace your porch or mudroom. The cost is only $45 and includes all materials! The workshop begins at 10am and will run approximately 1 to 1.5 hours. You’ll be able to take your mat home with you that day! All mats are the same standard size: 18”x 30”. This workshop is recommended for ages 16+ but a child may attend with their parent. \nRegister online by clicking the link to the event page below!
URL:https://villageartsfactory.com/event/holiday-doormat-craft-workshop/
LOCATION:MI
CATEGORIES:Public Events
ATTACH;FMTTYPE=image/png:https://villageartsfactory.com/wp-content/uploads/2023/11/Holiday-Doormat-Workshop.png
ORGANIZER;CN="Village Arts Factory":MAILTO:kevin.ryan@cantonmi.gov
END:VEVENT
END:VCALENDAR