BEGIN:VCALENDAR
VERSION:2.0
PRODID:-//Village Arts Factory - ECPv6.15.20//NONSGML v1.0//EN
CALSCALE:GREGORIAN
METHOD:PUBLISH
X-ORIGINAL-URL:https://villageartsfactory.com
X-WR-CALDESC:Events for Village Arts Factory
REFRESH-INTERVAL;VALUE=DURATION:PT1H
X-Robots-Tag:noindex
X-PUBLISHED-TTL:PT1H
BEGIN:VTIMEZONE
TZID:America/Detroit
BEGIN:DAYLIGHT
TZOFFSETFROM:-0500
TZOFFSETTO:-0400
TZNAME:EDT
DTSTART:20230312T070000
END:DAYLIGHT
BEGIN:STANDARD
TZOFFSETFROM:-0400
TZOFFSETTO:-0500
TZNAME:EST
DTSTART:20231105T060000
END:STANDARD
BEGIN:DAYLIGHT
TZOFFSETFROM:-0500
TZOFFSETTO:-0400
TZNAME:EDT
DTSTART:20240310T070000
END:DAYLIGHT
BEGIN:STANDARD
TZOFFSETFROM:-0400
TZOFFSETTO:-0500
TZNAME:EST
DTSTART:20241103T060000
END:STANDARD
BEGIN:DAYLIGHT
TZOFFSETFROM:-0500
TZOFFSETTO:-0400
TZNAME:EDT
DTSTART:20250309T070000
END:DAYLIGHT
BEGIN:STANDARD
TZOFFSETFROM:-0400
TZOFFSETTO:-0500
TZNAME:EST
DTSTART:20251102T060000
END:STANDARD
END:VTIMEZONE
BEGIN:VEVENT
DTSTART;TZID=America/Detroit:20240112T180000
DTEND;TZID=America/Detroit:20240112T190000
DTSTAMP:20260425T152533
CREATED:20231122T194929Z
LAST-MODIFIED:20231122T194929Z
UID:1426-1705082400-1705086000@villageartsfactory.com
SUMMARY:Stretch Bracelet Class for Teens (13-16)
DESCRIPTION:Learn How to Make Stretch Bracelets with Citrine & Craig of Smokey Citrine! \nOur featured stones for this class are Amethyst and Golden Obsidian. \nTwo genuine stones with good vibes\, fun color\, and flash for daily wear. \nIn this beginner-friendly class\, you will learn how to make your own set of stretch bracelets. You will be guided through the process of selecting beads\, stringing them onto elastic cord\, and tying a secure knot. \nWhat you will learn \n\nHow to string beads onto elastic cord\nHow to tie a secure knot\nGeneral information about the featured stones\n\nWhat you will need \n\nYour positive attitude and smile!\n\nWhat to expect \n\nIn this hands-on class\, you will learn how to make your own bracelet set.\nYou will be provided with all of the materials you need to make two bracelets- one in each feature stone.\nYou will receive personalized instruction from a set of experienced jewelry makers.\n\nNo experience is necessary! \nThis class is perfect for beginners who want to learn how to make their own jewelry. \nIt is also a great way to spend time with friends or learn something new. \nSign up today and learn how to make your own beautiful and stylish bracelets for your experience level! \nClass fee: $40 \nDuration: 6-7pm \nClass size is limited to 15 students \nAll materials are included in the class fee. \nLOCATION 50755 Cherry Hill Road\, Canton\, MI 48188 \nPlease register for the class in advance. \nWe hope to see you there!
URL:https://villageartsfactory.com/event/stretch-bracelet-class-for-teens-13-16/
LOCATION:Village Arts Factory\, 50755 Cherry Hill Rd\, Canton\, MI\, 48188\, United States
CATEGORIES:Public Events
ATTACH;FMTTYPE=image/webp:https://villageartsfactory.com/wp-content/uploads/2023/11/Teen-Bracelet-1.webp
END:VEVENT
END:VCALENDAR