BEGIN:VCALENDAR
VERSION:2.0
PRODID:-//Village Arts Factory - ECPv6.15.20//NONSGML v1.0//EN
CALSCALE:GREGORIAN
METHOD:PUBLISH
X-ORIGINAL-URL:https://villageartsfactory.com
X-WR-CALDESC:Events for Village Arts Factory
REFRESH-INTERVAL;VALUE=DURATION:PT1H
X-Robots-Tag:noindex
X-PUBLISHED-TTL:PT1H
BEGIN:VTIMEZONE
TZID:America/Detroit
BEGIN:DAYLIGHT
TZOFFSETFROM:-0500
TZOFFSETTO:-0400
TZNAME:EDT
DTSTART:20230312T070000
END:DAYLIGHT
BEGIN:STANDARD
TZOFFSETFROM:-0400
TZOFFSETTO:-0500
TZNAME:EST
DTSTART:20231105T060000
END:STANDARD
BEGIN:DAYLIGHT
TZOFFSETFROM:-0500
TZOFFSETTO:-0400
TZNAME:EDT
DTSTART:20240310T070000
END:DAYLIGHT
BEGIN:STANDARD
TZOFFSETFROM:-0400
TZOFFSETTO:-0500
TZNAME:EST
DTSTART:20241103T060000
END:STANDARD
BEGIN:DAYLIGHT
TZOFFSETFROM:-0500
TZOFFSETTO:-0400
TZNAME:EDT
DTSTART:20250309T070000
END:DAYLIGHT
BEGIN:STANDARD
TZOFFSETFROM:-0400
TZOFFSETTO:-0500
TZNAME:EST
DTSTART:20251102T060000
END:STANDARD
END:VTIMEZONE
BEGIN:VEVENT
DTSTART;TZID=America/Detroit:20240113T150000
DTEND;TZID=America/Detroit:20240113T160000
DTSTAMP:20260425T152532
CREATED:20231212T194754Z
LAST-MODIFIED:20231219T162220Z
UID:1478-1705158000-1705161600@villageartsfactory.com
SUMMARY:January Adaptive Craft Workshop for Kids
DESCRIPTION:Join us on Saturday\, January 13th at 3:00 PM for our next Adaptive Craft Workshop at the Village Arts Factory! This one-hour workshop will feature puffy paint snowmen and penguins\, a snowflake-making craft\, snowy sensory bottles\, and a winter-themed snack. Recommended for children ages 5 to 12 with special physical\, developmental\, or sensory sensitivity considerations. The cost is only $10 per child and all materials are included. A parent or guardian must attend with child. For questions or more information\, contact Jessica Gallina at admin@partnershipforarts.org or by phone at 734-765-7061. \nClick Here to Register \nSpecial thanks to the generous sponsors of our A.C.E. program: Eagles for Children\, Giving Hope\, and Canton Community Foundation.
URL:https://villageartsfactory.com/event/january-adaptive-craft-workshop-for-kids/
LOCATION:Village Arts Factory\, 50755 Cherry Hill Rd\, Canton\, MI\, 48188\, United States
CATEGORIES:A.C.E. Events,Public Events
ATTACH;FMTTYPE=image/png:https://villageartsfactory.com/wp-content/uploads/2023/12/January-ACE-Flyer-2.0-1920-x-1080-px.png
ORGANIZER;CN="A.C.E. Program":MAILTO:admin@partnershipforarts.org
END:VEVENT
END:VCALENDAR