BEGIN:VCALENDAR
VERSION:2.0
PRODID:-//Village Arts Factory - ECPv6.15.20//NONSGML v1.0//EN
CALSCALE:GREGORIAN
METHOD:PUBLISH
X-ORIGINAL-URL:https://villageartsfactory.com
X-WR-CALDESC:Events for Village Arts Factory
REFRESH-INTERVAL;VALUE=DURATION:PT1H
X-Robots-Tag:noindex
X-PUBLISHED-TTL:PT1H
BEGIN:VTIMEZONE
TZID:America/Detroit
BEGIN:DAYLIGHT
TZOFFSETFROM:-0500
TZOFFSETTO:-0400
TZNAME:EDT
DTSTART:20230312T070000
END:DAYLIGHT
BEGIN:STANDARD
TZOFFSETFROM:-0400
TZOFFSETTO:-0500
TZNAME:EST
DTSTART:20231105T060000
END:STANDARD
BEGIN:DAYLIGHT
TZOFFSETFROM:-0500
TZOFFSETTO:-0400
TZNAME:EDT
DTSTART:20240310T070000
END:DAYLIGHT
BEGIN:STANDARD
TZOFFSETFROM:-0400
TZOFFSETTO:-0500
TZNAME:EST
DTSTART:20241103T060000
END:STANDARD
BEGIN:DAYLIGHT
TZOFFSETFROM:-0500
TZOFFSETTO:-0400
TZNAME:EDT
DTSTART:20250309T070000
END:DAYLIGHT
BEGIN:STANDARD
TZOFFSETFROM:-0400
TZOFFSETTO:-0500
TZNAME:EST
DTSTART:20251102T060000
END:STANDARD
END:VTIMEZONE
BEGIN:VEVENT
DTSTART;TZID=America/Detroit:20240119T190000
DTEND;TZID=America/Detroit:20240119T200000
DTSTAMP:20260425T152532
CREATED:20231211T194256Z
LAST-MODIFIED:20231211T194256Z
UID:1475-1705690800-1705694400@villageartsfactory.com
SUMMARY:Adult Fitness Pop-Up: Core & Movement
DESCRIPTION:Our popular Adult Fitness Pop-Up series returns to the Village Arts Factory this winter! Come escape the cold while trying a new fitness medium with certified instructors from Personal Pilates & Fitness. Our first pop-up is on Friday\, January 19th and will focus on strengthening your core muscles while incorporating strength\, breathing\, movement\, and deep stretching. A light afterglow with refreshments will follow the class. The cost is just $10 per person and space is limited to 20 participants. \n7:00pm Core Strength & Movement fitness class at the Village Arts Factory with instructor Hope Modrzejewski. Participants are encouraged to wear comfortable clothes. Mats will be provided although if you wish to bring your own you may. \n8:00pm After the fitness class there will be an afterglow for all participants that includes wine\, spa water\, and light refreshments. Participants are encouraged to stroll the Village Arts Factory and enjoy the current art exhibit in the Fine Art Gallery as they cool down.
URL:https://villageartsfactory.com/event/adult-fitness-pop-up-core-movement/
LOCATION:Village Arts Factory\, 50755 Cherry Hill Rd\, Canton\, MI\, 48188\, United States
CATEGORIES:Public Events
ATTACH;FMTTYPE=image/png:https://villageartsfactory.com/wp-content/uploads/2023/12/Core-Movement.png
ORGANIZER;CN="Village Arts Factory":MAILTO:kevin.ryan@cantonmi.gov
END:VEVENT
END:VCALENDAR