BEGIN:VCALENDAR
VERSION:2.0
PRODID:-//Village Arts Factory - ECPv6.15.20//NONSGML v1.0//EN
CALSCALE:GREGORIAN
METHOD:PUBLISH
X-WR-CALNAME:Village Arts Factory
X-ORIGINAL-URL:https://villageartsfactory.com
X-WR-CALDESC:Events for Village Arts Factory
REFRESH-INTERVAL;VALUE=DURATION:PT1H
X-Robots-Tag:noindex
X-PUBLISHED-TTL:PT1H
BEGIN:VTIMEZONE
TZID:America/Detroit
BEGIN:DAYLIGHT
TZOFFSETFROM:-0500
TZOFFSETTO:-0400
TZNAME:EDT
DTSTART:20230312T070000
END:DAYLIGHT
BEGIN:STANDARD
TZOFFSETFROM:-0400
TZOFFSETTO:-0500
TZNAME:EST
DTSTART:20231105T060000
END:STANDARD
BEGIN:DAYLIGHT
TZOFFSETFROM:-0500
TZOFFSETTO:-0400
TZNAME:EDT
DTSTART:20240310T070000
END:DAYLIGHT
BEGIN:STANDARD
TZOFFSETFROM:-0400
TZOFFSETTO:-0500
TZNAME:EST
DTSTART:20241103T060000
END:STANDARD
BEGIN:DAYLIGHT
TZOFFSETFROM:-0500
TZOFFSETTO:-0400
TZNAME:EDT
DTSTART:20250309T070000
END:DAYLIGHT
BEGIN:STANDARD
TZOFFSETFROM:-0400
TZOFFSETTO:-0500
TZNAME:EST
DTSTART:20251102T060000
END:STANDARD
END:VTIMEZONE
BEGIN:VEVENT
DTSTART;TZID=America/Detroit:20240209T180000
DTEND;TZID=America/Detroit:20240209T200000
DTSTAMP:20260425T140713
CREATED:20240123T190025Z
LAST-MODIFIED:20240123T190025Z
UID:1559-1707501600-1707508800@villageartsfactory.com
SUMMARY:Mundane Beauty: Art Gallery Opening & Reception
DESCRIPTION:The Village Arts Factory is pleased to announce our February art gallery exhibition: “Mundane Beauty” featuring local Canton artist Chrissy Brown (@cbphotos_art). Brown’s photography exhibit will allow visitors to discover the beauty found in the most random and unnoticed moments of everyday life. A gallery opening and reception with the artist will be held on Friday\, February 9 from 6 to 8pm. \n“Mundane Beauty” will be on public display at the Village Arts Factory throughout the month of February. For more information\, contact us at kevin.ryan@cantonmi.gov.
URL:https://villageartsfactory.com/event/mundane-beauty-art-gallery-opening-reception/
LOCATION:Village Arts Factory\, 50755 Cherry Hill Rd\, Canton\, MI\, 48188\, United States
CATEGORIES:Public Events
ATTACH;FMTTYPE=image/png:https://villageartsfactory.com/wp-content/uploads/2024/01/VAF-Gallery-Feb-2024-1920-x-1080-px.png
ORGANIZER;CN="Village Arts Factory":MAILTO:kevin.ryan@cantonmi.gov
END:VEVENT
END:VCALENDAR