BEGIN:VCALENDAR
VERSION:2.0
PRODID:-//Village Arts Factory - ECPv6.15.20//NONSGML v1.0//EN
CALSCALE:GREGORIAN
METHOD:PUBLISH
X-ORIGINAL-URL:https://villageartsfactory.com
X-WR-CALDESC:Events for Village Arts Factory
REFRESH-INTERVAL;VALUE=DURATION:PT1H
X-Robots-Tag:noindex
X-PUBLISHED-TTL:PT1H
BEGIN:VTIMEZONE
TZID:America/Detroit
BEGIN:DAYLIGHT
TZOFFSETFROM:-0500
TZOFFSETTO:-0400
TZNAME:EDT
DTSTART:20230312T070000
END:DAYLIGHT
BEGIN:STANDARD
TZOFFSETFROM:-0400
TZOFFSETTO:-0500
TZNAME:EST
DTSTART:20231105T060000
END:STANDARD
BEGIN:DAYLIGHT
TZOFFSETFROM:-0500
TZOFFSETTO:-0400
TZNAME:EDT
DTSTART:20240310T070000
END:DAYLIGHT
BEGIN:STANDARD
TZOFFSETFROM:-0400
TZOFFSETTO:-0500
TZNAME:EST
DTSTART:20241103T060000
END:STANDARD
BEGIN:DAYLIGHT
TZOFFSETFROM:-0500
TZOFFSETTO:-0400
TZNAME:EDT
DTSTART:20250309T070000
END:DAYLIGHT
BEGIN:STANDARD
TZOFFSETFROM:-0400
TZOFFSETTO:-0500
TZNAME:EST
DTSTART:20251102T060000
END:STANDARD
END:VTIMEZONE
BEGIN:VEVENT
DTSTART;TZID=America/Detroit:20240216T190000
DTEND;TZID=America/Detroit:20240216T200000
DTSTAMP:20260425T140742
CREATED:20231221T205032Z
LAST-MODIFIED:20240129T161947Z
UID:1503-1708110000-1708113600@villageartsfactory.com
SUMMARY:Adult Fitness Pop-Up: Cardio Drumming
DESCRIPTION:Cardio Drumming is a fun workout for all fitness levels! Time to get your inner rock star into motion by moving and grooving to high energy music. Using a fitness ball and drumsticks\, your instructor will lead you in a heart-pumping workout that engages the whole body. Before you know it\, you’ll have completed 6\,000-8\,000 steps! This class is so much fun\, you won’t even realize you are working out. We can’t wait to see you there! \n7:00pm Cardio Drumming fitness class at the Village Arts Factory with instructor Lu Cannon. Participants are encouraged to wear comfortable clothes and bring water and a small towel\, if needed. \n8:00pm After the fitness class there will be an afterglow for all participants that includes wine\, spa water\, and light refreshments. Participants are encouraged to stroll the Village Arts Factory and enjoy the current art exhibit in the Fine Art Gallery as they cool down.
URL:https://villageartsfactory.com/event/adult-fitness-pop-up-cardio-drumming/
LOCATION:Village Arts Factory\, 50755 Cherry Hill Rd\, Canton\, MI\, 48188\, United States
CATEGORIES:Public Events
ATTACH;FMTTYPE=image/png:https://villageartsfactory.com/wp-content/uploads/2023/12/Cardio-Drumming.png
ORGANIZER;CN="Village Arts Factory":MAILTO:kevin.ryan@cantonmi.gov
END:VEVENT
END:VCALENDAR