BEGIN:VCALENDAR
VERSION:2.0
PRODID:-//Village Arts Factory - ECPv6.15.20//NONSGML v1.0//EN
CALSCALE:GREGORIAN
METHOD:PUBLISH
X-ORIGINAL-URL:https://villageartsfactory.com
X-WR-CALDESC:Events for Village Arts Factory
REFRESH-INTERVAL;VALUE=DURATION:PT1H
X-Robots-Tag:noindex
X-PUBLISHED-TTL:PT1H
BEGIN:VTIMEZONE
TZID:America/Detroit
BEGIN:DAYLIGHT
TZOFFSETFROM:-0500
TZOFFSETTO:-0400
TZNAME:EDT
DTSTART:20230312T070000
END:DAYLIGHT
BEGIN:STANDARD
TZOFFSETFROM:-0400
TZOFFSETTO:-0500
TZNAME:EST
DTSTART:20231105T060000
END:STANDARD
BEGIN:DAYLIGHT
TZOFFSETFROM:-0500
TZOFFSETTO:-0400
TZNAME:EDT
DTSTART:20240310T070000
END:DAYLIGHT
BEGIN:STANDARD
TZOFFSETFROM:-0400
TZOFFSETTO:-0500
TZNAME:EST
DTSTART:20241103T060000
END:STANDARD
BEGIN:DAYLIGHT
TZOFFSETFROM:-0500
TZOFFSETTO:-0400
TZNAME:EDT
DTSTART:20250309T070000
END:DAYLIGHT
BEGIN:STANDARD
TZOFFSETFROM:-0400
TZOFFSETTO:-0500
TZNAME:EST
DTSTART:20251102T060000
END:STANDARD
END:VTIMEZONE
BEGIN:VEVENT
DTSTART;TZID=America/Detroit:20240608T140000
DTEND;TZID=America/Detroit:20240608T160000
DTSTAMP:20260425T085215
CREATED:20240528T135234Z
LAST-MODIFIED:20240528T140316Z
UID:1830-1717855200-1717862400@villageartsfactory.com
SUMMARY:A.C.E. Adaptive Music Day
DESCRIPTION:Join us on Saturday\, June 8\, for a fun afternoon of adaptive music at the Village Arts Factory! During these one-hour workshops\, board-certified music therapist Brad Tata will lead the kids in a variety of musical activities\, including listening\, movement\, singing\, dance\, and instrument playing. The session for our A.C.E. Kids (ages 5-12) will start at 2:00pm and the session for our A.C.E. Teens (ages 13-17) will start at 3:00pm. Your kids will love experiencing the joy of making music in a supportive\, sensory-friendly environment. The cost is only $10 per child and all materials are included. A parent or guardian must attend with child. For questions or more information\, contact Jessica Gallina at admin@partnershipforarts.org or by phone at 734-765-7061. \nSpecial thanks to the generous sponsors of our A.C.E. Program: Eagles for Children\, Giving Hope\, and Canton Community Foundation.
URL:https://villageartsfactory.com/event/a-c-e-adaptive-music-day/
LOCATION:Village Arts Factory\, 50755 Cherry Hill Rd\, Canton\, MI\, 48188\, United States
CATEGORIES:A.C.E. Events,Public Events
ATTACH;FMTTYPE=image/png:https://villageartsfactory.com/wp-content/uploads/2024/05/June-ACE-Music-Day-Instagram-Post.png
ORGANIZER;CN="A.C.E. Program":MAILTO:admin@partnershipforarts.org
END:VEVENT
END:VCALENDAR