BEGIN:VCALENDAR
VERSION:2.0
PRODID:-//Village Arts Factory - ECPv6.15.20//NONSGML v1.0//EN
CALSCALE:GREGORIAN
METHOD:PUBLISH
X-ORIGINAL-URL:https://villageartsfactory.com
X-WR-CALDESC:Events for Village Arts Factory
REFRESH-INTERVAL;VALUE=DURATION:PT1H
X-Robots-Tag:noindex
X-PUBLISHED-TTL:PT1H
BEGIN:VTIMEZONE
TZID:America/Detroit
BEGIN:DAYLIGHT
TZOFFSETFROM:-0500
TZOFFSETTO:-0400
TZNAME:EDT
DTSTART:20230312T070000
END:DAYLIGHT
BEGIN:STANDARD
TZOFFSETFROM:-0400
TZOFFSETTO:-0500
TZNAME:EST
DTSTART:20231105T060000
END:STANDARD
BEGIN:DAYLIGHT
TZOFFSETFROM:-0500
TZOFFSETTO:-0400
TZNAME:EDT
DTSTART:20240310T070000
END:DAYLIGHT
BEGIN:STANDARD
TZOFFSETFROM:-0400
TZOFFSETTO:-0500
TZNAME:EST
DTSTART:20241103T060000
END:STANDARD
BEGIN:DAYLIGHT
TZOFFSETFROM:-0500
TZOFFSETTO:-0400
TZNAME:EDT
DTSTART:20250309T070000
END:DAYLIGHT
BEGIN:STANDARD
TZOFFSETFROM:-0400
TZOFFSETTO:-0500
TZNAME:EST
DTSTART:20251102T060000
END:STANDARD
END:VTIMEZONE
BEGIN:VEVENT
DTSTART;TZID=America/Detroit:20240705T180000
DTEND;TZID=America/Detroit:20240705T200000
DTSTAMP:20260425T073519
CREATED:20240621T160232Z
LAST-MODIFIED:20240621T160232Z
UID:1925-1720202400-1720209600@villageartsfactory.com
SUMMARY:Chris Dragan: Art Gallery Reception
DESCRIPTION:Chris Dragan (DraganPopArt) is a lifelong Southeastern Michigan resident currently residing in Canton who strives to evoke nostalgic emotions in both new and unfamiliar ways through his art.\n\nChris’ style spans pop-art\, intuitive abstract\, and bricolage\, often inspired by 70s\, 80s\, and 90s music\, sports\, and iconic pop culture images (although some pieces wander far off that path). Primary media includes acrylics\, oils\, inks\, watercolor\, chalk\, vintage paper (books\, comics)\, and spray paint. Chris has displayed at a variety of local venues including the 2023 Plymouth Art In The Park and other metro Detroit galleries and businesses.\n\nJoin us for the Gallery Open House and Artist’s Reception on Friday\, July 5 at the Village Arts Factory from 6 to 8pm. Browse the artwork\, meet the artist\, and enjoy a variety of light refreshments. This event is free to attend and open to the public.
URL:https://villageartsfactory.com/event/chris-dragan-art-gallery-reception/
LOCATION:Village Arts Factory\, 50755 Cherry Hill Rd\, Canton\, MI\, 48188\, United States
CATEGORIES:Public Events
ATTACH;FMTTYPE=image/png:https://villageartsfactory.com/wp-content/uploads/2024/06/Blue-and-Green-Abstract-Art-Gallery-Exhibition-Facebook-Cover.png
ORGANIZER;CN="Village Arts Factory":MAILTO:kevin.ryan@cantonmi.gov
END:VEVENT
END:VCALENDAR