BEGIN:VCALENDAR
VERSION:2.0
PRODID:-//Village Arts Factory - ECPv6.15.20//NONSGML v1.0//EN
CALSCALE:GREGORIAN
METHOD:PUBLISH
X-WR-CALNAME:Village Arts Factory
X-ORIGINAL-URL:https://villageartsfactory.com
X-WR-CALDESC:Events for Village Arts Factory
REFRESH-INTERVAL;VALUE=DURATION:PT1H
X-Robots-Tag:noindex
X-PUBLISHED-TTL:PT1H
BEGIN:VTIMEZONE
TZID:America/Detroit
BEGIN:DAYLIGHT
TZOFFSETFROM:-0500
TZOFFSETTO:-0400
TZNAME:EDT
DTSTART:20230312T070000
END:DAYLIGHT
BEGIN:STANDARD
TZOFFSETFROM:-0400
TZOFFSETTO:-0500
TZNAME:EST
DTSTART:20231105T060000
END:STANDARD
BEGIN:DAYLIGHT
TZOFFSETFROM:-0500
TZOFFSETTO:-0400
TZNAME:EDT
DTSTART:20240310T070000
END:DAYLIGHT
BEGIN:STANDARD
TZOFFSETFROM:-0400
TZOFFSETTO:-0500
TZNAME:EST
DTSTART:20241103T060000
END:STANDARD
BEGIN:DAYLIGHT
TZOFFSETFROM:-0500
TZOFFSETTO:-0400
TZNAME:EDT
DTSTART:20250309T070000
END:DAYLIGHT
BEGIN:STANDARD
TZOFFSETFROM:-0400
TZOFFSETTO:-0500
TZNAME:EST
DTSTART:20251102T060000
END:STANDARD
END:VTIMEZONE
BEGIN:VEVENT
DTSTART;TZID=America/Detroit:20240712T103000
DTEND;TZID=America/Detroit:20240712T120000
DTSTAMP:20260425T073525
CREATED:20240604T145456Z
LAST-MODIFIED:20240604T145724Z
UID:1874-1720780200-1720785600@villageartsfactory.com
SUMMARY:Kids' Art & Science Workshop: Sydney Harbor Bridge
DESCRIPTION:Join us at the Village Arts Factory as our instructors from STEAMNSlime (formerly Challenge Island) show your kids what it takes to build the Sydney Harbor Bridge! With this construction theme\, the children will learn and utilize the scientific concepts of force and gravity. They will think through the challenges faced by engineers in building bridges\, such as the strength needed\, and what shape or design will be the strongest. Organized in groups\, the children will flex their art skills to create a harbor water scene that includes marine wildlife. Next\, they will build a bridge across their harbor that is at least 12 inches long\, consisting of at least 2 levels\, and testing it to see how much weight it supports. This is an awesome opportunity for your kids to learn how art\, physics\, and engineering can work together to create something fun and educational! Space is limited to 20 participants; be sure to secure your spot by registering today! \nAbout STEAMNSlime \nAll STEAMNSlime lessons have a core concept of working in groups to follow the scientific process through brainstorming ideas\, planning designs\, testing\, and revising. Through this\, participants not only learn and practice the scientific process\, but also develop 21st Century skills or “soft skills”. This is done by creating an environment where the students have to use positive communication and social skills to interact effectively with others throughout the process. \nLocation \nSydney Harbor Bridge will take place at the Village Arts Factory\, located at 50755 Cherry Hill Road in Canton\, Michigan.
URL:https://villageartsfactory.com/event/kids-art-science-workshop-sydney-harbor-bridge/
LOCATION:Village Arts Factory\, 50755 Cherry Hill Rd\, Canton\, MI\, 48188\, United States
CATEGORIES:Public Events
ATTACH;FMTTYPE=image/png:https://villageartsfactory.com/wp-content/uploads/2024/06/Sydney-Harbour-Bridge.png
ORGANIZER;CN="STEAMNSlime":MAILTO:steamnslime@gmail.com
END:VEVENT
END:VCALENDAR