BEGIN:VCALENDAR
VERSION:2.0
PRODID:-//Village Arts Factory - ECPv6.15.20//NONSGML v1.0//EN
CALSCALE:GREGORIAN
METHOD:PUBLISH
X-ORIGINAL-URL:https://villageartsfactory.com
X-WR-CALDESC:Events for Village Arts Factory
REFRESH-INTERVAL;VALUE=DURATION:PT1H
X-Robots-Tag:noindex
X-PUBLISHED-TTL:PT1H
BEGIN:VTIMEZONE
TZID:America/Detroit
BEGIN:DAYLIGHT
TZOFFSETFROM:-0500
TZOFFSETTO:-0400
TZNAME:EDT
DTSTART:20230312T070000
END:DAYLIGHT
BEGIN:STANDARD
TZOFFSETFROM:-0400
TZOFFSETTO:-0500
TZNAME:EST
DTSTART:20231105T060000
END:STANDARD
BEGIN:DAYLIGHT
TZOFFSETFROM:-0500
TZOFFSETTO:-0400
TZNAME:EDT
DTSTART:20240310T070000
END:DAYLIGHT
BEGIN:STANDARD
TZOFFSETFROM:-0400
TZOFFSETTO:-0500
TZNAME:EST
DTSTART:20241103T060000
END:STANDARD
BEGIN:DAYLIGHT
TZOFFSETFROM:-0500
TZOFFSETTO:-0400
TZNAME:EDT
DTSTART:20250309T070000
END:DAYLIGHT
BEGIN:STANDARD
TZOFFSETFROM:-0400
TZOFFSETTO:-0500
TZNAME:EST
DTSTART:20251102T060000
END:STANDARD
END:VTIMEZONE
BEGIN:VEVENT
DTSTART;TZID=America/Detroit:20240713T140000
DTEND;TZID=America/Detroit:20240713T150000
DTSTAMP:20260425T073518
CREATED:20240619T140115Z
LAST-MODIFIED:20240619T140115Z
UID:1919-1720879200-1720882800@villageartsfactory.com
SUMMARY:A.C.E. Kids: Adaptive Splatter Paint Workshop
DESCRIPTION:Join us on Saturday\, July 13th at 2:00 PM for our next Adaptive Craft Workshop for kids at the Village Arts Factory! During this one-hour workshop we’ll get wild and messy as we create colorful splatter paint fireworks on canvas! Recommended for children ages 5 to 12 with special physical\, developmental\, or sensory sensitivity considerations. Your kids will love celebrating the return of summer in a supportive\, sensory-friendly environment. The cost is only $10 per child and all materials are included. Please consider paint-appropriate clothing so the kids can get messy. A parent or guardian must attend with child. For questions or more information\, contact Jessica Gallina at admin@partnershipforarts.org or by phone at 734-765-7061. \nSpecial thanks to the generous sponsors of our A.C.E. Program: Eagles for Children\, Giving Hope\, and Canton Community Foundation.
URL:https://villageartsfactory.com/event/a-c-e-kids-adaptive-splatter-paint-workshop/
LOCATION:Village Arts Factory\, 50755 Cherry Hill Rd\, Canton\, MI\, 48188\, United States
CATEGORIES:A.C.E. Events,Public Events
ATTACH;FMTTYPE=image/png:https://villageartsfactory.com/wp-content/uploads/2024/06/ACE-Kids-July-2024-1920-x-1080-px.png
ORGANIZER;CN="A.C.E. Program":MAILTO:admin@partnershipforarts.org
END:VEVENT
BEGIN:VEVENT
DTSTART;TZID=America/Detroit:20240713T150000
DTEND;TZID=America/Detroit:20240713T160000
DTSTAMP:20260425T073518
CREATED:20240619T191809Z
LAST-MODIFIED:20240619T191809Z
UID:1922-1720882800-1720886400@villageartsfactory.com
SUMMARY:A.C.E. Teen: Adaptive Splatter Paint Workshop
DESCRIPTION:Join us on Saturday\, July 13th at 3:00 PM for our next Adaptive Craft Workshop for teens at the Village Arts Factory! During this one-hour workshop\, we’ll use drip and splatter paint techniques in the style of Jackson Pollock to create colorful masterpieces on canvas. Recommended for teenagers ages 13 to 17 with special physical\, developmental\, or sensory sensitivity considerations. Your teens will love celebrating the return of summer with art in a supportive\, sensory-friendly environment. The cost is only $10 per teen and all materials are included. Please consider paint-appropriate clothing so the teens can get messy. A parent or guardian is welcome to attend with their child. For questions or more information\, contact Jessica Gallina at admin@partnershipforarts.org or by phone at 734-765-7061. \nSpecial thanks to the generous sponsors of our A.C.E. Program: Eagles for Children\, Giving Hope\, and Canton Community Foundation.
URL:https://villageartsfactory.com/event/a-c-e-teen-adaptive-splatter-paint-workshop/
LOCATION:Village Arts Factory\, 50755 Cherry Hill Rd\, Canton\, MI\, 48188\, United States
CATEGORIES:A.C.E. Events,Public Events
ATTACH;FMTTYPE=image/png:https://villageartsfactory.com/wp-content/uploads/2024/06/ACE-Teen-July-Banner.png
ORGANIZER;CN="A.C.E. Program":MAILTO:admin@partnershipforarts.org
END:VEVENT
END:VCALENDAR