BEGIN:VCALENDAR
VERSION:2.0
PRODID:-//Village Arts Factory - ECPv6.15.20//NONSGML v1.0//EN
CALSCALE:GREGORIAN
METHOD:PUBLISH
X-WR-CALNAME:Village Arts Factory
X-ORIGINAL-URL:https://villageartsfactory.com
X-WR-CALDESC:Events for Village Arts Factory
REFRESH-INTERVAL;VALUE=DURATION:PT1H
X-Robots-Tag:noindex
X-PUBLISHED-TTL:PT1H
BEGIN:VTIMEZONE
TZID:America/Detroit
BEGIN:DAYLIGHT
TZOFFSETFROM:-0500
TZOFFSETTO:-0400
TZNAME:EDT
DTSTART:20230312T070000
END:DAYLIGHT
BEGIN:STANDARD
TZOFFSETFROM:-0400
TZOFFSETTO:-0500
TZNAME:EST
DTSTART:20231105T060000
END:STANDARD
BEGIN:DAYLIGHT
TZOFFSETFROM:-0500
TZOFFSETTO:-0400
TZNAME:EDT
DTSTART:20240310T070000
END:DAYLIGHT
BEGIN:STANDARD
TZOFFSETFROM:-0400
TZOFFSETTO:-0500
TZNAME:EST
DTSTART:20241103T060000
END:STANDARD
BEGIN:DAYLIGHT
TZOFFSETFROM:-0500
TZOFFSETTO:-0400
TZNAME:EDT
DTSTART:20250309T070000
END:DAYLIGHT
BEGIN:STANDARD
TZOFFSETFROM:-0400
TZOFFSETTO:-0500
TZNAME:EST
DTSTART:20251102T060000
END:STANDARD
END:VTIMEZONE
BEGIN:VEVENT
DTSTART;TZID=America/Detroit:20240717T183000
DTEND;TZID=America/Detroit:20240717T203000
DTSTAMP:20260425T073527
CREATED:20240709T172039Z
LAST-MODIFIED:20240709T172039Z
UID:1936-1721241000-1721248200@villageartsfactory.com
SUMMARY:Concerts & Cars
DESCRIPTION:Join us in the heart of Cherry Hill Village this summer for four consecutive Wednesday nights of classic cars\, live bands\, mini golf\, food\, art\, and fun! Bring your friends\, family\, and a lawn chair\, and come enjoy the return of this popular FREE community event series at the Village Arts Factory. Interested in showing off your own classic car or hot rod? Bring it on August 7 for our “Community Car Show” night. Contact Kevin Ryan at kevin.ryan@cantonmi.gov for details.\n\nJuly 17 Details\nCar Group: Chevelle Club of Michigan\nBand: Michigan Roads\nFood: Hogz Backyard BBQ; Frio’s Gourmet Popsicles
URL:https://villageartsfactory.com/event/concerts-cars-6/
LOCATION:Village Arts Factory\, 50755 Cherry Hill Rd\, Canton\, MI\, 48188\, United States
CATEGORIES:Public Events
ATTACH;FMTTYPE=image/png:https://villageartsfactory.com/wp-content/uploads/2024/07/Banner-with-Details.png
ORGANIZER;CN="Village Arts Factory":MAILTO:kevin.ryan@cantonmi.gov
END:VEVENT
END:VCALENDAR