BEGIN:VCALENDAR
VERSION:2.0
PRODID:-//Village Arts Factory - ECPv6.15.20//NONSGML v1.0//EN
CALSCALE:GREGORIAN
METHOD:PUBLISH
X-ORIGINAL-URL:https://villageartsfactory.com
X-WR-CALDESC:Events for Village Arts Factory
REFRESH-INTERVAL;VALUE=DURATION:PT1H
X-Robots-Tag:noindex
X-PUBLISHED-TTL:PT1H
BEGIN:VTIMEZONE
TZID:America/Detroit
BEGIN:DAYLIGHT
TZOFFSETFROM:-0500
TZOFFSETTO:-0400
TZNAME:EDT
DTSTART:20230312T070000
END:DAYLIGHT
BEGIN:STANDARD
TZOFFSETFROM:-0400
TZOFFSETTO:-0500
TZNAME:EST
DTSTART:20231105T060000
END:STANDARD
BEGIN:DAYLIGHT
TZOFFSETFROM:-0500
TZOFFSETTO:-0400
TZNAME:EDT
DTSTART:20240310T070000
END:DAYLIGHT
BEGIN:STANDARD
TZOFFSETFROM:-0400
TZOFFSETTO:-0500
TZNAME:EST
DTSTART:20241103T060000
END:STANDARD
BEGIN:DAYLIGHT
TZOFFSETFROM:-0500
TZOFFSETTO:-0400
TZNAME:EDT
DTSTART:20250309T070000
END:DAYLIGHT
BEGIN:STANDARD
TZOFFSETFROM:-0400
TZOFFSETTO:-0500
TZNAME:EST
DTSTART:20251102T060000
END:STANDARD
END:VTIMEZONE
BEGIN:VEVENT
DTSTART;TZID=America/Detroit:20240802T173000
DTEND;TZID=America/Detroit:20240802T200000
DTSTAMP:20260425T061903
CREATED:20240730T143622Z
LAST-MODIFIED:20240802T173745Z
UID:1979-1722619800-1722628800@villageartsfactory.com
SUMMARY:Outdoor Family Movie Night
DESCRIPTION:This event has been POSTPONED due to threat of inclement weather. \nPlease be advised that due to the threat of thunderstorms and rain this afternoon and into the evening\, we will not be able to set up the sensitive electronics and sound equipment required for our Outdoor Family Movie Night this evening in Cherry Hill Village. \nWe hope you will mark your calendars for our rescheduled outdoor movie date of Friday\, September 13\, from 5:30 to 8:00pm\, located once again on the lawn of the historic Cherry Hill Schoolhouse. \nWhile we share your disappointment in the cancellation of tonight’s community event\, we hope you’ll be able to join us next month!
URL:https://villageartsfactory.com/event/outdoor-family-movie-night/
LOCATION:Cherry Hill Schoolhouse\, 50440 Cherry Hill Rd\, Canton\, MI\, 48187
CATEGORIES:Public Events
ATTACH;FMTTYPE=image/png:https://villageartsfactory.com/wp-content/uploads/2024/07/2.png
ORGANIZER;CN="Village Arts Factory":MAILTO:kevin.ryan@cantonmi.gov
END:VEVENT
END:VCALENDAR