BEGIN:VCALENDAR
VERSION:2.0
PRODID:-//Village Arts Factory - ECPv6.15.20//NONSGML v1.0//EN
CALSCALE:GREGORIAN
METHOD:PUBLISH
X-WR-CALNAME:Village Arts Factory
X-ORIGINAL-URL:https://villageartsfactory.com
X-WR-CALDESC:Events for Village Arts Factory
REFRESH-INTERVAL;VALUE=DURATION:PT1H
X-Robots-Tag:noindex
X-PUBLISHED-TTL:PT1H
BEGIN:VTIMEZONE
TZID:America/Detroit
BEGIN:DAYLIGHT
TZOFFSETFROM:-0500
TZOFFSETTO:-0400
TZNAME:EDT
DTSTART:20230312T070000
END:DAYLIGHT
BEGIN:STANDARD
TZOFFSETFROM:-0400
TZOFFSETTO:-0500
TZNAME:EST
DTSTART:20231105T060000
END:STANDARD
BEGIN:DAYLIGHT
TZOFFSETFROM:-0500
TZOFFSETTO:-0400
TZNAME:EDT
DTSTART:20240310T070000
END:DAYLIGHT
BEGIN:STANDARD
TZOFFSETFROM:-0400
TZOFFSETTO:-0500
TZNAME:EST
DTSTART:20241103T060000
END:STANDARD
BEGIN:DAYLIGHT
TZOFFSETFROM:-0500
TZOFFSETTO:-0400
TZNAME:EDT
DTSTART:20250309T070000
END:DAYLIGHT
BEGIN:STANDARD
TZOFFSETFROM:-0400
TZOFFSETTO:-0500
TZNAME:EST
DTSTART:20251102T060000
END:STANDARD
END:VTIMEZONE
BEGIN:VEVENT
DTSTART;TZID=America/Detroit:20240808T180000
DTEND;TZID=America/Detroit:20240808T200000
DTSTAMP:20260425T061908
CREATED:20240618T195804Z
LAST-MODIFIED:20240618T195804Z
UID:1916-1723140000-1723147200@villageartsfactory.com
SUMMARY:Glass Fusion Workshop: Garden Ornaments & More
DESCRIPTION:We’ve partnered with Kiss My Glass to offer this fun and unique glass fusion workshop at the Village Arts Factory! Please join us on August 8th to create a summery glass design of your choosing! You can choose to create any design you’d like including birds\, insects\, flowers\, boats\, and sunsets\, for example. Finished projects can be displayed indoors or out; approx. size 4″ x 5″. The cost is just $37 per person. \nNo experience necessary and all materials will be provided. Let our fused glass instructor show you how easy it is to cut and design something beautiful with glass. This class is also appropriate for children age 10+ who are accompanied by a paid adult who will cut the glass for them. (Due to limited seating\, you will need to purchase registrations for both parent and child.) \nYou will create your design by using a special tac glue as an adhesive and all projects will go home with the instructor to be kiln fired and assembled and delivered back to the center in about 10 days. An email will be sent out when ready for pickup. Please let your friends and family know about the fun! \nCancellation Policy: Registrations may be cancelled and refunded up to 7 days before the date of the workshop. Due to the nature of this workshop and the need to purchase materials and supplies in advance\, we cannot offer refunds within 7 days of the workshop date. You may transfer your registration to someone else or receive a teacher-made finished project instead.
URL:https://villageartsfactory.com/event/glass-fusion-workshop-garden-ornaments-more/
LOCATION:Village Arts Factory\, 50755 Cherry Hill Rd\, Canton\, MI\, 48188\, United States
CATEGORIES:Public Events
ATTACH;FMTTYPE=image/jpeg:https://villageartsfactory.com/wp-content/uploads/2024/06/GardenOrn3.jpg
ORGANIZER;CN="Kiss My Glass":MAILTO:kissmyglassart@yahoo.com
END:VEVENT
BEGIN:VEVENT
DTSTART;TZID=America/Detroit:20240808T190000
DTEND;TZID=America/Detroit:20240808T200000
DTSTAMP:20260425T061908
CREATED:20240724T200815Z
LAST-MODIFIED:20240724T200815Z
UID:1961-1723143600-1723147200@villageartsfactory.com
SUMMARY:Yoga in the Village
DESCRIPTION:We are excited to announce the return of Yoga in the Village this summer! Join us on the lawn of the beautiful Cherry Hill Schoolhouse for a free outdoor yoga flow accessible for all fitness levels. Just bring a yoga mat or beach towel and some comfortable clothing; no pre-registration required. Our certified yoga instructor will help you stretch your body\, connect with nature\, and calm your mind. No previous experience necessary.\n\nYoga in the Village is proudly sponsored by IHA Medical Group Lifestyle Medicine and Nurse Midwives. For more information about this event\, please contact us at kevin.ryan@cantonmi.gov. Yoga in the Village is weather-contingent and will not take place due to threat of rain\, high winds\, or poor air quality.
URL:https://villageartsfactory.com/event/yoga-in-the-village-11/
LOCATION:Cherry Hill Schoolhouse\, 50440 Cherry Hill Rd\, Canton\, MI\, 48187
CATEGORIES:Public Events
ATTACH;FMTTYPE=image/jpeg:https://villageartsfactory.com/wp-content/uploads/2024/07/Yoga-in-the-Village-2024-FB-Event-Banner.jpg
ORGANIZER;CN="Village Arts Factory":MAILTO:kevin.ryan@cantonmi.gov
END:VEVENT
END:VCALENDAR