BEGIN:VCALENDAR
VERSION:2.0
PRODID:-//Village Arts Factory - ECPv6.15.20//NONSGML v1.0//EN
CALSCALE:GREGORIAN
METHOD:PUBLISH
X-ORIGINAL-URL:https://villageartsfactory.com
X-WR-CALDESC:Events for Village Arts Factory
REFRESH-INTERVAL;VALUE=DURATION:PT1H
X-Robots-Tag:noindex
X-PUBLISHED-TTL:PT1H
BEGIN:VTIMEZONE
TZID:America/Detroit
BEGIN:DAYLIGHT
TZOFFSETFROM:-0500
TZOFFSETTO:-0400
TZNAME:EDT
DTSTART:20240310T070000
END:DAYLIGHT
BEGIN:STANDARD
TZOFFSETFROM:-0400
TZOFFSETTO:-0500
TZNAME:EST
DTSTART:20241103T060000
END:STANDARD
BEGIN:DAYLIGHT
TZOFFSETFROM:-0500
TZOFFSETTO:-0400
TZNAME:EDT
DTSTART:20250309T070000
END:DAYLIGHT
BEGIN:STANDARD
TZOFFSETFROM:-0400
TZOFFSETTO:-0500
TZNAME:EST
DTSTART:20251102T060000
END:STANDARD
BEGIN:DAYLIGHT
TZOFFSETFROM:-0500
TZOFFSETTO:-0400
TZNAME:EDT
DTSTART:20260308T070000
END:DAYLIGHT
BEGIN:STANDARD
TZOFFSETFROM:-0400
TZOFFSETTO:-0500
TZNAME:EST
DTSTART:20261101T060000
END:STANDARD
END:VTIMEZONE
BEGIN:VEVENT
DTSTART;TZID=America/Detroit:20250725T180000
DTEND;TZID=America/Detroit:20250725T200000
DTSTAMP:20260424T144924
CREATED:20250707T184729Z
LAST-MODIFIED:20250707T190532Z
UID:2745-1753466400-1753473600@villageartsfactory.com
SUMMARY:Stained Glass Painting Course with Ghada Ayoub
DESCRIPTION:You’ve seen her incredible work on display at the Village Arts Factory\, now join local artist Ghada Ayoub for a 3-day stained glass painting course and create your own masterpiece! \nExperience the vibrant world of creativity with an artistic session by Ghada Ayoub. Specializing in unique designs and bold\, colorful expressions\, this class offers a personalized approach to creating one-of-a-kind artwork using stained glass paints techniques. \nIf you’re eager to explore a different art technique and learn a new hobby join this 3 day course and unleash your creativity by learning the basics of stained glass painting technique using high end materials. \nGhada will go step-by-step with you to complete a small stained glass painting project. It is designed to be a manageable yet rewarding experience\, allowing you to go through the entire process and leaving you with a beautiful piece to take home. \nBook your seat today to collaborate on a piece that truly reflects your vision and Ghada’s artistic expertise. \nMeeting Point \nVillage Art Factory\, Canton\, Michigan \nAges 14+ \nClass size: Minimum 4\, Maximum 10 \nCost \nThe Basics of Stained Glass Painting Techniques is $300 per person \nCourse Structure \nDay #1 – add pattern to glass \nDay #2 – outliners \nDay #3 – painting \nClass Time \nFriday: 6PM-8PM \nSaturday: 3PM-5PM \nSunday: 3PM-5PM \nDuration of the workshop is 6 hours (2 hours per day for 3 days) \nWhat’s Included \nAll materials! \nClick Here to Register!
URL:https://villageartsfactory.com/event/stained-glass-painting-course-with-ghada-ayoub/
LOCATION:Village Arts Factory\, 50755 Cherry Hill Rd\, Canton\, MI\, 48188\, United States
ATTACH;FMTTYPE=image/png:https://villageartsfactory.com/wp-content/uploads/2025/07/Ghada-Stained-Glass-Course-Banner.png
ORGANIZER;CN="Village Arts Factory":MAILTO:kevin.ryan@cantonmi.gov
END:VEVENT
END:VCALENDAR