BEGIN:VCALENDAR
VERSION:2.0
PRODID:-//Village Arts Factory - ECPv6.15.20//NONSGML v1.0//EN
CALSCALE:GREGORIAN
METHOD:PUBLISH
X-ORIGINAL-URL:https://villageartsfactory.com
X-WR-CALDESC:Events for Village Arts Factory
REFRESH-INTERVAL;VALUE=DURATION:PT1H
X-Robots-Tag:noindex
X-PUBLISHED-TTL:PT1H
BEGIN:VTIMEZONE
TZID:America/Detroit
BEGIN:DAYLIGHT
TZOFFSETFROM:-0500
TZOFFSETTO:-0400
TZNAME:EDT
DTSTART:20220313T070000
END:DAYLIGHT
BEGIN:STANDARD
TZOFFSETFROM:-0400
TZOFFSETTO:-0500
TZNAME:EST
DTSTART:20221106T060000
END:STANDARD
BEGIN:DAYLIGHT
TZOFFSETFROM:-0500
TZOFFSETTO:-0400
TZNAME:EDT
DTSTART:20230312T070000
END:DAYLIGHT
BEGIN:STANDARD
TZOFFSETFROM:-0400
TZOFFSETTO:-0500
TZNAME:EST
DTSTART:20231105T060000
END:STANDARD
BEGIN:DAYLIGHT
TZOFFSETFROM:-0500
TZOFFSETTO:-0400
TZNAME:EDT
DTSTART:20240310T070000
END:DAYLIGHT
BEGIN:STANDARD
TZOFFSETFROM:-0400
TZOFFSETTO:-0500
TZNAME:EST
DTSTART:20241103T060000
END:STANDARD
END:VTIMEZONE
BEGIN:VEVENT
DTSTART;TZID=America/Detroit:20230623T183000
DTEND;TZID=America/Detroit:20230623T203000
DTSTAMP:20260424T132417
CREATED:20230526T175332Z
LAST-MODIFIED:20230526T175332Z
UID:946-1687545000-1687552200@villageartsfactory.com
SUMMARY:Members Only Event: Candles & Cabernet
DESCRIPTION:We are pleased to invite our official Partnership Members to our next Members Only Event at the Village Arts Factory on Friday\, June 23rd\, at 6:30 PM. Leslie Neal from True 2 You Blend Bar will lead everyone in a fun and educational scented candle-making experience. Dinner\, wine\, snacks\, and dessert will all be provided for you to enjoy. No previous candle experience is necessary! Come and meet your fellow Partnership members and enjoy a relaxing night out on us. \nWe kindly ask that members RSVP by visiting the event website below. Individual members are welcome to bring a guest.
URL:https://villageartsfactory.com/event/members-only-event-candles-cabernet/
LOCATION:Village Arts Factory\, 50755 Cherry Hill Rd\, Canton\, MI\, 48188\, United States
CATEGORIES:Partnership Member Events
ATTACH;FMTTYPE=image/png:https://villageartsfactory.com/wp-content/uploads/2023/05/Beige-Photo-Collage-Price-List-Flyer-Desktop-Wallpaper.png
ORGANIZER;CN="Village Arts Factory":MAILTO:kevin.ryan@cantonmi.gov
END:VEVENT
END:VCALENDAR