BEGIN:VCALENDAR
VERSION:2.0
PRODID:-//Village Arts Factory - ECPv6.15.20//NONSGML v1.0//EN
CALSCALE:GREGORIAN
METHOD:PUBLISH
X-WR-CALNAME:Village Arts Factory
X-ORIGINAL-URL:https://villageartsfactory.com
X-WR-CALDESC:Events for Village Arts Factory
REFRESH-INTERVAL;VALUE=DURATION:PT1H
X-Robots-Tag:noindex
X-PUBLISHED-TTL:PT1H
BEGIN:VTIMEZONE
TZID:America/Detroit
BEGIN:DAYLIGHT
TZOFFSETFROM:-0500
TZOFFSETTO:-0400
TZNAME:EDT
DTSTART:20220313T070000
END:DAYLIGHT
BEGIN:STANDARD
TZOFFSETFROM:-0400
TZOFFSETTO:-0500
TZNAME:EST
DTSTART:20221106T060000
END:STANDARD
BEGIN:DAYLIGHT
TZOFFSETFROM:-0500
TZOFFSETTO:-0400
TZNAME:EDT
DTSTART:20230312T070000
END:DAYLIGHT
BEGIN:STANDARD
TZOFFSETFROM:-0400
TZOFFSETTO:-0500
TZNAME:EST
DTSTART:20231105T060000
END:STANDARD
BEGIN:DAYLIGHT
TZOFFSETFROM:-0500
TZOFFSETTO:-0400
TZNAME:EDT
DTSTART:20240310T070000
END:DAYLIGHT
BEGIN:STANDARD
TZOFFSETFROM:-0400
TZOFFSETTO:-0500
TZNAME:EST
DTSTART:20241103T060000
END:STANDARD
END:VTIMEZONE
BEGIN:VEVENT
DTSTART;TZID=America/Detroit:20230507T140000
DTEND;TZID=America/Detroit:20230507T153000
DTSTAMP:20260425T140751
CREATED:20230418T182107Z
LAST-MODIFIED:20230418T182107Z
UID:519-1683468000-1683473400@villageartsfactory.com
SUMMARY:Adaptive Family Yoga Workshop
DESCRIPTION:Join us at the Village Arts Factory on Sunday\, May 7 for a special adaptive family yoga workshop led by certified instructors from DownPup Yoga! This workshop is suitable for children ages 5 to 12 who may have special physical\, developmental\, or sensory processing needs. Space is limited to 20 participants and their families. Mats will be provided and all abilities are welcome. For questions or more information\, please contact Jessica at 734-765-7061 or by email at admin@partnershipforarts.org.
URL:https://villageartsfactory.com/event/adaptive-family-yoga-workshop/
LOCATION:Village Arts Factory\, 50755 Cherry Hill Rd\, Canton\, MI\, 48188\, United States
CATEGORIES:A.C.E. Events
ATTACH;FMTTYPE=image/png:https://villageartsfactory.com/wp-content/uploads/2023/04/ACE-Yoga-Workshop.png
ORGANIZER;CN="A.C.E. Program":MAILTO:admin@partnershipforarts.org
END:VEVENT
BEGIN:VEVENT
DTSTART;TZID=America/Detroit:20230510T183000
DTEND;TZID=America/Detroit:20230510T193000
DTSTAMP:20260425T140751
CREATED:20230419T182431Z
LAST-MODIFIED:20230419T184243Z
UID:530-1683743400-1683747000@villageartsfactory.com
SUMMARY:Fitness Pop-Up: Strength Training at the Village Arts Factory
DESCRIPTION:Join us at the Village Arts Factory on May 10 for our next adult pop-up event: Strength Training with Personal Pilates & Fitness! Enjoy a 45-minute guided fitness class for adults surrounded by art right in the heart of Cherry Hill Village. Free weights and resistance equipment are used to challenge the body to increase muscular strength & endurance\, improve stabilization & balance\, and aid in injury prevention & wellness. Our Strength Training Coach will keep a sharp eye on your form and execution to ensure that the targeted muscles are being reached. All fitness levels welcome! Stay afterwards and enjoy an afterglow with light refreshments. Please wear comfortable workout clothes and athletic shoes; consider bringing water and a towel. For questions\, please contact Kevin Ryan at kevin.ryan@cantonmi.gov. \nClick here to register!
URL:https://villageartsfactory.com/event/fitness-pop-up-strength-training-at-the-village-arts-factory/
LOCATION:Village Arts Factory\, 50755 Cherry Hill Rd\, Canton\, MI\, 48188\, United States
CATEGORIES:Public Events
ATTACH;FMTTYPE=image/png:https://villageartsfactory.com/wp-content/uploads/2023/04/Strength-Training.png
ORGANIZER;CN="Village Arts Factory":MAILTO:kevin.ryan@cantonmi.gov
END:VEVENT
BEGIN:VEVENT
DTSTART;TZID=America/Detroit:20230518T190000
DTEND;TZID=America/Detroit:20230518T203000
DTSTAMP:20260425T140751
CREATED:20230509T181324Z
LAST-MODIFIED:20230509T181338Z
UID:900-1684436400-1684441800@villageartsfactory.com
SUMMARY:Meet the Artist: An Evening with J. Susan Aitken
DESCRIPTION:We are excited to host our current gallery artist J. Susan Aitken for a special “Meet the Artist” Q & A and Gallery Open House on Thursday\, May 18. Come and learn about Susan’s artistic journey and her inspiration to create the stained-glass style masterpieces currently on display in our art gallery. Doors will open at 7:00 PM and light refreshments will be provided; Q & A with J. Susan Aitken will begin at 7:30 PM. Browse the gallery\, meet the artist\, and enjoy some delicious food and drink. We hope to see you there!\n\nSchedule:\n7:00 PM Gallery Opens for Viewing\n7:30 PM Q & A with J. Susan Aitken\n8:30 PM Event Concludes\n\nAddress:\nVillage Arts Factory\n50755 Cherry Hill Rd.\nCanton\, MI 48188
URL:https://villageartsfactory.com/event/meet-the-artist-an-evening-with-j-susan-aitken/
LOCATION:Village Arts Factory\, 50755 Cherry Hill Rd\, Canton\, MI\, 48188\, United States
CATEGORIES:Public Events
ATTACH;FMTTYPE=image/png:https://villageartsfactory.com/wp-content/uploads/2023/05/Meet-the-Artist.png
ORGANIZER;CN="Village Arts Factory":MAILTO:kevin.ryan@cantonmi.gov
END:VEVENT
BEGIN:VEVENT
DTSTART;TZID=America/Detroit:20230520T090000
DTEND;TZID=America/Detroit:20230520T120000
DTSTAMP:20260425T140751
CREATED:20230406T123331Z
LAST-MODIFIED:20230406T135019Z
UID:413-1684573200-1684584000@villageartsfactory.com
SUMMARY:Spring Planting & Cleanup
DESCRIPTION:Come help us clean the grounds\, revive the landscaping\, and plant flowers at the Village Arts Factory on Saturday\, May 20th from 9am to 12pm! Coffee and light refreshments will be available. All ages and abilities are welcome. For more information\, contact Jessica at admin@partnershipforarts.org or call us at 734-765-7061. Let us know you’re coming by visiting the event registration site below\, or click here. We suggest bringing gardening gloves if you have them!
URL:https://villageartsfactory.com/event/spring-planting-cleanup/
LOCATION:Village Arts Factory\, 50755 Cherry Hill Rd\, Canton\, MI\, 48188\, United States
CATEGORIES:Public Events
ATTACH;FMTTYPE=image/png:https://villageartsfactory.com/wp-content/uploads/2023/04/Spring-Cleanup-Day.png
ORGANIZER;CN="Partnership for the Arts":MAILTO:admin@partnershipforarts.org
END:VEVENT
END:VCALENDAR