BEGIN:VCALENDAR
VERSION:2.0
PRODID:-//Village Arts Factory - ECPv6.15.20//NONSGML v1.0//EN
CALSCALE:GREGORIAN
METHOD:PUBLISH
X-WR-CALNAME:Village Arts Factory
X-ORIGINAL-URL:https://villageartsfactory.com
X-WR-CALDESC:Events for Village Arts Factory
REFRESH-INTERVAL;VALUE=DURATION:PT1H
X-Robots-Tag:noindex
X-PUBLISHED-TTL:PT1H
BEGIN:VTIMEZONE
TZID:America/Detroit
BEGIN:DAYLIGHT
TZOFFSETFROM:-0500
TZOFFSETTO:-0400
TZNAME:EDT
DTSTART:20220313T070000
END:DAYLIGHT
BEGIN:STANDARD
TZOFFSETFROM:-0400
TZOFFSETTO:-0500
TZNAME:EST
DTSTART:20221106T060000
END:STANDARD
BEGIN:DAYLIGHT
TZOFFSETFROM:-0500
TZOFFSETTO:-0400
TZNAME:EDT
DTSTART:20230312T070000
END:DAYLIGHT
BEGIN:STANDARD
TZOFFSETFROM:-0400
TZOFFSETTO:-0500
TZNAME:EST
DTSTART:20231105T060000
END:STANDARD
BEGIN:DAYLIGHT
TZOFFSETFROM:-0500
TZOFFSETTO:-0400
TZNAME:EDT
DTSTART:20240310T070000
END:DAYLIGHT
BEGIN:STANDARD
TZOFFSETFROM:-0400
TZOFFSETTO:-0500
TZNAME:EST
DTSTART:20241103T060000
END:STANDARD
END:VTIMEZONE
BEGIN:VEVENT
DTSTART;TZID=America/Detroit:20230610T140000
DTEND;TZID=America/Detroit:20230610T150000
DTSTAMP:20260425T125259
CREATED:20230523T201435Z
LAST-MODIFIED:20230523T201435Z
UID:928-1686405600-1686409200@villageartsfactory.com
SUMMARY:Adaptive Chalk Art Day
DESCRIPTION:We’re hosting an adaptive chalk art day for the kids on Saturday\, June 10 at 2pm! We’ll spend an hour decorating the sidewalks of the Village Arts Factory while enjoying popsicles and the summer weather. Special local guest artist Nick Bair will join us to share his incredible chalk art talent with everyone. The kids can use stencils\, draw freely\, or just hang out with us. The cost is only $10 per child. Click below on the event website to register online\, or call Jessica at 734-765-7061. \nThis activity is recommended for children ages 5-12 with special physical\, developmental\, or sensory processing needs.
URL:https://villageartsfactory.com/event/adaptive-chalk-art-day/
LOCATION:Village Arts Factory\, 50755 Cherry Hill Rd\, Canton\, MI\, 48188\, United States
CATEGORIES:Public Events
ATTACH;FMTTYPE=image/png:https://villageartsfactory.com/wp-content/uploads/2023/05/June-ACE-Chalk-Art-Facebook.png
ORGANIZER;CN="A.C.E. Program":MAILTO:admin@partnershipforarts.org
END:VEVENT
BEGIN:VEVENT
DTSTART;TZID=America/Detroit:20230616T183000
DTEND;TZID=America/Detroit:20230616T203000
DTSTAMP:20260425T125259
CREATED:20230530T183022Z
LAST-MODIFIED:20230606T153007Z
UID:965-1686940200-1686947400@villageartsfactory.com
SUMMARY:Gallery Opening & Reception: Collage Art by Carl Davis
DESCRIPTION:Born in Cincinnati\, Ohio\, Carl Davis was fortunate to have grown up in a family that\, although of little means\, had an honest appreciation of a fine quality of life. As a child he spent time learning to draw and paint at The Cincinnati Art Academy and later studied at The Cincinnati Art Museum. Carl Davis later earned a Bachelor of Fine Art Degree at The Ohio State University. \nAfter a long career as an art director in the Midwest and in New York City – where he was Creative Director in Advertising for The New York Times – Davis returned to his first love of painting. \nYears ago\, he traveled throughout southern Europe and Northwest Africa\, Davis became enamored with the religious theme fresco art that since antiquity\, was the vehicle of artistic expression in the countries that border the Mediterranean. Davis drawn to the antique quality\, peeling and fading that comes over time he worked for years to master this painting method. Controlling wet plaster on various surfaces and then create his own interesting textures using dry pigment and marble dust-among other choices of mediums to achieve his desired coloration. \nCarl has exhibited his work in various galleries throughout New York\, Chicago\, California and Europe\, with various celebrities\, organizations and companies collecting his work. \nPost pandemic Davis completes a big step relocating to Canton\, Michigan to reside\, and spend time with his family he brings his passion along with him. Completing this “Juneteenth Series” to represent remembrance of his work throughout his art career\, using archival paper of past work woven into his painted fresco technique on canvas and wood. \nThis series brings full circle the artistic passion of Carl Davis.
URL:https://villageartsfactory.com/event/gallery-opening-reception-collage-art-by-carl-davis/
LOCATION:Village Arts Factory\, 50755 Cherry Hill Rd\, Canton\, MI\, 48188\, United States
CATEGORIES:Public Events
ATTACH;FMTTYPE=image/jpeg:https://villageartsfactory.com/wp-content/uploads/2023/05/Juneteenth-Exhibit.jpg
ORGANIZER;CN="Village Arts Factory":MAILTO:kevin.ryan@cantonmi.gov
END:VEVENT
BEGIN:VEVENT
DTSTART;TZID=America/Detroit:20230625T100000
DTEND;TZID=America/Detroit:20230625T130000
DTSTAMP:20260425T125259
CREATED:20230511T171313Z
LAST-MODIFIED:20230511T181427Z
UID:908-1687687200-1687698000@villageartsfactory.com
SUMMARY:Broken China Mosaic Workshop
DESCRIPTION:Are you looking for a fun and creative summer activity? If so\, then you’ll love this upcoming June workshop with Eye Candy Mosaics! Over the course of three hours\, you’ll learn the basics of mosaic art and create your own beautiful masterpiece using broken vintage china. All materials are included\, so you don’t have to worry about anything but having fun. \nThis Broken China Mosaic Workshop is perfect for adults of all ages and skill levels. Whether you’re a beginner or an experienced artist\, you’ll find something to love in creating your own unique mosaic. We’ll provide a large selection of vintage china\, letter beads\, and frames\, allowing you to customize your mosaic and let your creativity run wild. \nThis workshop is also a great way to meet new people and make friends. We offer a fun and relaxed atmosphere\, and our instructor is always happy to help you learn and create. \nThe cost to register is $40 and space is limited to 10 participants. Sign up today! \nRegister Online
URL:https://villageartsfactory.com/event/broken-china-mosaic-workshop/
LOCATION:Village Arts Factory\, 50755 Cherry Hill Rd\, Canton\, MI\, 48188\, United States
CATEGORIES:Public Events
ATTACH;FMTTYPE=image/png:https://villageartsfactory.com/wp-content/uploads/2023/05/Mosaic-Workshop.png
ORGANIZER;CN="Eye Candy Mosaics":MAILTO:bkw2848@gmail.com
END:VEVENT
BEGIN:VEVENT
DTSTART;TZID=America/Detroit:20230629T190000
DTEND;TZID=America/Detroit:20230629T200000
DTSTAMP:20260425T125259
CREATED:20230608T142538Z
LAST-MODIFIED:20230608T142538Z
UID:993-1688065200-1688068800@villageartsfactory.com
SUMMARY:Yoga in the Village
DESCRIPTION:We are excited to bring FREE community yoga to Cherry Hill Village this summer! Join us on the lawn of the Cherry Hill Schoolhouse for a fun hour of yoga with instructor Karen Pryor of Personal Pilates & Fitness. Bring a mat or beach towel\, water\, comfortable clothing\, and a positive attitude! Each yoga class will be accessible for all fitness levels with an intentional focus on the community. No pre-registration required. \nYoga in the Village will be weather contingent and will not run in the event of rain\, high winds\, or threat of storms. \nFor more information\, contact Kevin Ryan at kevin.ryan@cantonmi.gov or give us a call at 734/765-7061.
URL:https://villageartsfactory.com/event/yoga-in-the-village/
LOCATION:Cherry Hill Schoolhouse\, 50440 Cherry Hill Rd\, Canton\, MI\, 48187
CATEGORIES:Public Events
ATTACH;FMTTYPE=image/png:https://villageartsfactory.com/wp-content/uploads/2023/06/Yoga-in-the-Village.png
ORGANIZER;CN="Village Arts Factory":MAILTO:kevin.ryan@cantonmi.gov
END:VEVENT
BEGIN:VEVENT
DTSTART;TZID=America/Detroit:20230630T183000
DTEND;TZID=America/Detroit:20230630T193000
DTSTAMP:20260425T125259
CREATED:20230508T183735Z
LAST-MODIFIED:20230509T155729Z
UID:890-1688149800-1688153400@villageartsfactory.com
SUMMARY:Bracelet-Making Workshop with SmokeyCitrine
DESCRIPTION:Hello June Bracelet Class! Craig and Citrine are back at it again with another chance to make your own bracelets! You can choose to make your own set of Stretch Bracelets or you can make a set of Copper Beaded Cuff Bracelets. \nWe are featuring Rainbow Moonstone & Obsidian gemstone beads this time around. An inspiring combination of colorfully flashy black & white beads. \nYou may notice the price for this class is a little more expensive because we want you to have high quality rainbow moonstone and the stone is not cheap. It is one of the most sought after gems because of it’s colorful flash. If you’ve never seen rainbow moonstone\, you’ll know what we mean about flash when you see the stones in person. \nJoin us in making your jewelry dreams come alive. Lets create together.
URL:https://villageartsfactory.com/event/bracelet-making-workshop-with-smokeycitrine-2/
LOCATION:Village Arts Factory\, 50755 Cherry Hill Rd\, Canton\, MI\, 48188\, United States
CATEGORIES:Public Events
ATTACH;FMTTYPE=image/jpeg:https://villageartsfactory.com/wp-content/uploads/2023/05/IMG_0075.jpeg
END:VEVENT
END:VCALENDAR