BEGIN:VCALENDAR
VERSION:2.0
PRODID:-//Village Arts Factory - ECPv6.15.20//NONSGML v1.0//EN
CALSCALE:GREGORIAN
METHOD:PUBLISH
X-WR-CALNAME:Village Arts Factory
X-ORIGINAL-URL:https://villageartsfactory.com
X-WR-CALDESC:Events for Village Arts Factory
REFRESH-INTERVAL;VALUE=DURATION:PT1H
X-Robots-Tag:noindex
X-PUBLISHED-TTL:PT1H
BEGIN:VTIMEZONE
TZID:America/Detroit
BEGIN:DAYLIGHT
TZOFFSETFROM:-0500
TZOFFSETTO:-0400
TZNAME:EDT
DTSTART:20220313T070000
END:DAYLIGHT
BEGIN:STANDARD
TZOFFSETFROM:-0400
TZOFFSETTO:-0500
TZNAME:EST
DTSTART:20221106T060000
END:STANDARD
BEGIN:DAYLIGHT
TZOFFSETFROM:-0500
TZOFFSETTO:-0400
TZNAME:EDT
DTSTART:20230312T070000
END:DAYLIGHT
BEGIN:STANDARD
TZOFFSETFROM:-0400
TZOFFSETTO:-0500
TZNAME:EST
DTSTART:20231105T060000
END:STANDARD
BEGIN:DAYLIGHT
TZOFFSETFROM:-0500
TZOFFSETTO:-0400
TZNAME:EDT
DTSTART:20240310T070000
END:DAYLIGHT
BEGIN:STANDARD
TZOFFSETFROM:-0400
TZOFFSETTO:-0500
TZNAME:EST
DTSTART:20241103T060000
END:STANDARD
END:VTIMEZONE
BEGIN:VEVENT
DTSTART;TZID=America/Detroit:20230707T183000
DTEND;TZID=America/Detroit:20230707T193000
DTSTAMP:20260425T112202
CREATED:20230523T193752Z
LAST-MODIFIED:20230531T193820Z
UID:920-1688754600-1688758200@villageartsfactory.com
SUMMARY:Adult Fitness Pop-Up: Barre
DESCRIPTION:Join us for a 45-minute Barre fitness class followed by an afterglow with refreshments right here at the Village Arts Factory. Barre is a low-impact\, high-intensity workout that combines ballet\, Pilates\, and yoga. It’s a great way to tone your muscles\, improve your flexibility\, and burn calories. No previous experience necessary and all fitness levels welcome! If you’ve ever been curious to try Barre\, this is the perfect opportunity to sample this fun and unique fitness medium. \nFollowing the Barre class\, our afterglow will include light refreshments\, such as fruit\, water\, cheese\, and wine. There will also be time to socialize and connect with other attendees. For questions or more information\, contact Kevin Ryan at kevin.ryan@cantonmi.gov. Register at the website below\, or click here! \nBenefits of Barre: \n\nTones muscles\nImproves flexibility\nBurns calories\nReduces stress\nImproves posture\nImproves balance\nImproves coordination\nImproves overall fitness\n\nWhat to Wear: \n\nComfortable workout clothes\nSneakers\nYoga mat (optional)\n\nWhat to Bring: \n\nWater bottle\nTowel\nA positive attitude!
URL:https://villageartsfactory.com/event/adult-fitness-pop-up-barre/
LOCATION:Village Arts Factory\, 50755 Cherry Hill Rd\, Canton\, MI\, 48188\, United States
CATEGORIES:Public Events
ATTACH;FMTTYPE=image/png:https://villageartsfactory.com/wp-content/uploads/2023/05/Barre-1.png
ORGANIZER;CN="Village Arts Factory":MAILTO:kevin.ryan@cantonmi.gov
END:VEVENT
BEGIN:VEVENT
DTSTART;TZID=America/Detroit:20230712T080000
DTEND;TZID=America/Detroit:20230712T120000
DTSTAMP:20260425T112202
CREATED:20230705T152803Z
LAST-MODIFIED:20230705T152803Z
UID:1032-1689148800-1689163200@villageartsfactory.com
SUMMARY:Hazel Coffee at the Village Arts Factory
DESCRIPTION:We are so excited to be partnering with our friends at Hazel Coffee Co to bring coffee\, tea\, and summer beverages to Cherry Hill Village this month! Stop by the Village Arts Factory on Wednesday mornings for that special something to start your day or stick around and enjoy our outdoor seating with friends and neighbors. See you there!
URL:https://villageartsfactory.com/event/hazel-coffee-at-the-village-arts-factory/
LOCATION:Village Arts Factory\, 50755 Cherry Hill Rd\, Canton\, MI\, 48188\, United States
CATEGORIES:Public Events
ATTACH;FMTTYPE=image/png:https://villageartsfactory.com/wp-content/uploads/2023/07/Hazel-Coffee-Popup.png
ORGANIZER;CN="Village Arts Factory":MAILTO:kevin.ryan@cantonmi.gov
END:VEVENT
BEGIN:VEVENT
DTSTART;TZID=America/Detroit:20230712T190000
DTEND;TZID=America/Detroit:20230712T210000
DTSTAMP:20260425T112202
CREATED:20230530T170858Z
LAST-MODIFIED:20230712T185422Z
UID:955-1689188400-1689195600@villageartsfactory.com
SUMMARY:Concerts & Cars POSTPONED
DESCRIPTION:Please note that due to incoming storms and an areal flood advisory\, this event has been POSTPONED and rescheduled for Wednesday\, August 9 at 7:00pm. There will be no events at the Village Arts Factory tonight. \nJoin us on Wednesday\, June 12 for our first Concerts & Cars evening at the Village Arts Factory! We’ll be featuring the stunning cars of the Motor City Chapter of the Plymouth-Oakland Club International\, as well as live music by Denise and the Motor City Sensations. Pizza\, pop\, hot dogs\, and ice cream will be available for purchase. Bring your friends and family and join us for this free community event in Cherry Hill Village!
URL:https://villageartsfactory.com/event/concerts-cars/
LOCATION:Village Arts Factory\, 50755 Cherry Hill Rd\, Canton\, MI\, 48188\, United States
CATEGORIES:Public Events
ATTACH;FMTTYPE=image/png:https://villageartsfactory.com/wp-content/uploads/2023/05/Concerts-Cars-2023.png
ORGANIZER;CN="Village Arts Factory":MAILTO:kevin.ryan@cantonmi.gov
END:VEVENT
BEGIN:VEVENT
DTSTART;TZID=America/Detroit:20230718T190000
DTEND;TZID=America/Detroit:20230718T200000
DTSTAMP:20260425T112202
CREATED:20230612T193006Z
LAST-MODIFIED:20230612T193006Z
UID:1005-1689706800-1689710400@villageartsfactory.com
SUMMARY:Yoga in the Village
DESCRIPTION:We are excited to bring FREE community yoga to Cherry Hill Village this summer! Join us on the lawn of the Cherry Hill Schoolhouse for a fun hour of yoga with instructor Karen Pryor of Personal Pilates & Fitness. Bring a mat or beach towel\, water\, comfortable clothing\, and a positive attitude! Each yoga class will be accessible for all fitness levels with an intentional focus on the community. No pre-registration required. \nYoga in the Village will be weather contingent and will not run in the event of rain\, high winds\, or threat of storms. \nFor more information\, contact Kevin Ryan at kevin.ryan@cantonmi.gov or give us a call at 734/765-7061.
URL:https://villageartsfactory.com/event/yoga-in-the-village-2/
LOCATION:Cherry Hill Schoolhouse\, 50440 Cherry Hill Rd\, Canton\, MI\, 48187
CATEGORIES:Public Events
ATTACH;FMTTYPE=image/png:https://villageartsfactory.com/wp-content/uploads/2023/06/Yoga-July-18.png
ORGANIZER;CN="Village Arts Factory":MAILTO:kevin.ryan@cantonmi.gov
END:VEVENT
BEGIN:VEVENT
DTSTART;TZID=America/Detroit:20230719T080000
DTEND;TZID=America/Detroit:20230719T120000
DTSTAMP:20260425T112202
CREATED:20230713T181856Z
LAST-MODIFIED:20230713T181856Z
UID:1049-1689753600-1689768000@villageartsfactory.com
SUMMARY:Hazel Coffee at the Village Arts Factory
DESCRIPTION:We are so excited to be partnering with our friends at Hazel Coffee Co to bring coffee\, tea\, and summer beverages to Cherry Hill Village this month! Stop by the Village Arts Factory on Wednesday mornings for that special something to start your day or stick around and enjoy our outdoor seating with friends and neighbors. See you there!
URL:https://villageartsfactory.com/event/hazel-coffee-at-the-village-arts-factory-2/
LOCATION:Village Arts Factory\, 50755 Cherry Hill Rd\, Canton\, MI\, 48188\, United States
CATEGORIES:Public Events
ATTACH;FMTTYPE=image/png:https://villageartsfactory.com/wp-content/uploads/2023/07/Hazel-Coffee-Popup.png
ORGANIZER;CN="Village Arts Factory":MAILTO:kevin.ryan@cantonmi.gov
END:VEVENT
BEGIN:VEVENT
DTSTART;TZID=America/Detroit:20230719T190000
DTEND;TZID=America/Detroit:20230719T210000
DTSTAMP:20260425T112202
CREATED:20230530T171118Z
LAST-MODIFIED:20230530T171118Z
UID:958-1689793200-1689800400@villageartsfactory.com
SUMMARY:Concerts & Cars
DESCRIPTION:
URL:https://villageartsfactory.com/event/concerts-cars-2/
LOCATION:Village Arts Factory\, 50755 Cherry Hill Rd\, Canton\, MI\, 48188\, United States
CATEGORIES:Public Events
ATTACH;FMTTYPE=image/png:https://villageartsfactory.com/wp-content/uploads/2023/05/Concerts-Cars-2023.png
ORGANIZER;CN="Village Arts Factory":MAILTO:kevin.ryan@cantonmi.gov
END:VEVENT
BEGIN:VEVENT
DTSTART;TZID=America/Detroit:20230726T080000
DTEND;TZID=America/Detroit:20230726T120000
DTSTAMP:20260425T112202
CREATED:20230725T150447Z
LAST-MODIFIED:20230725T150447Z
UID:1086-1690358400-1690372800@villageartsfactory.com
SUMMARY:Hazel Coffee at the Village Arts Factory
DESCRIPTION:We are so excited to be partnering with our friends at Hazel Coffee Co to bring coffee\, tea\, and summer beverages to Cherry Hill Village this month! Stop by the Village Arts Factory on Wednesday mornings for that special something to start your day or stick around and enjoy our outdoor seating with friends and neighbors. See you there!
URL:https://villageartsfactory.com/event/hazel-coffee-at-the-village-arts-factory-3/
LOCATION:Village Arts Factory\, 50755 Cherry Hill Rd\, Canton\, MI\, 48188\, United States
CATEGORIES:Public Events
ATTACH;FMTTYPE=image/png:https://villageartsfactory.com/wp-content/uploads/2023/07/Hazel-Coffee-Popup.png
ORGANIZER;CN="Village Arts Factory":MAILTO:kevin.ryan@cantonmi.gov
END:VEVENT
BEGIN:VEVENT
DTSTART;TZID=America/Detroit:20230726T190000
DTEND;TZID=America/Detroit:20230726T210000
DTSTAMP:20260425T112202
CREATED:20230530T171216Z
LAST-MODIFIED:20230725T144128Z
UID:960-1690398000-1690405200@villageartsfactory.com
SUMMARY:Concerts & Cars
DESCRIPTION:Join us at the Village Arts Factory for a fun night of classic cars\, live music\, and local eats!
URL:https://villageartsfactory.com/event/concerts-cars-3/
LOCATION:Village Arts Factory\, 50755 Cherry Hill Rd\, Canton\, MI\, 48188\, United States
CATEGORIES:Public Events
ATTACH;FMTTYPE=image/jpeg:https://villageartsfactory.com/wp-content/uploads/2023/05/Concerts-Cars-2023-Event-FINAL-DISTRIBUTED.jpg
ORGANIZER;CN="Village Arts Factory":MAILTO:kevin.ryan@cantonmi.gov
END:VEVENT
BEGIN:VEVENT
DTSTART;TZID=America/Detroit:20230727T190000
DTEND;TZID=America/Detroit:20230727T200000
DTSTAMP:20260425T112202
CREATED:20230612T193215Z
LAST-MODIFIED:20230612T193215Z
UID:1011-1690484400-1690488000@villageartsfactory.com
SUMMARY:Yoga in the Village
DESCRIPTION:We are excited to bring FREE community yoga to Cherry Hill Village this summer! Join us on the lawn of the Cherry Hill Schoolhouse for a fun hour of yoga with instructor Karen Pryor of Personal Pilates & Fitness. Bring a mat or beach towel\, water\, comfortable clothing\, and a positive attitude! Each yoga class will be accessible for all fitness levels with an intentional focus on the community. No pre-registration required. \nYoga in the Village will be weather contingent and will not run in the event of rain\, high winds\, or threat of storms. \nFor more information\, contact Kevin Ryan at kevin.ryan@cantonmi.gov or give us a call at 734/765-7061.
URL:https://villageartsfactory.com/event/yoga-in-the-village-3/
LOCATION:Cherry Hill Schoolhouse\, 50440 Cherry Hill Rd\, Canton\, MI\, 48187
CATEGORIES:Public Events
ATTACH;FMTTYPE=image/png:https://villageartsfactory.com/wp-content/uploads/2023/06/Yoga-July-27.png
ORGANIZER;CN="Village Arts Factory":MAILTO:kevin.ryan@cantonmi.gov
END:VEVENT
END:VCALENDAR