BEGIN:VCALENDAR
VERSION:2.0
PRODID:-//Village Arts Factory - ECPv6.15.20//NONSGML v1.0//EN
CALSCALE:GREGORIAN
METHOD:PUBLISH
X-ORIGINAL-URL:https://villageartsfactory.com
X-WR-CALDESC:Events for Village Arts Factory
REFRESH-INTERVAL;VALUE=DURATION:PT1H
X-Robots-Tag:noindex
X-PUBLISHED-TTL:PT1H
BEGIN:VTIMEZONE
TZID:America/Detroit
BEGIN:DAYLIGHT
TZOFFSETFROM:-0500
TZOFFSETTO:-0400
TZNAME:EDT
DTSTART:20220313T070000
END:DAYLIGHT
BEGIN:STANDARD
TZOFFSETFROM:-0400
TZOFFSETTO:-0500
TZNAME:EST
DTSTART:20221106T060000
END:STANDARD
BEGIN:DAYLIGHT
TZOFFSETFROM:-0500
TZOFFSETTO:-0400
TZNAME:EDT
DTSTART:20230312T070000
END:DAYLIGHT
BEGIN:STANDARD
TZOFFSETFROM:-0400
TZOFFSETTO:-0500
TZNAME:EST
DTSTART:20231105T060000
END:STANDARD
BEGIN:DAYLIGHT
TZOFFSETFROM:-0500
TZOFFSETTO:-0400
TZNAME:EDT
DTSTART:20240310T070000
END:DAYLIGHT
BEGIN:STANDARD
TZOFFSETFROM:-0400
TZOFFSETTO:-0500
TZNAME:EST
DTSTART:20241103T060000
END:STANDARD
END:VTIMEZONE
BEGIN:VEVENT
DTSTART;TZID=America/Detroit:20230802T190000
DTEND;TZID=America/Detroit:20230802T210000
DTSTAMP:20260425T093914
CREATED:20230530T171317Z
LAST-MODIFIED:20230725T144238Z
UID:962-1691002800-1691010000@villageartsfactory.com
SUMMARY:Concerts & Cars
DESCRIPTION:Join us at the Village Arts Factory for a fun night of classic cars\, live music\, and local eats!
URL:https://villageartsfactory.com/event/concerts-cars-4/
LOCATION:Village Arts Factory\, 50755 Cherry Hill Rd\, Canton\, MI\, 48188\, United States
CATEGORIES:Public Events
ATTACH;FMTTYPE=image/jpeg:https://villageartsfactory.com/wp-content/uploads/2023/05/Concerts-Cars-2023-Event-FINAL-DISTRIBUTED.jpg
ORGANIZER;CN="Village Arts Factory":MAILTO:kevin.ryan@cantonmi.gov
END:VEVENT
BEGIN:VEVENT
DTSTART;TZID=America/Detroit:20230809T190000
DTEND;TZID=America/Detroit:20230809T210000
DTSTAMP:20260425T093914
CREATED:20230725T145001Z
LAST-MODIFIED:20230725T145001Z
UID:1075-1691607600-1691614800@villageartsfactory.com
SUMMARY:Concerts & Cars
DESCRIPTION:Join us at the Village Arts Factory for a fun night of classic cars\, live music\, and local eats!
URL:https://villageartsfactory.com/event/concerts-cars-5/
LOCATION:Village Arts Factory\, 50755 Cherry Hill Rd\, Canton\, MI\, 48188\, United States
CATEGORIES:Public Events
ATTACH;FMTTYPE=image/jpeg:https://villageartsfactory.com/wp-content/uploads/2023/05/Concerts-Cars-2023-Event-FINAL-DISTRIBUTED.jpg
ORGANIZER;CN="Village Arts Factory":MAILTO:kevin.ryan@cantonmi.gov
END:VEVENT
BEGIN:VEVENT
DTSTART;TZID=America/Detroit:20230810T190000
DTEND;TZID=America/Detroit:20230810T200000
DTSTAMP:20260425T093914
CREATED:20230725T145640Z
LAST-MODIFIED:20230725T150029Z
UID:1080-1691694000-1691697600@villageartsfactory.com
SUMMARY:Yoga in the Village
DESCRIPTION:We are excited to bring FREE community yoga to Cherry Hill Village this summer! Join us on the lawn of the Cherry Hill Schoolhouse for a fun hour of yoga with instructor Karen Pryor of Personal Pilates & Fitness. Bring a mat or beach towel\, water\, comfortable clothing\, and a positive attitude! Each yoga class will be accessible for all fitness levels with an intentional focus on the community. No pre-registration required. \nYoga in the Village will be weather contingent and will not run in the event of rain\, high winds\, or threat of storms. \nFor more information\, contact Kevin Ryan at kevin.ryan@cantonmi.gov or give us a call at 734/386-0650.
URL:https://villageartsfactory.com/event/yoga-in-the-village-4/
LOCATION:Cherry Hill Schoolhouse\, 50440 Cherry Hill Rd\, Canton\, MI\, 48187
CATEGORIES:Public Events
ATTACH;FMTTYPE=image/png:https://villageartsfactory.com/wp-content/uploads/2023/07/Yoga-Aug-10.png
ORGANIZER;CN="Village Arts Factory":MAILTO:kevin.ryan@cantonmi.gov
END:VEVENT
BEGIN:VEVENT
DTSTART;TZID=America/Detroit:20230812T140000
DTEND;TZID=America/Detroit:20230812T150000
DTSTAMP:20260425T093914
CREATED:20230725T145434Z
LAST-MODIFIED:20230725T145434Z
UID:1077-1691848800-1691852400@villageartsfactory.com
SUMMARY:Adaptive Pixel Art Workshop
DESCRIPTION:Learn the basics of pixel art and create your own empowering self-portrait!\nIn this workshop\, kids ages 5-12 will learn how to use colors\, shapes\, and shading to create their own unique pixel art portraits.\nPixel art is a great way to improve fine motor skills\, problem-solving skills\, and creativity. It’s also a fun and rewarding way to express yourself.\nIn this workshop\, we will use a variety of tools and software\, including iPads and computers.\nWe will also explore some of the famous pixel art that has been created over the years\, such as the game Minecraft.\nThis workshop is perfect for kids who are interested in art\, technology\, and self-expression.\nNo experience is necessary. All materials will be provided.\nTo register\, please visit the event page below\, or give us a call at 734-765-7061. Space is limited\, so reserve your spot today! The cost is just $10 per child.\nWe hope to see you there!
URL:https://villageartsfactory.com/event/adaptive-pixel-art-workshop/
LOCATION:Village Arts Factory\, 50755 Cherry Hill Rd\, Canton\, MI\, 48188\, United States
CATEGORIES:A.C.E. Events,Public Events
ATTACH;FMTTYPE=image/png:https://villageartsfactory.com/wp-content/uploads/2023/07/Adaptive-Pixel-Art-Event.png
ORGANIZER;CN="A.C.E. Program":MAILTO:admin@partnershipforarts.org
END:VEVENT
BEGIN:VEVENT
DTSTART;TZID=America/Detroit:20230818T180000
DTEND;TZID=America/Detroit:20230818T190000
DTSTAMP:20260425T093914
CREATED:20230725T143719Z
LAST-MODIFIED:20230725T143742Z
UID:1064-1692381600-1692385200@villageartsfactory.com
SUMMARY:Bracelet-Making Class with Smokey Citrine
DESCRIPTION:We heard you! We got so many compliments on our prehnite bracelets that you can make your own at our next bracelet class. \nThis time we are making bracelets with Prehnite and Lepidolite. Craig’s favorite color combination\, green and purple. Lepidolite is known to calm stress and anxiety. Prehnite is known as emotional soap because of its ability to help you not react to negative energy thrown your way. \nJoin us in making your jewelry dreams come alive. \nLets create together. \nFriday August 18\, 2023 from 6-7pm
URL:https://villageartsfactory.com/event/bracelet-making-class-with-smokey-citrine-2/
LOCATION:Village Arts Factory\, 50755 Cherry Hill Rd\, Canton\, MI\, 48188\, United States
CATEGORIES:Public Events
ATTACH;FMTTYPE=image/jpeg:https://villageartsfactory.com/wp-content/uploads/2023/07/1.jpg
END:VEVENT
BEGIN:VEVENT
DTSTART;TZID=America/Detroit:20230818T183000
DTEND;TZID=America/Detroit:20230818T203000
DTSTAMP:20260425T093914
CREATED:20230725T144822Z
LAST-MODIFIED:20230725T144822Z
UID:1072-1692383400-1692390600@villageartsfactory.com
SUMMARY:STEM & Art Family Night with iCode Canton
DESCRIPTION:Join us in the heart of Cherry Hill Village for a fun night of art\, science\, and technology! We’ve partnered with iCode Canton to provide a community family night with drones\, computer programming\, art\, music\, and food. This free community event will take place on the lawn of the Cherry Hill Schoolhouse from 6:30 to 8:30pm. Bring the whole family and let your creativity run wild!
URL:https://villageartsfactory.com/event/stem-art-family-night-with-icode-canton/
LOCATION:Cherry Hill Schoolhouse\, 50440 Cherry Hill Rd\, Canton\, MI\, 48187
CATEGORIES:Public Events
ATTACH;FMTTYPE=image/jpeg:https://villageartsfactory.com/wp-content/uploads/2023/07/Cherry-Hill-Pop-Up-8.18.jpg
ORGANIZER;CN="Village Arts Factory":MAILTO:kevin.ryan@cantonmi.gov
END:VEVENT
BEGIN:VEVENT
DTSTART;TZID=America/Detroit:20230820T100000
DTEND;TZID=America/Detroit:20230820T130000
DTSTAMP:20260425T093914
CREATED:20230627T195442Z
LAST-MODIFIED:20230726T130734Z
UID:1013-1692525600-1692536400@villageartsfactory.com
SUMMARY:Broken China Mosaic Workshop
DESCRIPTION:Are you looking for a fun and creative summer activity? If so\, then you’ll love this upcoming August workshop with Eye Candy Mosaics! Over the course of three hours\, you’ll learn the basics of mosaic art and create your own beautiful masterpiece using broken vintage china. All materials are included\, so you don’t have to worry about anything but having fun. \nThis Broken China Mosaic Workshop is perfect for adults of all ages and skill levels. Whether you’re a beginner or an experienced artist\, you’ll find something to love in creating your own unique mosaic. We’ll provide a large selection of vintage china\, letter beads\, and frames\, allowing you to customize your mosaic and let your creativity run wild. \nThis workshop is also a great way to meet new people and make friends. We offer a fun and relaxed atmosphere\, and our instructor is always happy to help you learn and create. \nThe cost to register is $40 and space is limited to 12 participants. Sign up today!
URL:https://villageartsfactory.com/event/broken-china-mosaic-workshop-2/
LOCATION:Village Arts Factory\, 50755 Cherry Hill Rd\, Canton\, MI\, 48188\, United States
CATEGORIES:Public Events
ATTACH;FMTTYPE=image/png:https://villageartsfactory.com/wp-content/uploads/2023/06/Mosaic-Workshop-Aug-20.png
ORGANIZER;CN="Eye Candy Mosaics":MAILTO:bkw2848@gmail.com
END:VEVENT
BEGIN:VEVENT
DTSTART;TZID=America/Detroit:20230826T090000
DTEND;TZID=America/Detroit:20230826T100000
DTSTAMP:20260425T093914
CREATED:20230317T031021Z
LAST-MODIFIED:20230607T125739Z
UID:217-1693040400-1693044000@villageartsfactory.com
SUMMARY:Agent Orange Awareness 5K Race
DESCRIPTION:We are thrilled to announce that registration has opened for our second annual Agent Orange Awareness 5K Race in Cherry Hill Village! Join us on Saturday\, August 26 as we kick off the Cherry Hill Village Festival with a beautiful community run while helping to raise awareness of the lingering effects of Agent Orange on veterans and their families. Early-bird registration is only $35 per runner and includes a stunning finisher medal. Also available for purchase are the official race t-shirt ($20) and water bottle ($25). Proceeds from both will benefit the Veterans Dormitory at the Village Arts Factory. \n \nClick Here to Register!
URL:https://villageartsfactory.com/event/agent-orange-awareness-5k-race/
LOCATION:Village Arts Factory\, 50755 Cherry Hill Rd\, Canton\, MI\, 48188\, United States
CATEGORIES:Public Events
ATTACH;FMTTYPE=image/png:https://villageartsfactory.com/wp-content/uploads/2023/03/Agent-Orange-Awareness-2023-FB-post.png
ORGANIZER;CN="Partnership for the Arts":MAILTO:admin@partnershipforarts.org
END:VEVENT
BEGIN:VEVENT
DTSTART;TZID=America/Detroit:20230831T080000
DTEND;TZID=America/Detroit:20230831T120000
DTSTAMP:20260425T093914
CREATED:20230829T151332Z
LAST-MODIFIED:20230829T151332Z
UID:1274-1693468800-1693483200@villageartsfactory.com
SUMMARY:Relief Fundraiser with Hazel Coffee
DESCRIPTION:For every beverage purchased\, Hazel Coffee will donate $1 to relief efforts at the Village Arts Factory following last week’s catastrophic storm and water damage. Stop by the Village Arts Factory between 8am and 12pm for a delicious coffee beverage while supporting the arts! They will be featuring their new fall menu\, including Pumpkin Spice Latte\, Hazelnut Chai Latte\, and Pumpkin Cream Cold Brew. Thank you for your support!
URL:https://villageartsfactory.com/event/relief-fundraiser-with-hazel-coffee/
LOCATION:Village Arts Factory\, 50755 Cherry Hill Rd\, Canton\, MI\, 48188\, United States
CATEGORIES:Public Events
ATTACH;FMTTYPE=image/png:https://villageartsfactory.com/wp-content/uploads/2023/08/Coffee-Fundraiser-Aug-2023.png
ORGANIZER;CN="Village Arts Factory":MAILTO:kevin.ryan@cantonmi.gov
END:VEVENT
BEGIN:VEVENT
DTSTART;TZID=America/Detroit:20230831T190000
DTEND;TZID=America/Detroit:20230831T200000
DTSTAMP:20260425T093914
CREATED:20230725T145913Z
LAST-MODIFIED:20230725T145932Z
UID:1083-1693508400-1693512000@villageartsfactory.com
SUMMARY:Yoga in the Village
DESCRIPTION:We are excited to bring FREE community yoga to Cherry Hill Village this summer! Join us on the lawn of the Cherry Hill Schoolhouse for a fun hour of yoga with instructor Karen Pryor of Personal Pilates & Fitness. Bring a mat or beach towel\, water\, comfortable clothing\, and a positive attitude! Each yoga class will be accessible for all fitness levels with an intentional focus on the community. No pre-registration required. \nYoga in the Village will be weather contingent and will not run in the event of rain\, high winds\, or threat of storms. \nFor more information\, contact Kevin Ryan at kevin.ryan@cantonmi.gov or give us a call at 734/765-7061.
URL:https://villageartsfactory.com/event/yoga-in-the-village-5/
LOCATION:Cherry Hill Schoolhouse\, 50440 Cherry Hill Rd\, Canton\, MI\, 48187
CATEGORIES:Public Events
ATTACH;FMTTYPE=image/png:https://villageartsfactory.com/wp-content/uploads/2023/07/Yoga-Aug-31.png
ORGANIZER;CN="Village Arts Factory":MAILTO:kevin.ryan@cantonmi.gov
END:VEVENT
END:VCALENDAR