BEGIN:VCALENDAR
VERSION:2.0
PRODID:-//Village Arts Factory - ECPv6.15.20//NONSGML v1.0//EN
CALSCALE:GREGORIAN
METHOD:PUBLISH
X-WR-CALNAME:Village Arts Factory
X-ORIGINAL-URL:https://villageartsfactory.com
X-WR-CALDESC:Events for Village Arts Factory
REFRESH-INTERVAL;VALUE=DURATION:PT1H
X-Robots-Tag:noindex
X-PUBLISHED-TTL:PT1H
BEGIN:VTIMEZONE
TZID:America/Detroit
BEGIN:DAYLIGHT
TZOFFSETFROM:-0500
TZOFFSETTO:-0400
TZNAME:EDT
DTSTART:20230312T070000
END:DAYLIGHT
BEGIN:STANDARD
TZOFFSETFROM:-0400
TZOFFSETTO:-0500
TZNAME:EST
DTSTART:20231105T060000
END:STANDARD
BEGIN:DAYLIGHT
TZOFFSETFROM:-0500
TZOFFSETTO:-0400
TZNAME:EDT
DTSTART:20240310T070000
END:DAYLIGHT
BEGIN:STANDARD
TZOFFSETFROM:-0400
TZOFFSETTO:-0500
TZNAME:EST
DTSTART:20241103T060000
END:STANDARD
BEGIN:DAYLIGHT
TZOFFSETFROM:-0500
TZOFFSETTO:-0400
TZNAME:EDT
DTSTART:20250309T070000
END:DAYLIGHT
BEGIN:STANDARD
TZOFFSETFROM:-0400
TZOFFSETTO:-0500
TZNAME:EST
DTSTART:20251102T060000
END:STANDARD
END:VTIMEZONE
BEGIN:VEVENT
DTSTART;TZID=America/Detroit:20241112T181500
DTEND;TZID=America/Detroit:20241112T201500
DTSTAMP:20260424T111551
CREATED:20240813T165629Z
LAST-MODIFIED:20240813T165933Z
UID:2024-1731435300-1731442500@villageartsfactory.com
SUMMARY:Glass Fusion Workshop: Christmas Trees
DESCRIPTION:Join us on November 12 to create this beautiful glass Christmas Tree Night Light or Tea Light Candle Holder! \nAll materials will be provided and you will choose to make one of two Christmas tree projects. Plug your Christmas Tree Night Light into any outlet and it will illuminate your home with beautiful holiday spirit (approx. size 4″). You may also chose a Tea Light Candle Holder that will have a tealight holder attached to the back to insert your candle (approx. size: 5-6″). \nNo experience needed. The shape of the Christmas tree will be pre-cut for you and the instructor will show you how easy it is to cut and attach the glass to make your tree glow with color! \nYou will create your design by using a special tac glue as an adhesive. Laurie with Kiss My Glass will show you how easy it is to cut the glass. All projects will go home with the instructor to be kiln fired and assembled and will be delivered approx. 10-days back to the Village Arts Factory. An email will be sent out with pickup instructions. \nCancellation Policy: Registrations may be cancelled and refunded up to 7 days before the date of the workshop. Due to the nature of this workshop and the need to purchase materials and supplies in advance\, we cannot offer refunds within 7 days of the workshop date. You may transfer your registration to someone else or receive a teacher-made finished project instead.
URL:https://villageartsfactory.com/event/glass-fusion-workshop-christmas-trees/
LOCATION:Village Arts Factory\, 50755 Cherry Hill Rd\, Canton\, MI\, 48188\, United States
CATEGORIES:Public Events
ATTACH;FMTTYPE=image/jpeg:https://villageartsfactory.com/wp-content/uploads/2024/08/ChristmasTreeWStar.jpg
ORGANIZER;CN="Kiss My Glass":MAILTO:kissmyglassart@yahoo.com
END:VEVENT
BEGIN:VEVENT
DTSTART;TZID=America/Detroit:20241114T183000
DTEND;TZID=America/Detroit:20241114T193000
DTSTAMP:20260424T111551
CREATED:20241030T151718Z
LAST-MODIFIED:20241030T151718Z
UID:2211-1731609000-1731612600@villageartsfactory.com
SUMMARY:Wildlife Encounter in the Village for Kids
DESCRIPTION:Join us at the Village Arts Factory on Thursday\, November 14 for Wildlife Encounter in the Village! Your kids will love spending an hour with Nelson “The Animal Guy” and his Wildlife Safari animals! Recommended for children of all ages (or the young at heart!)\, this FREE educational event will allow the kids to get up close and personal with a large variety of exotic animals from around the world while learning about conservation efforts. Light snacks\, water\, and juice will be provided. Register your kids today and plan to join us for this special event in Cherry Hill Village!\n\nInstructor Bio:\nNelson “The Animal Guy” is a federally licensed conservationist\, master falconer\, wildlife exhibitor\, and animal trainer. For over 25 years\, he and his animal friends have appeared at countless events across the country providing wildlife encounters to people of all ages. Based in Michigan\, Nelson created Wildlife Safari in the early ’90s with the mission being to develop exciting hands-on\, natural science programs that perfectly combine education and entertainment. Over the years\, he’s worked really hard to promote the concept of safe\, fun\, and positive interactions with living creatures.\n\nProgram Info:\nWildlife Safari features a large variety of exotic animals from around the world for shows\, lectures\, and exhibits. Licensed and insured\, we are extremely dedicated to providing the safest\, most exciting animal encounters for people of all ages. Designed to be fun and educational\, our natural science programs are very hands-on and are great for small or large audiences.\n\nLocation:\nVillage Arts Factory\, 50755 Cherry Hill Road\, Canton\, MI 48188\nFor more information\, please contact Frani Lantigua at: frani.lantigua@cantonmi.gov
URL:https://villageartsfactory.com/event/wildlife-encounter-in-the-village-for-kids/
LOCATION:Village Arts Factory\, 50755 Cherry Hill Rd\, Canton\, MI\, 48188\, United States
CATEGORIES:Public Events
ATTACH;FMTTYPE=image/png:https://villageartsfactory.com/wp-content/uploads/2024/10/Untitled-2-Wildlife-Encounter-TV-Monitor.png
ORGANIZER;CN="Village Arts Factory":MAILTO:kevin.ryan@cantonmi.gov
END:VEVENT
BEGIN:VEVENT
DTSTART;TZID=America/Detroit:20241121T180000
DTEND;TZID=America/Detroit:20241121T200000
DTSTAMP:20260424T111551
CREATED:20241021T205638Z
LAST-MODIFIED:20241021T205638Z
UID:2195-1732212000-1732219200@villageartsfactory.com
SUMMARY:Beach Glass Christmas Trees Crafting Party
DESCRIPTION:Join the party and create your own custom beach glass Christmas tree November 21st at the Village Arts Factory in Canton!\nABOUT THIS EVENT:Michigan is known for it’s beautiful lakes and large sandy dunes. Beach glass is created when turbulent waves combine with course sand to create a natural rock tumbling effect. The resulting product is a mixture of wonderfully polished glass – a treasure that we will be utilizing to create our beautiful Christmas trees!\n$65 includes step by step instructions\, a wide variety of beautiful glass\, and all other supplies. Finished project measures approximately 9 inches tall. Mini starfish and lights included! Choose from 3 beautiful colors(pictured below): Turquoise\, Lighthouse Red\, or Deep Green.\nEach participant will be given their own personalized kit when they arrive\, which includes step by step instructions and all necessary supplies. The project is self guided\, so you are able to go at your own pace while also talking with friends.\nSeats will fill fast. Don’t miss out on the fun! Advance registration required.
URL:https://villageartsfactory.com/event/beach-glass-christmas-trees-crafting-party/
LOCATION:Village Arts Factory\, 50755 Cherry Hill Rd\, Canton\, MI\, 48188\, United States
CATEGORIES:Public Events
ATTACH;FMTTYPE=image/jpeg:https://villageartsfactory.com/wp-content/uploads/2024/10/Beach-Glass-Workshop.jpg
END:VEVENT
BEGIN:VEVENT
DTSTART;TZID=America/Detroit:20241123T100000
DTEND;TZID=America/Detroit:20241123T120000
DTSTAMP:20260424T111551
CREATED:20241107T194526Z
LAST-MODIFIED:20241107T195029Z
UID:2222-1732356000-1732363200@villageartsfactory.com
SUMMARY:DIY Holiday Doormat Workshop
DESCRIPTION:Kick off the holiday season with a fun DIY Holiday Doormat Workshop at the Village Arts Factory! Join us on Saturday\, November 23rd as we get into the creative spirit and stencil custom winter doormats. Select from one of five stencil designs and bring home a beautiful\, holiday-themed doormat to grace your porch or mudroom. The cost is only $45 and includes all materials! The workshop begins at 10am and will run approximately 1.5 hours. You’ll be able to take your mat home with you that day! All mats are the same standard size: 18”x 30”. This workshop is recommended for ages 16+ but a child may attend with their parent.
URL:https://villageartsfactory.com/event/diy-holiday-doormat-workshop/
LOCATION:Village Arts Factory\, 50755 Cherry Hill Rd\, Canton\, MI\, 48188\, United States
CATEGORIES:Public Events
ATTACH;FMTTYPE=image/png:https://villageartsfactory.com/wp-content/uploads/2024/11/Holiday-Doormat-Workshop.png
ORGANIZER;CN="Village Arts Factory":MAILTO:kevin.ryan@cantonmi.gov
END:VEVENT
BEGIN:VEVENT
DTSTART;TZID=America/Detroit:20241123T100000
DTEND;TZID=America/Detroit:20241123T190000
DTSTAMP:20260424T111551
CREATED:20241021T205012Z
LAST-MODIFIED:20241119T162536Z
UID:2192-1732356000-1732388400@villageartsfactory.com
SUMMARY:Handmade Holidays: Artisan Craft Market & Pottery Sale
DESCRIPTION:Get ready to kick off the holiday season at our Handmade Holidays Artisan Market\, which will take place in conjunction with the Cherry Hill Potters Guild Holiday Sale! Join us for a fun day of shopping filled with unique handmade art\, crafts\, beautiful pottery\, and local artisan treasures.\n\n\nHandmade Holiday Artisan Vendors\nBelle Lavande\nDecorlotta Art & Design\nClearly you\nPermanent Jewelry by Irene\nKingdom Coloring\nPat Kubert\nAuthor Jamie Samland (Dyingstar Press LLC)\nKG Sweets\nSkinCare SocialClub\n\n\nWe will also be offering a DIY Holiday Doormat workshop that morning from 10am to 12pm. Come and create your own custom doormat to decorate your front porch or to give away as a gift! The cost is just $45 per person and includes all materials. Click here to register online today!\n\nThe Handmade Holidays Artisan Market and Cherry Hill Potters Guild Holiday Sale will take place inside the Village Arts Factory\, located at 50755 Cherry Hill Rd.\, Canton\, MI 48188 from 10am to 7pm. For more information\, please contact us at: admin@partnershipforarts.org
URL:https://villageartsfactory.com/event/handmade-holidays-artisan-craft-market-pottery-sale/
LOCATION:Village Arts Factory\, 50755 Cherry Hill Rd\, Canton\, MI\, 48188\, United States
CATEGORIES:Public Events
ATTACH;FMTTYPE=image/png:https://villageartsfactory.com/wp-content/uploads/2024/10/Handmade-Holidays-FB-event-cover.png
ORGANIZER;CN="Village Arts Factory":MAILTO:kevin.ryan@cantonmi.gov
END:VEVENT
END:VCALENDAR