BEGIN:VCALENDAR
VERSION:2.0
PRODID:-//Village Arts Factory - ECPv6.15.20//NONSGML v1.0//EN
CALSCALE:GREGORIAN
METHOD:PUBLISH
X-WR-CALNAME:Village Arts Factory
X-ORIGINAL-URL:https://villageartsfactory.com
X-WR-CALDESC:Events for Village Arts Factory
REFRESH-INTERVAL;VALUE=DURATION:PT1H
X-Robots-Tag:noindex
X-PUBLISHED-TTL:PT1H
BEGIN:VTIMEZONE
TZID:America/Detroit
BEGIN:DAYLIGHT
TZOFFSETFROM:-0500
TZOFFSETTO:-0400
TZNAME:EDT
DTSTART:20240310T070000
END:DAYLIGHT
BEGIN:STANDARD
TZOFFSETFROM:-0400
TZOFFSETTO:-0500
TZNAME:EST
DTSTART:20241103T060000
END:STANDARD
BEGIN:DAYLIGHT
TZOFFSETFROM:-0500
TZOFFSETTO:-0400
TZNAME:EDT
DTSTART:20250309T070000
END:DAYLIGHT
BEGIN:STANDARD
TZOFFSETFROM:-0400
TZOFFSETTO:-0500
TZNAME:EST
DTSTART:20251102T060000
END:STANDARD
BEGIN:DAYLIGHT
TZOFFSETFROM:-0500
TZOFFSETTO:-0400
TZNAME:EDT
DTSTART:20260308T070000
END:DAYLIGHT
BEGIN:STANDARD
TZOFFSETFROM:-0400
TZOFFSETTO:-0500
TZNAME:EST
DTSTART:20261101T060000
END:STANDARD
END:VTIMEZONE
BEGIN:VEVENT
DTSTART;TZID=America/Detroit:20250307T180000
DTEND;TZID=America/Detroit:20250307T200000
DTSTAMP:20260424T052701
CREATED:20250221T202500Z
LAST-MODIFIED:20250221T202500Z
UID:2472-1741370400-1741377600@villageartsfactory.com
SUMMARY:Grit & Glory: Art Exhibit Reception & Open House
DESCRIPTION:Brian Peck is a portrait photographer based in Novi\, Michigan\, and the owner of Kamera Clips\, a thriving photography business. His passion for photography began with the birth of his son\, inspiring him to document their journey together. That passion deepened during a transformative trip to the Grand Canyon\, where the awe-inspiring landscapes sparked a lifelong commitment to capturing life’s most breathtaking moments.\n\nGraduating with honors in Photography from OCC\, Brian has built a career dedicated to creating striking portraits and telling compelling visual stories through his lens. His work has been showcased in numerous art exhibitions across Southeast Michigan\, earning recognition for its depth and authenticity.\n\nWhen he’s not crafting portraits for clients\, Brian pursues personal projects\, seeking out unique subjects both locally and across the country. His photography is fueled by a deep appreciation for family\, exploration\, and the beauty of life’s unexpected moments.\n\nCome meet the photographer while enjoying an opportunity to view his works up close at the opening reception of Grit & Glory: A Detroit Showcase on Friday\, March 7. Snacks\, light refreshments\, and live music will be present for your enjoyment as you browse the photography on display in the gallery. Doors open at 6:00pm and the reception open house will run until 8:00pm. This event is free to attend and open to all.
URL:https://villageartsfactory.com/event/grit-glory-art-exhibit-reception-open-house/
LOCATION:Village Arts Factory\, 50755 Cherry Hill Rd\, Canton\, MI\, 48188\, United States
CATEGORIES:Public Events
ATTACH;FMTTYPE=image/jpeg:https://villageartsfactory.com/wp-content/uploads/2025/02/Grit-and-Glory-ad-scaled.jpg
ORGANIZER;CN="Village Arts Factory":MAILTO:kevin.ryan@cantonmi.gov
END:VEVENT
BEGIN:VEVENT
DTSTART;TZID=America/Detroit:20250311T183000
DTEND;TZID=America/Detroit:20250311T193000
DTSTAMP:20260424T052701
CREATED:20250131T155930Z
LAST-MODIFIED:20250131T182530Z
UID:2383-1741717800-1741721400@villageartsfactory.com
SUMMARY:Adult Fitness Pop-Up: Yoga
DESCRIPTION:Our popular Adult Fitness Pop-Up series concludes this March with Yoga at the Village Arts Factory! Join us on Tuesday\, March 11 for an approachable\, 1-hour yoga flow led by our certified instructor surrounded by art and candlelight. Yoga is a wonderful opportunity to relax your mind\, create positive focus\, and gently stretch the body. Both practiced yogis and first-time beginners will enjoy this guided flow in our unique art studio space. You are welcome to bring your own mat\, or we will have plenty available to borrow. An afterglow with snacks and refreshments will follow the class\, including an opportunity to stroll the art gallery and socialize with friends and neighbors. The cost is just $10 per person and you can register online by clicking here. \nProceeds from this Adult Fitness Pop-Up will support the Learn.Advocate.Mentor program\, a Lead #LikeAGirl initiative of Canton’s B.L.O.C.K. program.
URL:https://villageartsfactory.com/event/adult-fitness-pop-up-yoga/
LOCATION:Village Arts Factory\, 50755 Cherry Hill Rd\, Canton\, MI\, 48188\, United States
CATEGORIES:Public Events
ATTACH;FMTTYPE=image/png:https://villageartsfactory.com/wp-content/uploads/2025/01/Yoga-Pop-Up-March-11.png
ORGANIZER;CN="Village Arts Factory":MAILTO:kevin.ryan@cantonmi.gov
END:VEVENT
BEGIN:VEVENT
DTSTART;TZID=America/Detroit:20250320T180000
DTEND;TZID=America/Detroit:20250320T190000
DTSTAMP:20260424T052701
CREATED:20250131T191440Z
LAST-MODIFIED:20250310T212051Z
UID:2393-1742493600-1742497200@villageartsfactory.com
SUMMARY:Wildlife Encounter in the Village
DESCRIPTION:**SOLD OUT** Join us at the Village Arts Factory on Thursday\, March 20 for Wildlife Encounter in the Village! Your kids will love spending an hour with Nelson “The Animal Guy” and his Wildlife Safari animals! Recommended for children of all ages (or the young at heart!)\, this $5 event will allow the kids to get up close and personal with a large variety of exotic animals from around the world while learning about conservation efforts. Light snacks\, water\, and juice will be provided. Register your kids today and plan to join us for this special event in Cherry Hill Village! Please note: only purchase tickets for your kids; parents do not need a ticket. Parent or legal guardian must attend with child. \nInstructor Bio \nNelson “The Animal Guy” is a federally licensed conservationist\, master falconer\, wildlife exhibitor\, and animal trainer. For over 25 years\, he and his animal friends have appeared at countless events across the country providing wildlife encounters to people of all ages. Based in Michigan\, Nelson created Wildlife Safari in the early ’90s with the mission being to develop exciting hands-on\, natural science programs that perfectly combine education and entertainment. Over the years\, he’s worked really hard to promote the concept of safe\, fun\, and positive interactions with living creatures. \nProgram Info \nWildlife Safari features a large variety of exotic animals from around the world for shows\, lectures\, and exhibits. Licensed and insured\, we are extremely dedicated to providing the safest\, most exciting animal encounters for people of all ages. Designed to be fun and educational\, our natural science programs are very hands-on and are great for small or large audiences. \nLocation \nVillage Arts Factory\, 50755 Cherry Hill Road\, Canton\, MI 48188 \nFor more information\, please contact Frani Lantigua at: frani.lantigua@cantonmi.gov
URL:https://villageartsfactory.com/event/wildlife-encounter-in-the-village/
LOCATION:Village Arts Factory\, 50755 Cherry Hill Rd\, Canton\, MI\, 48188\, United States
CATEGORIES:Public Events
ATTACH;FMTTYPE=image/png:https://villageartsfactory.com/wp-content/uploads/2025/01/Wildlife-Encounter-2-Wildlife-Encounter-TV-Monitor.png
ORGANIZER;CN="Village Arts Factory":MAILTO:kevin.ryan@cantonmi.gov
END:VEVENT
BEGIN:VEVENT
DTSTART;TZID=America/Detroit:20250327T183000
DTEND;TZID=America/Detroit:20250327T193000
DTSTAMP:20260424T052701
CREATED:20250228T145551Z
LAST-MODIFIED:20250228T145551Z
UID:2482-1743100200-1743103800@villageartsfactory.com
SUMMARY:Stretch Bracelet Workshop: Dragon Bloodstone
DESCRIPTION:Stretch Bracelet Workshop: Dragon Bloodstone \n📅 Date: March 27 \n⏰ Time: 6:30 – 7:30 PM \n📍 Location: Village Arts Factory \n💎 Cost: $30 per person (all materials included) \nJoin us for a hands-on bracelet-making workshop featuring 6mm Dragon Bloodstone beads—a powerful gemstone known for its grounding and protective energy. In this one-hour session\, you’ll learn how to design and string your own custom stretch bracelet using Stretch Magic cord\, while also discovering the unique properties and history of Dragon’s Blood stone. \nThis class includes: \n✨ All materials needed to create one bracelet \n✨ Guided instruction and tips for making durable stretch jewelry \n✨ A brief presentation on the meaning and benefits of Dragon’s Blood stone \nPerfect for beginners and experienced crafters alike! Secure your spot today and create a meaningful\, handmade piece to take home. \n📩 Reserve your spot now! Limited spaces available.
URL:https://villageartsfactory.com/event/stretch-bracelet-workshop-dragon-bloodstone/
LOCATION:Village Arts Factory\, 50755 Cherry Hill Rd\, Canton\, MI\, 48188\, United States
CATEGORIES:Public Events
ATTACH;FMTTYPE=image/jpeg:https://villageartsfactory.com/wp-content/uploads/2025/02/Dragon-Blood-Stone-Class.jpg
END:VEVENT
BEGIN:VEVENT
DTSTART;TZID=America/Detroit:20250328T183000
DTEND;TZID=America/Detroit:20250328T203000
DTSTAMP:20260424T052701
CREATED:20250319T194140Z
LAST-MODIFIED:20250319T194140Z
UID:2512-1743186600-1743193800@villageartsfactory.com
SUMMARY:Cozy Candles & Cocktails
DESCRIPTION:Cozy Candles & Cocktails is back by popular demand! March is Women’s History Month\, and we are all about connecting with each other. Grab your girl friends\, co-workers\, mothers and sisters and come out blend\, create and pour. The cost is just $45 per person\, which includes tasty sips (21+) and all candle-making materials.
URL:https://villageartsfactory.com/event/cozy-candles-cocktails/
LOCATION:Village Arts Factory\, 50755 Cherry Hill Rd\, Canton\, MI\, 48188\, United States
CATEGORIES:Public Events
ATTACH;FMTTYPE=image/png:https://villageartsfactory.com/wp-content/uploads/2025/03/Cozy-Candles-Banner.png
ORGANIZER;CN="True 2 You Candle Studios":MAILTO:Leslie@true2you.shop
END:VEVENT
END:VCALENDAR