BEGIN:VCALENDAR
VERSION:2.0
PRODID:-//Village Arts Factory - ECPv6.15.20//NONSGML v1.0//EN
CALSCALE:GREGORIAN
METHOD:PUBLISH
X-ORIGINAL-URL:https://villageartsfactory.com
X-WR-CALDESC:Events for Village Arts Factory
REFRESH-INTERVAL;VALUE=DURATION:PT1H
X-Robots-Tag:noindex
X-PUBLISHED-TTL:PT1H
BEGIN:VTIMEZONE
TZID:America/Detroit
BEGIN:DAYLIGHT
TZOFFSETFROM:-0500
TZOFFSETTO:-0400
TZNAME:EDT
DTSTART:20240310T070000
END:DAYLIGHT
BEGIN:STANDARD
TZOFFSETFROM:-0400
TZOFFSETTO:-0500
TZNAME:EST
DTSTART:20241103T060000
END:STANDARD
BEGIN:DAYLIGHT
TZOFFSETFROM:-0500
TZOFFSETTO:-0400
TZNAME:EDT
DTSTART:20250309T070000
END:DAYLIGHT
BEGIN:STANDARD
TZOFFSETFROM:-0400
TZOFFSETTO:-0500
TZNAME:EST
DTSTART:20251102T060000
END:STANDARD
BEGIN:DAYLIGHT
TZOFFSETFROM:-0500
TZOFFSETTO:-0400
TZNAME:EDT
DTSTART:20260308T070000
END:DAYLIGHT
BEGIN:STANDARD
TZOFFSETFROM:-0400
TZOFFSETTO:-0500
TZNAME:EST
DTSTART:20261101T060000
END:STANDARD
END:VTIMEZONE
BEGIN:VEVENT
DTSTART;TZID=America/Detroit:20250503T100000
DTEND;TZID=America/Detroit:20250503T113000
DTSTAMP:20260424T024657
CREATED:20250311T185442Z
LAST-MODIFIED:20250415T150956Z
UID:2502-1746266400-1746271800@villageartsfactory.com
SUMMARY:Cherry Hill Village Art Walk
DESCRIPTION:Join us for these special Art Walks that will be held quarterly in beautiful Cherry Hill Village! \nWe’ll meet at The Village Theater where we’ll enjoy donuts and coffee and view the current exhibit at the Gallery at Cherry Hill Village\, located at 50400 Cherry Hill Road.  Next\, we’ll head to the Village Arts Factory for a short tour where we’ll end our walk enjoying the Fine Art Gallery’s current exhibit. This is a wonderful opportunity to view the beautiful art on display in Cherry Hill Village\, guided by the gallery coordinators at both facilities. All ages are welcome to attend! \nThese events are FREE and open to the public.  Pre-registration is required. \nAdditional Art Walk dates are Saturday\, July 19 and Saturday\, October 4. \nFor additional information or to register over the phone\, please contact jennifer.collins@cantonmi.gov or call 734/394-5374
URL:https://villageartsfactory.com/event/cherry-hill-village-art-walk-3/
LOCATION:Cherry Hill Village\, Canton\, MI\, 48188\, United States
CATEGORIES:Public Events
ATTACH;FMTTYPE=image/jpeg:https://villageartsfactory.com/wp-content/uploads/2025/03/2025-Art-Walks-Banner-scaled.jpg
END:VEVENT
BEGIN:VEVENT
DTSTART;TZID=America/Detroit:20250506T180000
DTEND;TZID=America/Detroit:20250506T200000
DTSTAMP:20260424T024657
CREATED:20250415T145944Z
LAST-MODIFIED:20250415T145944Z
UID:2557-1746554400-1746561600@villageartsfactory.com
SUMMARY:Art Exhibit Reception: Myriad Textures of Musings
DESCRIPTION:The Village Arts Factory is proud to welcome Detroit-based artist Marcia K. Hales for an extraordinary solo art exhibition this May\, titled Myriad Textures of Musings. The exhibit will feature nearly three-dozen of the artist’s signature\, abstract works. Join us for the opening reception on Tuesday\, May 6\, from 6:00 to 8:00pm. Browse the exhibit\, meet the artist\, and enjoy a variety of light refreshments. There is no cost to attend and all are welcome. \nAbout the Exhibit \nMyriad Textures of Musings\, a solo exhibition by Detroit-based artist Marcia K. Hales\, invites viewers into a dynamic interplay of depth\, movement\, and imagination. Known for her ability to transform space through abstract forms and layered textures\, Hales creates works that reflect her musings on everyday life and imagined experiences. Her newest pieces encourage the eye to dance freely across the canvas\, engaging both visually and emotionally. \nRooted in a lifelong passion for the handmade\, Hales began painting in her hometown of Farmington\, Michigan. Her artistic journey has taken her across the country—from studying and exhibiting in Massachusetts and California to settling in Northern Michigan for nearly two decades. Since 2020\, she has called Detroit home\, where she remains an active participant in the local arts community. \nHales holds an MFA in Design from UMass Dartmouth and has exhibited internationally\, with her work held in collections across the U.S.\, Mexico\, the Netherlands\, France\, and Turkey. She has been featured in numerous solo exhibitions and continues to be represented by Twisted Fish Gallery in Elk Rapids\, Michigan. \nIn Myriad Textures of Musings\, Hales offers a collection of recent linear works that blur the line between the tangible and the abstract. Inspired by fleeting moments—a forest of trees\, children at play\, or the imagined rhythm of music—her paintings serve as open invitations to explore\, reflect\, and\, perhaps\, get quietly lost within them.
URL:https://villageartsfactory.com/event/art-exhibit-reception-myriad-textures-of-musings/
LOCATION:Village Arts Factory\, 50755 Cherry Hill Rd\, Canton\, MI\, 48188\, United States
CATEGORIES:Public Events
ATTACH;FMTTYPE=image/png:https://villageartsfactory.com/wp-content/uploads/2025/04/Reception-Date-MKH.png
ORGANIZER;CN="Village Arts Factory":MAILTO:kevin.ryan@cantonmi.gov
END:VEVENT
BEGIN:VEVENT
DTSTART;TZID=America/Detroit:20250507T181500
DTEND;TZID=America/Detroit:20250507T201500
DTSTAMP:20260424T024657
CREATED:20250131T182818Z
LAST-MODIFIED:20250304T141912Z
UID:2387-1746641700-1746648900@villageartsfactory.com
SUMMARY:Glass Fusion Workshop: Nature's Friends
DESCRIPTION:Come join us for this adorable “Nature’s Friends” Glass Fusion Workshop at the Village Arts Factory! This in-person workshop is simple and fun\, and easy enough for a beginner. It’s the perfect opportunity to spend a relaxing evening crafting and enjoying the unique experience of working with glass. With nature’s friends\, we enjoy more of life’s beauty! \nWhen purchasing your ticket\, select from making a lavender night light or sun catcher. The clear base piece will be cut for you and we will work with glass that is easy to design with minimal cutting. The cost is $42 per person. All materials will be provided and no previous experience is needed. \nThis glass workshop is appropriate for children ages 10+ who are accompanied by a paid adult; tickets will need to be purchased for both adult and child. All projects will go home with the instructor to kiln fired and will be delivered back to the Village Arts Factory in approximately 10-12 days. An email will be sent out to participants with pick-up instructions. \nPlease note: closed-toed shoes and covered drink containers are required. Sorry\, no snacks allowed. Food and glass do not mix! Please let your friends and family know about the fun! \nPlease note: Due to the need to purchase class supplies in advance\, there are no refunds for this class within 5 days of the event. If an emergency arises\, you may send someone else in your place.
URL:https://villageartsfactory.com/event/glass-fusion-workshop-natures-friends/
LOCATION:Village Arts Factory\, 50755 Cherry Hill Rd\, Canton\, MI\, 48188\, United States
CATEGORIES:Public Events
ATTACH;FMTTYPE=image/jpeg:https://villageartsfactory.com/wp-content/uploads/2025/01/NaturesFriends.jpg
ORGANIZER;CN="Kiss My Glass":MAILTO:kissmyglassart@yahoo.com
END:VEVENT
BEGIN:VEVENT
DTSTART;TZID=America/Detroit:20250515T181500
DTEND;TZID=America/Detroit:20250515T201500
DTSTAMP:20260424T024657
CREATED:20250115T213107Z
LAST-MODIFIED:20250115T213107Z
UID:2332-1747332900-1747340100@villageartsfactory.com
SUMMARY:Glass Art Workshop: Wind Chimes
DESCRIPTION:Come join us for a fun and creative glass wind chime workshop at the Village Arts Factory! This is a simple and enjoyable class where you’ll learn how to easily bead and assemble a beautiful wind chime. It’s the perfect opportunity to spend a relaxing evening crafting and enjoying a great art experience with friends or by yourself! \nThe cost is $39 per person and all materials will be provided. No previous experience is necessary. Participants will enjoy a huge assortment of beautiful beads to choose from to customize their chime. All glass bottles will be cut prior to class\, though we will enjoy a hands-on experience with sanding them together. \nThis glass workshop is appropriate for children ages 10+ who are accompanied by a paid adult; tickets will need to be purchased for both adult and child. Please bring a shopping bag or tote bag with you as this is a take-home project and will be ready to go with you at the end of class. \nPlease note: Due to the need to purchase class supplies in advance\, there are no refunds for this class within 5 days of the event. If an emergency arises\, you may send someone else in your place or contact the instructor to choose a wind chime or wind chime kit made for you in lieu of your empty seat. Please contact Laurie Freeman within 72 hours after the missed class at: KissMyGlassArt@yahoo.com
URL:https://villageartsfactory.com/event/glass-art-workshop-wind-chimes/
LOCATION:Village Arts Factory\, 50755 Cherry Hill Rd\, Canton\, MI\, 48188\, United States
CATEGORIES:Public Events
ATTACH;FMTTYPE=image/jpeg:https://villageartsfactory.com/wp-content/uploads/2025/01/WBWCCollage.jpg
ORGANIZER;CN="Kiss My Glass":MAILTO:kissmyglassart@yahoo.com
END:VEVENT
BEGIN:VEVENT
DTSTART;TZID=America/Detroit:20250516T193000
DTEND;TZID=America/Detroit:20250516T223000
DTSTAMP:20260424T024657
CREATED:20250505T193200Z
LAST-MODIFIED:20250505T193325Z
UID:2583-1747423800-1747434600@villageartsfactory.com
SUMMARY:Outdoor Cultural Movie Night
DESCRIPTION:Join us for the return of our Outdoor Cultural Movie Nights in Cherry Hill Village! Sponsored by Oak Pointe Church Canton\, guests will enjoy a beautiful evening under the stars celebrating Italian Cultural Heritage with kids crafts\, lawn games\, pre-show entertainment\, and a free showing of Disney Pixar’s animated film Luca (Rated-PG). Bring folding chairs\, a picnic blanket\, and your favorite snacks! Guests may arrive anytime after 7:30pm; please note that the film will not begin until sunset\, approximately 9:00pm.\n\nEvent Timeline:\n7:30pm — Doors Open // Kids Crafts // Games8:00pm — Pre-Show Cultural Entertainment9:00pm — Showing of Disney Pixar’s Luca (Rated-PG)\n\nEvent Location:\nCherry Hill Schoolhouse Lawn50440 Cherry Hill RdCanton\, MI 48187\n\nFor more information\, please contact Frani Lantigua at: frani.lantigua@cantonmi.gov
URL:https://villageartsfactory.com/event/outdoor-cultural-movie-night/
LOCATION:Cherry Hill Schoolhouse\, 50440 Cherry Hill Rd\, Canton\, MI\, 48187
CATEGORIES:Public Events
ATTACH;FMTTYPE=image/png:https://villageartsfactory.com/wp-content/uploads/2025/05/Untitled.png
ORGANIZER;CN="Village Arts Factory":MAILTO:kevin.ryan@cantonmi.gov
END:VEVENT
END:VCALENDAR