BEGIN:VCALENDAR
VERSION:2.0
PRODID:-//Village Arts Factory - ECPv6.15.20//NONSGML v1.0//EN
CALSCALE:GREGORIAN
METHOD:PUBLISH
X-ORIGINAL-URL:https://villageartsfactory.com
X-WR-CALDESC:Events for Village Arts Factory
REFRESH-INTERVAL;VALUE=DURATION:PT1H
X-Robots-Tag:noindex
X-PUBLISHED-TTL:PT1H
BEGIN:VTIMEZONE
TZID:America/Detroit
BEGIN:DAYLIGHT
TZOFFSETFROM:-0500
TZOFFSETTO:-0400
TZNAME:EDT
DTSTART:20240310T070000
END:DAYLIGHT
BEGIN:STANDARD
TZOFFSETFROM:-0400
TZOFFSETTO:-0500
TZNAME:EST
DTSTART:20241103T060000
END:STANDARD
BEGIN:DAYLIGHT
TZOFFSETFROM:-0500
TZOFFSETTO:-0400
TZNAME:EDT
DTSTART:20250309T070000
END:DAYLIGHT
BEGIN:STANDARD
TZOFFSETFROM:-0400
TZOFFSETTO:-0500
TZNAME:EST
DTSTART:20251102T060000
END:STANDARD
BEGIN:DAYLIGHT
TZOFFSETFROM:-0500
TZOFFSETTO:-0400
TZNAME:EDT
DTSTART:20260308T070000
END:DAYLIGHT
BEGIN:STANDARD
TZOFFSETFROM:-0400
TZOFFSETTO:-0500
TZNAME:EST
DTSTART:20261101T060000
END:STANDARD
END:VTIMEZONE
BEGIN:VEVENT
DTSTART;TZID=America/Detroit:20250602T180000
DTEND;TZID=America/Detroit:20250602T210000
DTSTAMP:20260424T013801
CREATED:20250513T163037Z
LAST-MODIFIED:20250513T163037Z
UID:2611-1748887200-1748898000@villageartsfactory.com
SUMMARY:Art Exhibit Reception: Nature's Beauty
DESCRIPTION:Nature’s Beauty\, a solo exhibition by Courtney Crider\, is about celebrating the natural beauty of both people and nature – highlighting Black beauty in honor of Juneteenth. Courtney believes that every human is a beautiful creation\, formed by God himself. This Juneteenth\, she wants to highlight Black beauty alongside His floral creations. \nCourtney’s art is first drawn digitally\, freehand on a tablet with a stylus. Her work is then printed as giclee art prints with some of them hand embellished with a variety of materials. Creating mixed media artwork is a newer discipline for Courtney\, as she recently began experimenting with collage art and wanted to incorporate that with her digital paintings. This exhibition will be her first time unveiling her mixed media work to the public eye. Nature’s Beauty will feature new pieces inspired by florals and black beauty\, paired with old favorites that have been newly embellished with mixed media materials. \nA passage from the Bible\, Matthew 6:28-34\, is one thing that inspired this exhibition’s theme: “The lilies of the field neither toil nor spin\, yet they are beautiful as they are. God made them that way. And if even the wild grass is clothed with such beautiful lilies\, how much more will He clothe\, oh yes\, you? If God takes delight in His floral creations\, how much more joyful is He over the beauty of his human creations?” \nPlease join us for the opening reception of Nature’s Beauty on Monday\, June 2 from 6:00 to 9:00pm. All are welcome to come explore the exhibit\, meet the artist\, and partake in light refreshments. The exhibit will remain on public display at the Village Arts Factory through the end of June. Regular gallery hours are 9:00am to 7:00pm\, Monday through Saturday. For more information about the exhibit\, please contact us at: kevin.ryan@cantonmi.gov
URL:https://villageartsfactory.com/event/art-exhibit-reception-natures-beauty/
LOCATION:Village Arts Factory\, 50755 Cherry Hill Rd\, Canton\, MI\, 48188\, United States
CATEGORIES:Public Events
ATTACH;FMTTYPE=image/png:https://villageartsfactory.com/wp-content/uploads/2025/05/Natures-Beauty-Juneteenth-2025.png
ORGANIZER;CN="Village Arts Factory":MAILTO:kevin.ryan@cantonmi.gov
END:VEVENT
BEGIN:VEVENT
DTSTART;TZID=America/Detroit:20250604T181500
DTEND;TZID=America/Detroit:20250604T201500
DTSTAMP:20260424T013801
CREATED:20250131T183122Z
LAST-MODIFIED:20250527T143047Z
UID:2390-1749060900-1749068100@villageartsfactory.com
SUMMARY:Glass Fusion Workshop: Lavender Fields
DESCRIPTION:Come join us for this beautiful “Lavender Fields” Glass Fusion Workshop at the Village Arts Factory! This in-person workshop is simple and fun\, and easy enough for a beginner. It’s the perfect opportunity to spend a relaxing evening crafting and enjoying the unique experience of working with glass. \nWhen purchasing your ticket\, select from making a lavender night light or sun catcher. The clear base piece will be cut for you and we will work with glass that is easy to design with minimal cutting. The cost is $42 per person. All materials will be provided and no previous experience is needed. \nThis glass workshop is appropriate for children ages 10+ who are accompanied by a paid adult; tickets will need to be purchased for both adult and child. All projects will go home with the instructor to kiln fired and will be delivered back to the Village Arts Factory in approximately 10-12 days. An email will be sent out to participants with pick-up instructions. \nPlease note: closed-toed shoes and covered drink containers are required. Sorry\, no snacks allowed. Food and glass do not mix! Please let your friends and family know about the fun! \nClick Here to Register! \nPlease note: Due to the need to purchase class supplies in advance\, there are no refunds for this class within 5 days of the event. If an emergency arises\, you may send someone else in your place.
URL:https://villageartsfactory.com/event/glass-fusion-workshop-lavender-fields/
LOCATION:Village Arts Factory\, 50755 Cherry Hill Rd\, Canton\, MI\, 48188\, United States
CATEGORIES:Public Events
ATTACH;FMTTYPE=image/jpeg:https://villageartsfactory.com/wp-content/uploads/2025/01/LavenderFields.jpg
ORGANIZER;CN="Kiss My Glass":MAILTO:kissmyglassart@yahoo.com
END:VEVENT
BEGIN:VEVENT
DTSTART;TZID=America/Detroit:20250605T183000
DTEND;TZID=America/Detroit:20250605T203000
DTSTAMP:20260424T013801
CREATED:20250507T190318Z
LAST-MODIFIED:20250507T190407Z
UID:2590-1749148200-1749155400@villageartsfactory.com
SUMMARY:Pour With Pride: A Candle-Making Experience of Identity & Joy
DESCRIPTION:Join us for a night of self-love\, creativity\, and community at our Pride Month candle-making experience. Create custom candles that reflect your identity\, journey\, or affirmation of Pride. Each candle will include a personalized scent blend and an affirmation label created by you. Because your light deserves to shine\, and your flame is worth celebrating. \nAll are welcome\, regardless of gender\, orientation\, race\, ethnicity\, religion\, or ability. Ages 21+ only\, please. Light Appetizers and cocktails will be provided. \nFor more information\, please contact us at: kevin.ryan@cantonmi.gov \nEvent Information \nDate: Thursday\, June 5\, 2025 \nLocation: Village Arts Factory\, 50755 Cherry Hill Rd.\, Canton\, MI 48188 \nTime: 6:30pm to 8:30pm \nCost: $45 per person; all materials included
URL:https://villageartsfactory.com/event/pour-with-pride-a-candle-making-experience-of-identity-joy/
LOCATION:Village Arts Factory\, 50755 Cherry Hill Rd\, Canton\, MI\, 48188\, United States
CATEGORIES:Public Events
ATTACH;FMTTYPE=image/png:https://villageartsfactory.com/wp-content/uploads/2025/05/Pour-With-Pride-Banner-Image.png
ORGANIZER;CN="True 2 You Candle Studios":MAILTO:Leslie@true2you.shop
END:VEVENT
BEGIN:VEVENT
DTSTART;TZID=America/Detroit:20250605T190000
DTEND;TZID=America/Detroit:20250605T200000
DTSTAMP:20260424T013801
CREATED:20250521T171548Z
LAST-MODIFIED:20250521T171548Z
UID:2640-1749150000-1749153600@villageartsfactory.com
SUMMARY:Yoga in the Village
DESCRIPTION:The Village Arts Factory is excited to announce the return of Yoga in the Village on Thursday\, June 5\, at 7:00 p.m.! Generously sponsored by The Village Doctor at Cherry Hill\, join us on the lawn of the Cherry Hill Schoolhouse on Thursday evenings at 7:00 p.m. all summer long for a FREE outdoor yoga flow accessible for all fitness levels. Just bring a yoga mat or beach towel and some comfortable clothing; no pre-registration required. Our team of certified yoga instructors will help you stretch your body\, connect with nature\, and calm your mind. No previous experience necessary.\n\nFor scheduling or location changes due to inclement weather\, please follow the Village Arts Factory on Facebook or visit: villageartsfactory.com/events.\n\nGenerously Sponsored By:
URL:https://villageartsfactory.com/event/yoga-in-the-village-15/
LOCATION:Cherry Hill Schoolhouse\, 50440 Cherry Hill Rd\, Canton\, MI\, 48187
CATEGORIES:Public Events
ATTACH;FMTTYPE=image/png:https://villageartsfactory.com/wp-content/uploads/2025/05/Yoga-June-29-1.png
ORGANIZER;CN="Village Arts Factory":MAILTO:kevin.ryan@cantonmi.gov
END:VEVENT
BEGIN:VEVENT
DTSTART;TZID=America/Detroit:20250619T190000
DTEND;TZID=America/Detroit:20250619T200000
DTSTAMP:20260424T013801
CREATED:20250617T134222Z
LAST-MODIFIED:20250618T165611Z
UID:2704-1750359600-1750363200@villageartsfactory.com
SUMMARY:Yoga in the Village
DESCRIPTION:The Village Arts Factory is excited to announce the return of Yoga in the Village this summer! Generously sponsored by The Village Doctor at Cherry Hill\, join us on the lawn of the Cherry Hill Schoolhouse on Thursday evenings at 7:00 p.m. all summer long for a FREE outdoor yoga flow accessible for all fitness levels. Just bring a yoga mat or beach towel and some comfortable clothing; no pre-registration required. Our team of certified yoga instructors will help you stretch your body\, connect with nature\, and calm your mind. No previous experience necessary. \nFor scheduling or location changes due to inclement weather\, please follow the Village Arts Factory on Facebook or visit: villageartsfactory.com/events.
URL:https://villageartsfactory.com/event/yoga-in-the-village-16/
LOCATION:Cherry Hill Schoolhouse\, 50440 Cherry Hill Rd\, Canton\, MI\, 48187
CATEGORIES:Public Events
ATTACH;FMTTYPE=image/png:https://villageartsfactory.com/wp-content/uploads/2025/05/Yoga-June-29-1.png
ORGANIZER;CN="Village Arts Factory":MAILTO:kevin.ryan@cantonmi.gov
END:VEVENT
BEGIN:VEVENT
DTSTART;TZID=America/Detroit:20250621T180000
DTEND;TZID=America/Detroit:20250621T200000
DTSTAMP:20260424T013801
CREATED:20250617T133830Z
LAST-MODIFIED:20250617T133830Z
UID:2700-1750528800-1750536000@villageartsfactory.com
SUMMARY:Pride Trivia Night
DESCRIPTION:Celebrate Pride Month in Canton during this special Trivia Night hosted by Sporcle Trivia\, featuring 2 one-hour games with Pride-themed Trivia Questions and giveaways. Prizes will also be awarded to first-place teams. Those 21+ and over can enjoy Pride Month cocktails. Test your knowledge of important moments in LBGTQIA+ history. Brought to you by Canton Township and the Village Arts Factory as part of PRIDE in Canton. Games are limited to 60 participants; first come\, first served! Assemble your team and join us for a fun night out.
URL:https://villageartsfactory.com/event/pride-trivia-night/
LOCATION:Maraschinos Pub\, 50296 Cherry Hill Rd\, Canton\, MI\, 48187\, United States
CATEGORIES:Public Events
ATTACH;FMTTYPE=image/jpeg:https://villageartsfactory.com/wp-content/uploads/2025/06/509261691_1271547731638166_8681708132833467102_n.jpg
ORGANIZER;CN="Village Arts Factory":MAILTO:kevin.ryan@cantonmi.gov
END:VEVENT
BEGIN:VEVENT
DTSTART;TZID=America/Detroit:20250626T190000
DTEND;TZID=America/Detroit:20250626T200000
DTSTAMP:20260424T013801
CREATED:20250618T165728Z
LAST-MODIFIED:20250618T165728Z
UID:2720-1750964400-1750968000@villageartsfactory.com
SUMMARY:Yoga in the Village
DESCRIPTION:The Village Arts Factory is excited to announce the return of Yoga in the Village this summer! Generously sponsored by The Village Doctor at Cherry Hill\, join us on the lawn of the Cherry Hill Schoolhouse on Thursday evenings at 7:00 p.m. all summer long for a FREE outdoor yoga flow accessible for all fitness levels. Just bring a yoga mat or beach towel and some comfortable clothing; no pre-registration required. Our team of certified yoga instructors will help you stretch your body\, connect with nature\, and calm your mind. No previous experience necessary. \nFor scheduling or location changes due to inclement weather\, please follow the Village Arts Factory on Facebook or visit: villageartsfactory.com/events.
URL:https://villageartsfactory.com/event/yoga-in-the-village-17/
LOCATION:Cherry Hill Schoolhouse\, 50440 Cherry Hill Rd\, Canton\, MI\, 48187
CATEGORIES:Public Events
ATTACH;FMTTYPE=image/png:https://villageartsfactory.com/wp-content/uploads/2025/05/Yoga-June-29-1.png
ORGANIZER;CN="Village Arts Factory":MAILTO:kevin.ryan@cantonmi.gov
END:VEVENT
BEGIN:VEVENT
DTSTART;TZID=America/Detroit:20250629T140000
DTEND;TZID=America/Detroit:20250629T160000
DTSTAMP:20260424T013801
CREATED:20250520T150231Z
LAST-MODIFIED:20250520T150301Z
UID:2626-1751205600-1751212800@villageartsfactory.com
SUMMARY:DOG CAT BIRD FISH: A Wild Mixed Media Workshop
DESCRIPTION:Join us at the Village Arts Factory for DOG CAT BIRD FISH: A Wild Mixed Media Workshop! \nLet’s get CRAZY with collage and mixed media in this exciting hands-on workshop led by artist Daniel Zuber of PARTS: Assemblage Art and Design! Whether you’re a total beginner or a seasoned art rebel\, this session is all about bold experimentation and outrageous creativity. \nWhat to Expect: \n\nAll materials are supplied! ✂️\n\nDive into a treasure trove of papers\, stickers\, scraps\, cut-outs\, letters\, beads\, game pieces\, tacks\, and more! \n\n\nLearn how to mix and match\, rip\, fold\, scribble\, and assemble your way to an unforgettable piece of art. \n\n\nCreate your own DUG\, CAT\, BIRD\, or FISH-inspired masterpiece! \n\n\n💰 Introductory Price: $30.00 per person \n🪑 Only 14 seats available – email to reserve! \n📧 zuber.daniel72@gmail.com \nEvent Details: \n📅 Sunday\, June 29th \n🕑 2:00 – 4:00 PM \n📍 Village Arts Factory – D&M Art Studio \n50755 Cherry Hill Rd\, Suite 10\, Canton\, MI 48188 \n📞 (734) 765-7061
URL:https://villageartsfactory.com/event/dug-cat-bird-fish-a-wild-mixed-media-workshop/
LOCATION:Village Arts Factory\, 50755 Cherry Hill Rd\, Canton\, MI\, 48188\, United States
CATEGORIES:Public Events
ATTACH;FMTTYPE=image/jpeg:https://villageartsfactory.com/wp-content/uploads/2025/05/dcbf.jpg
ORGANIZER;CN="D&M Art Studio":MAILTO:dmartist1@aol.com
END:VEVENT
END:VCALENDAR