BEGIN:VCALENDAR
VERSION:2.0
PRODID:-//Village Arts Factory - ECPv6.15.20//NONSGML v1.0//EN
CALSCALE:GREGORIAN
METHOD:PUBLISH
X-ORIGINAL-URL:https://villageartsfactory.com
X-WR-CALDESC:Events for Village Arts Factory
REFRESH-INTERVAL;VALUE=DURATION:PT1H
X-Robots-Tag:noindex
X-PUBLISHED-TTL:PT1H
BEGIN:VTIMEZONE
TZID:America/Detroit
BEGIN:DAYLIGHT
TZOFFSETFROM:-0500
TZOFFSETTO:-0400
TZNAME:EDT
DTSTART:20240310T070000
END:DAYLIGHT
BEGIN:STANDARD
TZOFFSETFROM:-0400
TZOFFSETTO:-0500
TZNAME:EST
DTSTART:20241103T060000
END:STANDARD
BEGIN:DAYLIGHT
TZOFFSETFROM:-0500
TZOFFSETTO:-0400
TZNAME:EDT
DTSTART:20250309T070000
END:DAYLIGHT
BEGIN:STANDARD
TZOFFSETFROM:-0400
TZOFFSETTO:-0500
TZNAME:EST
DTSTART:20251102T060000
END:STANDARD
BEGIN:DAYLIGHT
TZOFFSETFROM:-0500
TZOFFSETTO:-0400
TZNAME:EDT
DTSTART:20260308T070000
END:DAYLIGHT
BEGIN:STANDARD
TZOFFSETFROM:-0400
TZOFFSETTO:-0500
TZNAME:EST
DTSTART:20261101T060000
END:STANDARD
END:VTIMEZONE
BEGIN:VEVENT
DTSTART;TZID=America/Detroit:20250703T190000
DTEND;TZID=America/Detroit:20250703T200000
DTSTAMP:20260424T003349
CREATED:20250620T144318Z
LAST-MODIFIED:20250620T144318Z
UID:2726-1751569200-1751572800@villageartsfactory.com
SUMMARY:Yoga in the Village
DESCRIPTION:The Village Arts Factory is excited to announce the return of Yoga in the Village this summer! Generously sponsored by The Village Doctor at Cherry Hill\, join us on the lawn of the Cherry Hill Schoolhouse on Thursday evenings at 7:00 p.m. all summer long for a FREE outdoor yoga flow accessible for all fitness levels. Just bring a yoga mat or beach towel and some comfortable clothing; no pre-registration required. Our team of certified yoga instructors will help you stretch your body\, connect with nature\, and calm your mind. No previous experience necessary. \nFor scheduling or location changes due to inclement weather\, please follow the Village Arts Factory on Facebook or visit: villageartsfactory.com/events.
URL:https://villageartsfactory.com/event/yoga-in-the-village-18/
LOCATION:Cherry Hill Schoolhouse\, 50440 Cherry Hill Rd\, Canton\, MI\, 48187
CATEGORIES:Public Events
ATTACH;FMTTYPE=image/png:https://villageartsfactory.com/wp-content/uploads/2025/05/Yoga-June-29-1.png
ORGANIZER;CN="Village Arts Factory":MAILTO:kevin.ryan@cantonmi.gov
END:VEVENT
BEGIN:VEVENT
DTSTART;TZID=America/Detroit:20250709T170000
DTEND;TZID=America/Detroit:20250709T200000
DTSTAMP:20260424T003349
CREATED:20250521T163929Z
LAST-MODIFIED:20250707T203635Z
UID:2630-1752080400-1752091200@villageartsfactory.com
SUMMARY:Concerts & Cuisine: Summer Music and Market Series
DESCRIPTION:Join us in the heart of Cherry Hill Village this July for four consecutive Wednesday nights of live bands\, Canton Farmer’s Market\, mini golf\, food\, art\, and fun! Bring your friends\, family\, and a lawn chair\, and come enjoy the return of this popular community event series at the Village Arts Factory. Generously sponsored by Brackney Chiropractic and funded through a grant from the Partnership for the Arts & Humanities\, this event is free to attend and open to the entire community. We hope to see you there! \nEvent Details: \nLocation: Village Arts Factory\, 50755 Cherry Hill Road \nDate: July 9\, 16\, 23\, 30 \nDay: Wed \nTime: 5:00-8:00pm \nFee: FREE \nAges: All Ages \nRegistration: No pre-registration required \nFood & Music Schedule: \nDate: July 9 \nBand: Denise Davis and the Motor City Sensations \nFood Trucks: Stello’s Burgers and Loaded Fries\, Meltdown Creamery\, Travelin’ Tom’s Coffee & Beverages \nKids’ Crafts: Rhythm Boards\, Coffee Filter Records \nKids’ Snack: Blueberry Sparklers \nAdditional Activities: Face Painting ($)\, Mini Golf (Free) \n— \nDate: July 16 \nBand: Lisa Mary \nFood: Travelin’ Toms \n— \nDate: July 23 \nBand: The Jason Locke Band \nFood: Travelin’ Toms \n— \nDate: July 30 \nBand: Depot Town Big Band \nFood: Travelin’ Toms
URL:https://villageartsfactory.com/event/concerts-cuisine-summer-music-and-market-series/
LOCATION:Village Arts Factory\, 50755 Cherry Hill Rd\, Canton\, MI\, 48188\, United States
CATEGORIES:Public Events
ATTACH;FMTTYPE=image/png:https://villageartsfactory.com/wp-content/uploads/2025/05/Concerts-Cuisine-FB-Banner-2.0.png
ORGANIZER;CN="Village Arts Factory":MAILTO:kevin.ryan@cantonmi.gov
END:VEVENT
BEGIN:VEVENT
DTSTART;TZID=America/Detroit:20250710T100000
DTEND;TZID=America/Detroit:20250710T120000
DTSTAMP:20260424T003349
CREATED:20250617T173140Z
LAST-MODIFIED:20250618T175913Z
UID:2708-1752141600-1752148800@villageartsfactory.com
SUMMARY:Lavender Wreath Workshop with Belle Lavande
DESCRIPTION:Join us at the Village Arts Factory for a Lavender Wreath Workshop with Belle Lavande Lavender Farm! Classes will be offered on Thursday\, July 10 from 10am to 12pm\, 1pm to 3pm. or 6:30 to 8:30pm. The cost is just $65 per person and all materials are included. Instructor Windy Mack of Belle Lavande will guide you in creating a beautiful lavender wreath for your home or garden! \nClick Here to Register!
URL:https://villageartsfactory.com/event/lavender-wreath-workshop-with-belle-lavande/
LOCATION:Village Arts Factory\, 50755 Cherry Hill Rd\, Canton\, MI\, 48188\, United States
CATEGORIES:Public Events
ATTACH;FMTTYPE=image/png:https://villageartsfactory.com/wp-content/uploads/2025/06/Lavender-Wreath-Workshop-June-25.png
ORGANIZER;CN="Belle Lavande Lavender Farm":MAILTO:bellelavande40@gmail.com
END:VEVENT
BEGIN:VEVENT
DTSTART;TZID=America/Detroit:20250710T130000
DTEND;TZID=America/Detroit:20250710T150000
DTSTAMP:20260424T003349
CREATED:20250617T173641Z
LAST-MODIFIED:20250618T180011Z
UID:2712-1752152400-1752159600@villageartsfactory.com
SUMMARY:Lavender Wreath Workshop with Belle Lavande
DESCRIPTION:Join us at the Village Arts Factory for a Lavender Wreath Workshop with Belle Lavande Lavender Farm! Classes will be offered on Thursday\, July 10 from 10am to 12pm\, 1pm to 3pm\, or 6:30 to 8:30pm. The cost is just $65 per person and all materials are included. Instructor Windy Mack of Belle Lavande will guide you in creating a beautiful lavender wreath for your home or garden! \nClick Here to Register!
URL:https://villageartsfactory.com/event/lavender-wreath-workshop-with-belle-lavande-2/
LOCATION:Village Arts Factory\, 50755 Cherry Hill Rd\, Canton\, MI\, 48188\, United States
CATEGORIES:Public Events
ATTACH;FMTTYPE=image/png:https://villageartsfactory.com/wp-content/uploads/2025/06/Lavender-Wreath-Workshop-June-25.png
ORGANIZER;CN="Belle Lavande Lavender Farm":MAILTO:bellelavande40@gmail.com
END:VEVENT
BEGIN:VEVENT
DTSTART;TZID=America/Detroit:20250710T183000
DTEND;TZID=America/Detroit:20250710T203000
DTSTAMP:20260424T003349
CREATED:20250618T165150Z
LAST-MODIFIED:20250620T141647Z
UID:2717-1752172200-1752179400@villageartsfactory.com
SUMMARY:Lavender Wreath Workshop with Belle Lavande
DESCRIPTION:Join us at the Village Arts Factory for a Lavender Wreath Workshop with Belle Lavande Lavender Farm! Classes will be offered on Thursday\, July 10 from 10am to 12pm\, 1pm to 3pm\, or 6:30 to 8:30pm. The cost is just $65 per person and all materials are included. Instructor Windy Mack of Belle Lavande will guide you in creating a beautiful lavender wreath for your home or garden! \nClick Here to Register!
URL:https://villageartsfactory.com/event/lavender-wreath-workshop-with-belle-lavande-3/
LOCATION:Village Arts Factory\, 50755 Cherry Hill Rd\, Canton\, MI\, 48188\, United States
CATEGORIES:Public Events
ATTACH;FMTTYPE=image/png:https://villageartsfactory.com/wp-content/uploads/2025/06/Lavender-Wreath-Workshop-June-25.png
ORGANIZER;CN="Belle Lavande Lavender Farm":MAILTO:bellelavande40@gmail.com
END:VEVENT
BEGIN:VEVENT
DTSTART;TZID=America/Detroit:20250711T180000
DTEND;TZID=America/Detroit:20250711T200000
DTSTAMP:20260424T003349
CREATED:20250617T133120Z
LAST-MODIFIED:20250617T160914Z
UID:2697-1752256800-1752264000@villageartsfactory.com
SUMMARY:Art Exhibit Reception: A Secret Garden by Gabrielle Dolin
DESCRIPTION:Step into A Secret Garden\, a visually rich collection of works exploring the beauty\, intricacy\, and symbolism of the natural world. Through delicate studies of plant life\, mushrooms\, insects\, ornamental glass\, and tile\, this exhibit blends the organic with the ornamental—infused with the graceful curves and decorative elegance of the Art Nouveau movement. \nPrimarily working in watercolor and oil\, Gabrielle Dolin draws inspiration from Michigan’s native flora and fauna\, combining artistic tradition with contemporary reflection. Underneath the visual allure lie deeper themes of connection\, rejection\, intimacy\, and the transformation of parts into wholes—offering viewers a quiet invitation to discover personal meaning in each piece. \nThe artist is a self-taught creative from Fowlerville\, Michigan\, and a graduate of Eastern Michigan University with a Bachelor’s in Psychology. Currently pursuing a master’s degree in Counseling and Art Therapy at Wayne State University\, she brings a therapeutic lens to her creative process. Her work has been featured in Cellar Roots and the Riverside Arts Center\, and she received honorable mention at the Three Cities Art Club’s Juried Exhibition for her piece Nouveau Ballet. In addition to her personal art practice\, she serves as a Therapeutic Arts Specialist with the Partnership for the Arts and Humanities\, helping young artists find expression and healing through creative exploration. \nJoin us at the Village Arts Factory for the exhibit opening reception on Friday\, July 11\, from 6pm to 8pm. A Secret Garden is more than a visual journey—it’s a testament to the beauty of close observation\, the quiet symbolism of nature\, and the healing potential of art.
URL:https://villageartsfactory.com/event/art-exhibit-reception-a-secret-garden-by-gabrielle-dolin/
LOCATION:Village Arts Factory\, 50755 Cherry Hill Rd\, Canton\, MI\, 48188\, United States
CATEGORIES:Public Events
ATTACH;FMTTYPE=image/png:https://villageartsfactory.com/wp-content/uploads/2025/06/White-Soft-Brown-Professional-Elegant-Marketing-Strategy-Presentation-169_20250617_120510_0000.png
ORGANIZER;CN="Village Arts Factory":MAILTO:kevin.ryan@cantonmi.gov
END:VEVENT
BEGIN:VEVENT
DTSTART;TZID=America/Detroit:20250716T170000
DTEND;TZID=America/Detroit:20250716T200000
DTSTAMP:20260424T003349
CREATED:20250521T164948Z
LAST-MODIFIED:20250714T202351Z
UID:2633-1752685200-1752696000@villageartsfactory.com
SUMMARY:Concerts & Cuisine: Summer Music and Market Series
DESCRIPTION:Join us in the heart of Cherry Hill Village this July for four consecutive Wednesday nights of live bands\, Canton Farmer’s Market\, mini golf\, food\, art\, and fun! Bring your friends\, family\, and a lawn chair\, and come enjoy the return of this popular community event series at the Village Arts Factory. Generously sponsored by Brackney Chiropractic and funded through a grant from the Partnership for the Arts & Humanities\, this event is free to attend and open to the entire community. We hope to see you there! \nEvent Details: \nLocation: Village Arts Factory\, 50755 Cherry Hill Road \nDates: July 9\, 16\, 23\, 30 \nDay: Wed \nTime: 5:00-8:00pm \nFee: FREE \nAges: All Ages \nRegistration: No pre-registration required \nMusic\, Food\, and Activities: \nDate: July 16 \nBand: Lisa Mary \nFood Trucks: LittleBite BigTaste\, Kona Ice\, Travelin’ Toms \nKids Crafts: Wooden Music Notes\, Popsicle Stick Harmonicas\, Apple Butter & Biscuits Snack \nOther Activities: Indoor Mini Golf Course\, Face Painting ($)
URL:https://villageartsfactory.com/event/concerts-cuisine-summer-music-and-market-series-2/
LOCATION:Village Arts Factory\, 50755 Cherry Hill Rd\, Canton\, MI\, 48188\, United States
CATEGORIES:Public Events
ATTACH;FMTTYPE=image/png:https://villageartsfactory.com/wp-content/uploads/2025/05/Concerts-Cuisine-FB-Banner-2.0.png
ORGANIZER;CN="Village Arts Factory":MAILTO:kevin.ryan@cantonmi.gov
END:VEVENT
BEGIN:VEVENT
DTSTART;TZID=America/Detroit:20250717T190000
DTEND;TZID=America/Detroit:20250717T200000
DTSTAMP:20260424T003349
CREATED:20250714T202755Z
LAST-MODIFIED:20250714T202818Z
UID:2802-1752778800-1752782400@villageartsfactory.com
SUMMARY:Yoga in the Village
DESCRIPTION:The Village Arts Factory is excited to announce the return of Yoga in the Village this summer! Generously sponsored by The Village Doctor at Cherry Hill\, join us on the lawn of the Cherry Hill Schoolhouse on Thursday evenings at 7:00 p.m. all summer long for a FREE outdoor yoga flow accessible for all fitness levels. Just bring a yoga mat or beach towel and some comfortable clothing; no pre-registration required. Our team of certified yoga instructors will help you stretch your body\, connect with nature\, and calm your mind. No previous experience necessary. \nFor scheduling or location changes due to inclement weather\, please follow the Village Arts Factory on Facebook or visit: villageartsfactory.com/events.
URL:https://villageartsfactory.com/event/2802/
LOCATION:Cherry Hill Schoolhouse\, 50440 Cherry Hill Rd\, Canton\, MI\, 48187
CATEGORIES:Public Events
ATTACH;FMTTYPE=image/png:https://villageartsfactory.com/wp-content/uploads/2025/05/Yoga-June-29-1.png
ORGANIZER;CN="Village Arts Factory":MAILTO:kevin.ryan@cantonmi.gov
END:VEVENT
BEGIN:VEVENT
DTSTART;TZID=America/Detroit:20250719T100000
DTEND;TZID=America/Detroit:20250719T113000
DTSTAMP:20260424T003349
CREATED:20250311T190707Z
LAST-MODIFIED:20250620T142213Z
UID:2505-1752919200-1752924600@villageartsfactory.com
SUMMARY:Cherry Hill Village Art Walk
DESCRIPTION:Join us for these special Art Walks that will be held quarterly in beautiful Cherry Hill Village! \nWe’ll meet at The Village Theater where we’ll enjoy donuts and coffee and view the current exhibit at the Gallery at Cherry Hill Village\, located at 50400 Cherry Hill Road.  Next\, we’ll head to the Village Arts Factory for a short tour where we’ll end our walk enjoying the Fine Art Gallery’s current exhibit. This is a wonderful opportunity to view the beautiful art on display in Cherry Hill Village\, guided by the gallery coordinators at both facilities. All ages are welcome to attend! \nThese events are FREE and open to the public.  Pre-registration is required. \nAdditional Art Walk dates are Saturday\, May 3 and Saturday\, October 4. \nFor additional information or to register over the phone\, please contact kevin.ryan@cantonmi.gov or call 734/386-0650
URL:https://villageartsfactory.com/event/cherry-hill-village-art-walk-4/
LOCATION:Cherry Hill Village\, Canton\, MI\, 48188\, United States
CATEGORIES:Public Events
ATTACH;FMTTYPE=image/jpeg:https://villageartsfactory.com/wp-content/uploads/2025/03/2025-Art-Walks-Banner-scaled.jpg
END:VEVENT
BEGIN:VEVENT
DTSTART;TZID=America/Detroit:20250723T170000
DTEND;TZID=America/Detroit:20250723T200000
DTSTAMP:20260424T003349
CREATED:20250521T165233Z
LAST-MODIFIED:20250521T194355Z
UID:2635-1753290000-1753300800@villageartsfactory.com
SUMMARY:Concerts & Cuisine: Summer Music and Market Series
DESCRIPTION:Join us in the heart of Cherry Hill Village this July for four consecutive Wednesday nights of live bands\, Canton Farmer’s Market\, mini golf\, food\, art\, and fun! Bring your friends\, family\, and a lawn chair\, and come enjoy the return of this popular community event series at the Village Arts Factory.  Generously sponsored by Brackney Chiropractic and funded through a grant from the Partnership for the Arts & Humanities\, this event is free to attend and open to the entire community. We hope to see you there! \nEvent Details: \nLocation: Village Arts Factory\, 50755 Cherry Hill Road \nDate: July 9\, 16\, 23\, 30 \nDay: Wed \nTime: 5:00-8:00pm \nFee: FREE \nAges: All Ages \nRegistration: No pre-registration required \nFood & Music Schedule: \nDate: July 9 \nBand: Denise Davis and the Motor City Sensations \nFood: Travelin’ Toms \n— \nDate: July 16 \nBand: Lisa Mary \nFood: Travelin’ Toms \n— \nDate: July 23 \nBand: The Jason Locke Band \nFood: Travelin’ Toms \n— \nDate: July 30 \nBand: Depot Town Big Band \nFood: Travelin’ Toms
URL:https://villageartsfactory.com/event/concerts-cuisine-summer-music-and-market-series-3/
LOCATION:Village Arts Factory\, 50755 Cherry Hill Rd\, Canton\, MI\, 48188\, United States
CATEGORIES:Public Events
ATTACH;FMTTYPE=image/png:https://villageartsfactory.com/wp-content/uploads/2025/05/Concerts-Cuisine-FB-Banner-2.0.png
ORGANIZER;CN="Village Arts Factory":MAILTO:kevin.ryan@cantonmi.gov
END:VEVENT
BEGIN:VEVENT
DTSTART;TZID=America/Detroit:20250724T190000
DTEND;TZID=America/Detroit:20250724T200000
DTSTAMP:20260424T003349
CREATED:20250714T202953Z
LAST-MODIFIED:20250714T202953Z
UID:2805-1753383600-1753387200@villageartsfactory.com
SUMMARY:Yoga in the Village
DESCRIPTION:The Village Arts Factory is excited to announce the return of Yoga in the Village this summer! Generously sponsored by The Village Doctor at Cherry Hill\, join us on the lawn of the Cherry Hill Schoolhouse on Thursday evenings at 7:00 p.m. all summer long for a FREE outdoor yoga flow accessible for all fitness levels. Just bring a yoga mat or beach towel and some comfortable clothing; no pre-registration required. Our team of certified yoga instructors will help you stretch your body\, connect with nature\, and calm your mind. No previous experience necessary. \nFor scheduling or location changes due to inclement weather\, please follow the Village Arts Factory on Facebook or visit: villageartsfactory.com/events.
URL:https://villageartsfactory.com/event/yoga-in-the-village-19/
LOCATION:Cherry Hill Schoolhouse\, 50440 Cherry Hill Rd\, Canton\, MI\, 48187
CATEGORIES:Public Events
ATTACH;FMTTYPE=image/png:https://villageartsfactory.com/wp-content/uploads/2025/05/Yoga-June-29-1.png
ORGANIZER;CN="Village Arts Factory":MAILTO:kevin.ryan@cantonmi.gov
END:VEVENT
BEGIN:VEVENT
DTSTART;TZID=America/Detroit:20250729T181500
DTEND;TZID=America/Detroit:20250729T201500
DTSTAMP:20260424T003349
CREATED:20250429T203730Z
LAST-MODIFIED:20250714T201919Z
UID:2575-1753812900-1753820100@villageartsfactory.com
SUMMARY:Glass Fusion Workshop: Sunflowers
DESCRIPTION:Come join us for this beautiful “Sunflowers” Glass Fusion Workshop at the Village Arts Factory! This in-person workshop is simple and fun\, and easy enough for a beginner. It’s the perfect opportunity to spend a relaxing evening crafting and enjoying the unique experience of working with glass. With flowers\, we enjoy more of life’s beauty! \nParticipants can choose from making a nightlight or a sun catcher the evening of the class. The cost is $42 per person. All materials will be provided and no previous experience is needed. \nThis glass workshop is appropriate for children ages 10+ who are accompanied by a paid adult; tickets will need to be purchased for both adult and child. All projects will go home with the instructor to be kiln fired and will be delivered back to the Village Arts Factory in approximately 10-12 days. An email will be sent out to participants with pick-up instructions. \nPlease note: closed-toed shoes and covered drink containers are required. Sorry\, no snacks allowed. Food and glass do not mix! Please let your friends and family know about the fun! Our instructor is Laurie with Kiss MyGlass. \nClick Here to Register! \nPlease note: Due to the need to purchase class supplies in advance\, there are no refunds for this class within 5 days of the event. If an emergency arises\, you may send someone else in your place.
URL:https://villageartsfactory.com/event/glass-fusion-workshop-sunflowers/
LOCATION:Village Arts Factory\, 50755 Cherry Hill Rd\, Canton\, MI\, 48188\, United States
CATEGORIES:Public Events
ATTACH;FMTTYPE=image/jpeg:https://villageartsfactory.com/wp-content/uploads/2025/04/Sunflowers.jpg
ORGANIZER;CN="Kiss My Glass":MAILTO:kissmyglassart@yahoo.com
END:VEVENT
BEGIN:VEVENT
DTSTART;TZID=America/Detroit:20250730T170000
DTEND;TZID=America/Detroit:20250730T200000
DTSTAMP:20260424T003349
CREATED:20250521T165457Z
LAST-MODIFIED:20250521T194555Z
UID:2638-1753894800-1753905600@villageartsfactory.com
SUMMARY:Concerts & Cuisine: Summer Music and Market Series
DESCRIPTION:Join us in the heart of Cherry Hill Village this July for four consecutive Wednesday nights of live bands\, Canton Farmer’s Market\, mini golf\, food\, art\, and fun! Bring your friends\, family\, and a lawn chair\, and come enjoy the return of this popular community event series at the Village Arts Factory. Generously sponsored by Brackney Chiropractic and funded through a grant from the Partnership for the Arts & Humanities\, this event is free to attend and open to the entire community. We hope to see you there! \nEvent Details: \nLocation: Village Arts Factory\, 50755 Cherry Hill Road \nDate: July 9\, 16\, 23\, 30 \nDay: Wed \nTime: 5:00-8:00pm \nFee: FREE \nAges: All Ages \nRegistration: No pre-registration required \nFood & Music Schedule: \nDate: July 9 \nBand: Denise Davis and the Motor City Sensations \nFood: Travelin’ Toms \n— \nDate: July 16 \nBand: Lisa Mary \nFood: Travelin’ Toms \n— \nDate: July 23 \nBand: The Jason Locke Band \nFood: Travelin’ Toms \n— \nDate: July 30 \nBand: Depot Town Big Band \nFood: Travelin’ Toms
URL:https://villageartsfactory.com/event/concerts-cuisine-summer-music-and-market-series-4/
LOCATION:Village Arts Factory\, 50755 Cherry Hill Rd\, Canton\, MI\, 48188\, United States
CATEGORIES:Public Events
ATTACH;FMTTYPE=image/png:https://villageartsfactory.com/wp-content/uploads/2025/05/Concerts-Cuisine-FB-Banner-2.0.png
ORGANIZER;CN="Village Arts Factory":MAILTO:kevin.ryan@cantonmi.gov
END:VEVENT
BEGIN:VEVENT
DTSTART;TZID=America/Detroit:20250731T190000
DTEND;TZID=America/Detroit:20250731T200000
DTSTAMP:20260424T003349
CREATED:20250714T203212Z
LAST-MODIFIED:20250714T203212Z
UID:2807-1753988400-1753992000@villageartsfactory.com
SUMMARY:Yoga in the Village
DESCRIPTION:The Village Arts Factory is excited to announce the return of Yoga in the Village this summer! Generously sponsored by The Village Doctor at Cherry Hill\, join us on the lawn of the Cherry Hill Schoolhouse on Thursday evenings at 7:00 p.m. all summer long for a FREE outdoor yoga flow accessible for all fitness levels. Just bring a yoga mat or beach towel and some comfortable clothing; no pre-registration required. Our team of certified yoga instructors will help you stretch your body\, connect with nature\, and calm your mind. No previous experience necessary. \nFor scheduling or location changes due to inclement weather\, please follow the Village Arts Factory on Facebook or visit: villageartsfactory.com/events.
URL:https://villageartsfactory.com/event/yoga-in-the-village-20/
LOCATION:Cherry Hill Schoolhouse\, 50440 Cherry Hill Rd\, Canton\, MI\, 48187
CATEGORIES:Public Events
ATTACH;FMTTYPE=image/png:https://villageartsfactory.com/wp-content/uploads/2025/05/Yoga-June-29-1.png
ORGANIZER;CN="Village Arts Factory":MAILTO:kevin.ryan@cantonmi.gov
END:VEVENT
END:VCALENDAR