BEGIN:VCALENDAR
VERSION:2.0
PRODID:-//Village Arts Factory - ECPv6.15.20//NONSGML v1.0//EN
CALSCALE:GREGORIAN
METHOD:PUBLISH
X-ORIGINAL-URL:https://villageartsfactory.com
X-WR-CALDESC:Events for Village Arts Factory
REFRESH-INTERVAL;VALUE=DURATION:PT1H
X-Robots-Tag:noindex
X-PUBLISHED-TTL:PT1H
BEGIN:VTIMEZONE
TZID:America/Detroit
BEGIN:DAYLIGHT
TZOFFSETFROM:-0500
TZOFFSETTO:-0400
TZNAME:EDT
DTSTART:20240310T070000
END:DAYLIGHT
BEGIN:STANDARD
TZOFFSETFROM:-0400
TZOFFSETTO:-0500
TZNAME:EST
DTSTART:20241103T060000
END:STANDARD
BEGIN:DAYLIGHT
TZOFFSETFROM:-0500
TZOFFSETTO:-0400
TZNAME:EDT
DTSTART:20250309T070000
END:DAYLIGHT
BEGIN:STANDARD
TZOFFSETFROM:-0400
TZOFFSETTO:-0500
TZNAME:EST
DTSTART:20251102T060000
END:STANDARD
BEGIN:DAYLIGHT
TZOFFSETFROM:-0500
TZOFFSETTO:-0400
TZNAME:EDT
DTSTART:20260308T070000
END:DAYLIGHT
BEGIN:STANDARD
TZOFFSETFROM:-0400
TZOFFSETTO:-0500
TZNAME:EST
DTSTART:20261101T060000
END:STANDARD
END:VTIMEZONE
BEGIN:VEVENT
DTSTART;TZID=America/Detroit:20251110T181500
DTEND;TZID=America/Detroit:20251110T201500
DTSTAMP:20260423T195420
CREATED:20250915T141707Z
LAST-MODIFIED:20251001T202443Z
UID:2986-1762798500-1762805700@villageartsfactory.com
SUMMARY:Glass Fusion Workshop: O Christmas Tree
DESCRIPTION:Come join us at the Village Arts Factory to create your very own Christmas Tree in beautiful colors at our November 10th Glass Fusion Workshop! It’s the perfect opportunity to spend a relaxing evening crafting and enjoying the unique experience of working with glass. \nThe cost is $42 per person and includes 2-hours of instruction. All materials will be provided and no previous experience is needed. The instructor will guide you through cutting and assembling the glass to make a beautiful tea light candle holder or nightlight just in time for the holiday season to arrive. The finished project is approximate 3.5″ – 4.5″ in size. \nThis glass workshop is appropriate for adults of all ages and skill levels. On a scale of 1 to 10\, this class difficulty is a 3\, so simple enough for a beginner. You will create your unique design by using a special tac glue as an adhesive. All projects will go home with the instructor to be kiln fired and will be delivered back to the Village Arts Factory in approximately 10-12 days. An email will be sent out to participants with pick-up instructions. \nPlease note: closed-toed shoes and covered drink containers are required. Sorry\, no snacks allowed. Food and glass do not mix! Please let your friends and family know about the fun! Our instructor is Laurie with Kiss My Glass. \nPlease note: Due to the need to purchase class supplies in advance\, there are no refunds for this class within 5 days of the event. If an emergency arises\, you may send someone else in your place. \nClick Here to Register!
URL:https://villageartsfactory.com/event/glass-fusion-workshop-o-christmas-tree/
LOCATION:Village Arts Factory\, 50755 Cherry Hill Rd\, Canton\, MI\, 48188\, United States
CATEGORIES:Public Events
ATTACH;FMTTYPE=image/png:https://villageartsfactory.com/wp-content/uploads/2025/09/O-Christmas-Tree-Banner.png
ORGANIZER;CN="Kiss My Glass":MAILTO:kissmyglassart@yahoo.com
END:VEVENT
BEGIN:VEVENT
DTSTART;TZID=America/Detroit:20251114T180000
DTEND;TZID=America/Detroit:20251114T200000
DTSTAMP:20260423T195420
CREATED:20251020T203208Z
LAST-MODIFIED:20251020T203208Z
UID:3072-1763143200-1763150400@villageartsfactory.com
SUMMARY:Art Exhibit Reception: Whispers of the Inner World
DESCRIPTION:Step into a world where the soul’s private language takes form. Whispers of the Inner World invites viewers on an intimate and dramatic journey through the subconscious\, memory\, and raw human emotion. Through this deeply expressive body of work\, international mixed-media artist Kseniya Hauptmann explores the invisible landscapes of the heart — the intensity of buried feelings\, the grace of connection\, and the forces that shape our inner lives. \nHauptmann’s mixed-media approach delicately balances abstraction and figuration\, merging materials and textures to mirror the complexity of human experience. Influenced by Impressionism yet driven by experimentation\, her paintings reveal layers of depth and emotion that shift with light and perspective. Each piece seems to breathe with its own rhythm — a whisper of vulnerability\, strength\, and transformation. \nOriginally from Belarus\, Hauptmann studied fine art\, art history\, and interior design before turning her focus to painting in 2017. Her work has since been featured in exhibitions and galleries across the world\, celebrated for its unique blend of creativity\, innovation\, and emotional resonance. Through her art\, she continues to push boundaries\, offering a contemplative space where imagination meets introspection. \nJoin us for the Opening Reception on Friday\, November 14\, from 6:00 to 8:00 PM at the Village Arts Factory. Enjoy refreshments\, meet the artist\, and experience Whispers of the Inner World in person — a collection that reminds us that even the quietest emotions can speak volumes.
URL:https://villageartsfactory.com/event/art-exhibit-reception-whispers-of-the-inner-world/
LOCATION:Village Arts Factory\, 50755 Cherry Hill Rd\, Canton\, MI\, 48188\, United States
CATEGORIES:Public Events
ATTACH;FMTTYPE=image/png:https://villageartsfactory.com/wp-content/uploads/2025/10/Kseniya-Hauptmann.png
ORGANIZER;CN="Village Arts Factory":MAILTO:kevin.ryan@cantonmi.gov
END:VEVENT
BEGIN:VEVENT
DTSTART;TZID=America/Detroit:20251121T181500
DTEND;TZID=America/Detroit:20251121T201500
DTSTAMP:20260423T195420
CREATED:20251001T200612Z
LAST-MODIFIED:20251001T202343Z
UID:3013-1763748900-1763756100@villageartsfactory.com
SUMMARY:Glass Fusion Workshop: Wreath Ornaments
DESCRIPTION:Come join us at the Village Arts Factory to create your very own Wreath Ornament in beautiful colors at our November 21st Glass Fusion Workshop! It’s the perfect opportunity to spend a relaxing evening crafting and enjoying the unique experience of working with glass. \nThe cost is $42 per person and includes 2-hours of instruction. All materials will be provided and no previous experience is needed. The instructor will guide you through cutting and assembling the glass to make a beautiful hanging wreath ornament just in time for the holiday season to arrive. The finished project is approximate 4″ in size. \nThis glass workshop is appropriate for adults of all ages and skill levels; simple enough for a beginner. You will create your unique design by using a special tac glue as an adhesive. All projects will go home with the instructor to be kiln fired and will be delivered back to the Village Arts Factory in approximately 10-12 days. An email will be sent out to participants with pick-up instructions. \nPlease note: closed-toed shoes and covered drink containers are required. Sorry\, no snacks allowed. Food and glass do not mix! Please let your friends and family know about the fun! Our instructor is Laurie with Kiss My Glass. \nPlease note: Due to the need to purchase class supplies in advance\, there are no refunds for this class within 5 days of the event. If an emergency arises\, you may send someone else in your place. \nClick Here to Register!
URL:https://villageartsfactory.com/event/glass-fusion-workshop-wreath-ornaments/
LOCATION:Village Arts Factory\, 50755 Cherry Hill Rd\, Canton\, MI\, 48188\, United States
CATEGORIES:Public Events
ATTACH;FMTTYPE=image/png:https://villageartsfactory.com/wp-content/uploads/2025/10/Glass-Wreaths.png
ORGANIZER;CN="Kiss My Glass":MAILTO:kissmyglassart@yahoo.com
END:VEVENT
BEGIN:VEVENT
DTSTART;TZID=America/Detroit:20251122T140000
DTEND;TZID=America/Detroit:20251122T160000
DTSTAMP:20260423T195420
CREATED:20251028T155729Z
LAST-MODIFIED:20251028T155729Z
UID:3075-1763820000-1763827200@villageartsfactory.com
SUMMARY:Village Arts Factory Studio Stroll
DESCRIPTION:🎨 You’re Invited! Village Arts Factory Studio Stroll: Open House & Holiday Sale\nJoin us for the Village Arts Factory Studio Stroll on Saturday\, November 22\, from 2:00 PM to 4:00 PM! \nExplore the vibrant creative hub of the Village Arts Factory during our special Open House event. This is your chance to: \n\nStroll through the Studios: Wander the hallways and peek into the working studios of our resident artists. See where the magic happens and meet the talented individuals behind the art!\nDiscover Unique Art: Engage with painters\, photographers\, candle makers\, and various artisans\, and find one-of-a-kind pieces perfect for gifts or your own collection.\nShop the Cherry Hill Potters Guild Holiday Sale: Don’t miss the annual holiday sale featuring beautiful\, handcrafted pottery and ceramics. It’s the perfect opportunity to find unique holiday gifts\, from mugs and dishware to decorative accents and ornaments.\n\nDate: Saturday\, November 22 Time: 2:00 PM – 4:00 PM Location: Village Arts Factory Learn More: www.villageartsfactory.com \nCome celebrate local art\, find inspiration\, and get a head start on your holiday shopping!
URL:https://villageartsfactory.com/event/village-arts-factory-studio-stroll/
LOCATION:Village Arts Factory\, 50755 Cherry Hill Rd\, Canton\, MI\, 48188\, United States
CATEGORIES:Public Events
ATTACH;FMTTYPE=image/png:https://villageartsfactory.com/wp-content/uploads/2025/10/Post-card.png
ORGANIZER;CN="Village Arts Factory":MAILTO:kevin.ryan@cantonmi.gov
END:VEVENT
BEGIN:VEVENT
DTSTART;TZID=America/Detroit:20251130T130000
DTEND;TZID=America/Detroit:20251130T160000
DTSTAMP:20260423T195420
CREATED:20251101T012009Z
LAST-MODIFIED:20251101T012009Z
UID:3084-1764507600-1764518400@villageartsfactory.com
SUMMARY:What Is Winter? -- Collage\, Mixed Media & Assemblage Workshop
DESCRIPTION:What Is Winter? — Collage\, Mixed Media & Assemblage WorkshopSunday\, November 30 | 1–4 PMVillage Arts Factory\, 50755 Cherry Hill Rd\, Canton\, MI \nMake art part of your Thanksgiving weekend! Join artist and designer Daniel Zuber for What Is Winter?\, a hands-on creative workshop exploring the textures\, moods\, and meanings of the winter season through collage\, mixed media\, and assemblage. \nDiscover how to translate your thoughts and feelings about winter into visual poetry using a wide variety of materials—papers\, textures\, metal\, wood\, found objects\, stamps\, and more. Whether you’re inspired by the chill in the air or the warmth of the holidays\, Daniel will guide you through creating something simple\, abstract\, or deeply personal. \nAll tools and supplies are provided\, from paint and glue guns to Mod Podge\, wire\, nails\, and cutting tools—just bring your imagination! \nDaniel Zuber\, a graduate with honors from the College for Creative Studies with a BFA in Visual Communication\, brings his background as a graphic designer\, food photographer\, and avid crafter to this fun\, experimental session. \nCost: $30 per personEmail: Zuber.Daniel72@gmail.com to reserve your seat \nCome unwind after the holiday rush\, get creative\, and see where your imagination takes you! Please note that children under the age of 12 must be accompanied by a supervising adult.
URL:https://villageartsfactory.com/event/what-is-winter-collage-mixed-media-assemblage-workshop/
LOCATION:Village Arts Factory\, 50755 Cherry Hill Rd\, Canton\, MI\, 48188\, United States
CATEGORIES:Public Events
ATTACH;FMTTYPE=image/png:https://villageartsfactory.com/wp-content/uploads/2025/10/What-Is-Winter-ZUBER-Banner-2.png
ORGANIZER;CN="Daniel Zuber":MAILTO:zuber.daniel72@gmail.com
END:VEVENT
END:VCALENDAR