BEGIN:VCALENDAR
VERSION:2.0
PRODID:-//Village Arts Factory - ECPv6.15.20//NONSGML v1.0//EN
CALSCALE:GREGORIAN
METHOD:PUBLISH
X-ORIGINAL-URL:https://villageartsfactory.com
X-WR-CALDESC:Events for Village Arts Factory
REFRESH-INTERVAL;VALUE=DURATION:PT1H
X-Robots-Tag:noindex
X-PUBLISHED-TTL:PT1H
BEGIN:VTIMEZONE
TZID:America/Detroit
BEGIN:DAYLIGHT
TZOFFSETFROM:-0500
TZOFFSETTO:-0400
TZNAME:EDT
DTSTART:20240310T070000
END:DAYLIGHT
BEGIN:STANDARD
TZOFFSETFROM:-0400
TZOFFSETTO:-0500
TZNAME:EST
DTSTART:20241103T060000
END:STANDARD
BEGIN:DAYLIGHT
TZOFFSETFROM:-0500
TZOFFSETTO:-0400
TZNAME:EDT
DTSTART:20250309T070000
END:DAYLIGHT
BEGIN:STANDARD
TZOFFSETFROM:-0400
TZOFFSETTO:-0500
TZNAME:EST
DTSTART:20251102T060000
END:STANDARD
BEGIN:DAYLIGHT
TZOFFSETFROM:-0500
TZOFFSETTO:-0400
TZNAME:EDT
DTSTART:20260308T070000
END:DAYLIGHT
BEGIN:STANDARD
TZOFFSETFROM:-0400
TZOFFSETTO:-0500
TZNAME:EST
DTSTART:20261101T060000
END:STANDARD
END:VTIMEZONE
BEGIN:VEVENT
DTSTART;TZID=America/Detroit:20251203T181500
DTEND;TZID=America/Detroit:20251203T201500
DTSTAMP:20260423T182138
CREATED:20251007T150218Z
LAST-MODIFIED:20251007T150326Z
UID:3045-1764785700-1764792900@villageartsfactory.com
SUMMARY:Glass Fusion Workshop: "Oh\, What Fun!" Snowmen
DESCRIPTION:Come join us at the Village Arts Factory to create your very own adorable snowman at our December 3rd Glass Fusion Workshop! It’s the perfect opportunity to spend a relaxing evening crafting and enjoying the unique experience of working with glass. \nChoose from making a nightlight ($42) or wooden LED display ($50). All materials will be provided and no previous experience is needed. The instructor will guide you through assembling the glass to make a beautiful snowman just in time for the holiday season to arrive. The finished nightlight is approximately 3.25″; the finished wood LED display is approximately 5″ tall on a 4″ base. \nThis is a super simple class\, designed for a beginner and we will be using glass frit that is easy to use. You will create your unique design by using a special tac glue as an adhesive. All projects will go home with the instructor to be kiln fired and will be delivered back to the Village Arts Factory in approximately 10-12 days. An email will be sent out to participants with pick-up instructions. \nPlease note: closed-toed shoes and covered drink containers are required. Sorry\, no snacks allowed. Food and glass do not mix! Please let your friends and family know about the fun! Our instructor is Laurie with Kiss My Glass. \nPlease note: Due to the need to purchase class supplies in advance\, there are no refunds for this class within 5 days of the event. If an emergency arises\, you may send someone else in your place. \nClick Here to Register!
URL:https://villageartsfactory.com/event/glass-fusion-workshop-oh-what-fun-snowmen/
LOCATION:Village Arts Factory\, 50755 Cherry Hill Rd\, Canton\, MI\, 48188\, United States
CATEGORIES:Public Events
ATTACH;FMTTYPE=image/jpeg:https://villageartsfactory.com/wp-content/uploads/2025/10/OhWhatFunSnowman.jpg
ORGANIZER;CN="Kiss My Glass":MAILTO:kissmyglassart@yahoo.com
END:VEVENT
BEGIN:VEVENT
DTSTART;TZID=America/Detroit:20251206T150000
DTEND;TZID=America/Detroit:20251206T193000
DTSTAMP:20260423T182138
CREATED:20251028T163806Z
LAST-MODIFIED:20251030T145027Z
UID:3078-1765033200-1765049400@villageartsfactory.com
SUMMARY:Christmas in the Village
DESCRIPTION:Bring the whole family and celebrate the season at Christmas in the Village\, Canton’s cozy holiday market and community celebration at the Village Arts Factory. Join us on Saturday\, December 6\, from 3:00 to 7:30 PM as the Factory and surrounding Village come alive with holiday magic. Local artisans and makers will showcase handcrafted gifts\, ornaments\, and décor — perfect for finding one-of-a-kind presents. \nWarm up with hot cocoa\, cider\, and delicious bites from local food trucks while carolers and musicians fill the halls with festive cheer. Kids will love decorating cookies\, making crafts at Cold Stone Creamery\, and visiting the live petting zoo. For extra sparkle\, Indigo Salon\, Spa\, & Boutique will be offering free hair tinsel for kids\, while Maraschinos Pub hosts a holiday pop-up bar featuring a pizza buffet\, seasonal drinks\, and special visits from Anna and Elsa from Frozen. \nIKEA returns this year with their popular Uppvärming Lodge\, serving cinnamon rolls\, cookies\, and traditional Swedish glögg — a cozy taste of the season for the whole family. \nOur friends at Greenland Market & Saj Bakery will also be joining the fun\, hosting a kids’ snowman station\, visits with Olaf\, and a holiday scavenger hunt throughout the event — the perfect way for little ones to explore and celebrate! \nSanta Claus will be on hand for photos — sittings are free\, but timed entry tickets are required and available first come\, first served. Photos with Santa are made possible courtesy of our wonderful community partners at Village Church. \nCapture your holiday memories with a 5-minute micro-mini session for only $50\, hosted in Studio 11 by Rooted Vision Photography. These exclusive sessions take place during Christmas in the Village on Saturday\, December 6\, from 3:00–7:30 PM. Advanced booking is required\, so reserve your spot early to ensure your perfect festive portrait! \nStroll through the greens market to pick out fresh wreaths and garlands\, enjoy the sparkling lights throughout the Village\, and gather at 7:00 PM for the official Tree Lighting Ceremony that ushers in the holiday spirit. \nChristmas in the Village is free to attend and open to all ages — no pre-registration required for general admission. For vendor\, volunteer\, or photo session inquiries\, visit the Village Arts Factory Events page. We can’t wait to celebrate the magic of the season with you! \nSpecial thanks to this year’s generous event sponsors: Expressions Music Academy\, Jacob Matthew Jewelers\, Village Church\, Primrose School of Canton\, Edward Jones of Cherry Hill Village\, Schoolcraft College\, StoryPoint\, Kumon Canton West\, Sweetwaters Coffee & Tea\, and Saj Canton.
URL:https://villageartsfactory.com/event/christmas-in-the-village-3/
LOCATION:Cherry Hill Village\, Canton\, MI\, 48188\, United States
CATEGORIES:Public Events
ATTACH;FMTTYPE=image/png:https://villageartsfactory.com/wp-content/uploads/2025/10/Christmas-in-the-Village-Banner-2025.png
ORGANIZER;CN="Village Arts Factory":MAILTO:kevin.ryan@cantonmi.gov
END:VEVENT
BEGIN:VEVENT
DTSTART;TZID=America/Detroit:20251212T180000
DTEND;TZID=America/Detroit:20251212T200000
DTSTAMP:20260423T182138
CREATED:20251204T003757Z
LAST-MODIFIED:20251204T003757Z
UID:3151-1765562400-1765569600@villageartsfactory.com
SUMMARY:Art Exhibit Reception: Nick Bair & Kelsey Doletzky
DESCRIPTION:This December\, the Village Arts Factory is proud to present two inspiring concurrent exhibitions that celebrate the beauty of the natural world\, the stories of place\, and the unique artistic voices within our community. Join us for a special evening reception on December 12 from 6:00 to 8:00 PM to meet the artists\, explore their work\, and experience the richness of creativity that fills our gallery this season. \nIn “Animals of the Land\, Sea\, and Sky”\, Michigan artist Nick Bair explores the vast diversity of the animal kingdom—from the sweeping savannahs and icy arctic tundra to dense jungles\, soaring skies\, and deep ocean habitats. Created primarily within the last year\, his pieces reflect a lifelong passion for animals and their conservation. \nWorking across a wide range of media\, including ink\, watercolor\, acrylic\, charcoal\, pan pastel\, colored pencil\, digital art\, and clay\, Nick selects each medium intentionally to capture the texture\, expression\, and presence of the species he portrays. His work often carries a narrative quality\, inviting viewers to connect emotionally with the animals he depicts. \nNick is an artist with autism whose perspective brings a distinctive and powerful voice to his work. A world traveler and frequent visitor of zoos and museums\, he draws inspiration from firsthand encounters and global exploration. His art has been exhibited across Michigan\, and he is known locally for contributing his talents to organizations supporting individuals with special needs. \nIn “Where the Light Lingers”\, photographer Kelsey Doletzky invites viewers into the quiet\, glowing moments that shape Michigan’s northern landscape\, capturing the soft light\, familiar textures\, and fleeting beauty that define the region’s spirit. \nRaised in Michigan and deeply rooted in the traditions of heading “up north\,” Kelsey’s work reflects a deep sense of place and nostalgia: the golden hush of sunset through pine trees\, the calm of lakeside mornings\, and the stillness just before dusk. Her photography emphasizes not just what a scene looks like\, but how it feels—warm\, peaceful\, timeless. \nNow based in Metro Detroit\, Kelsey continues to travel north as often as she can\, finding inspiration and restoration in Michigan’s natural light and landscapes. Her exhibition brings together images that honor those in-between moments where memory and emotion meet.
URL:https://villageartsfactory.com/event/art-exhibit-reception-nick-bair-kelsey-doletzky/
LOCATION:Village Arts Factory\, 50755 Cherry Hill Rd\, Canton\, MI\, 48188\, United States
CATEGORIES:Public Events
ATTACH;FMTTYPE=image/png:https://villageartsfactory.com/wp-content/uploads/2025/12/Ghada-Mosaics-Course-2025-2.png
ORGANIZER;CN="Village Arts Factory":MAILTO:kevin.ryan@cantonmi.gov
END:VEVENT
BEGIN:VEVENT
DTSTART;TZID=America/Detroit:20251214T133000
DTEND;TZID=America/Detroit:20251214T153000
DTSTAMP:20260423T182138
CREATED:20251113T204828Z
LAST-MODIFIED:20251208T190945Z
UID:3111-1765719000-1765726200@villageartsfactory.com
SUMMARY:Lions Tailgate in the Village
DESCRIPTION:Sunday\, December 14 | 1:30–3:30 PM | The Village Arts Factory | Free Event \nGear up\, Canton — the first-ever Lions Tailgate in the Village is touchdown-ready at the Village Arts Factory! Celebrate your Honolulu Blue pride with an afternoon full of team spirit\, family fun\, and pre-game excitement before kickoff. \nFor the Kids \nBring the little Lions fans for a lineup of hands-on activities\, including: \n\nRoot Beer Kegger: Fill up with caffeine-free root beer or make the perfect root beer float with ice cream.\nMake Your Own Lions Santa Hat: Craft a blue-and-white holiday hat to show off your fandom.\nPaint Your Own Football Magnet: A great keepsake—or the perfect gift for football-loving family members\n\nFor the Adults \n\nBest Tailgate Contest: Decorate your car\, claim a VIP parking space\, and compete for the title of Best Tailgate Setup.\nPre-Game Coverage: Catch the Lions pre-game show streamed on the walls inside the VAF.\n\nFor Everyone \n\nGrab a game-day hot dog from Amazeing Dawgs.\nEnjoy chips and water while supplies last.\nSnap a photo with Bumble the Abominable Snowman\, decked out in Lions gear.\nSnag a blue and white candy cane to show off your team colors.\nHead outside to toss the football\, play cornhole\, or challenge friends to a game of Connect 4.\nWarm up by the outdoor heaters\, or come inside to get cozy.\n\nAfter the Tailgate \nKeep the celebration rolling! Walk or drive over to Maraschino’s\, where they’re offering: \n\n½-price pizzas\n$2 Miller Lite and Bud Light pints\nA $6 cocktail menu all month long\nAnd their signature $6 Lions Jungle Juice\n\nThis is a free community event\, and all fans are welcome — walk-ins encouraged! \nPre-registration is required only for Tailgate Contest participants (limit 20 vehicles). \nRegister for Tailgate Contest
URL:https://villageartsfactory.com/event/lions-tailgate-in-the-village/
LOCATION:Village Arts Factory\, 50755 Cherry Hill Rd\, Canton\, MI\, 48188\, United States
CATEGORIES:Public Events
ATTACH;FMTTYPE=image/png:https://villageartsfactory.com/wp-content/uploads/2025/11/Football-1920-x-1080-px-1.png
ORGANIZER;CN="Village Arts Factory":MAILTO:kevin.ryan@cantonmi.gov
END:VEVENT
END:VCALENDAR