BEGIN:VCALENDAR
VERSION:2.0
PRODID:-//Village Arts Factory - ECPv6.15.20//NONSGML v1.0//EN
CALSCALE:GREGORIAN
METHOD:PUBLISH
X-WR-CALNAME:Village Arts Factory
X-ORIGINAL-URL:https://villageartsfactory.com
X-WR-CALDESC:Events for Village Arts Factory
REFRESH-INTERVAL;VALUE=DURATION:PT1H
X-Robots-Tag:noindex
X-PUBLISHED-TTL:PT1H
BEGIN:VTIMEZONE
TZID:America/Detroit
BEGIN:DAYLIGHT
TZOFFSETFROM:-0500
TZOFFSETTO:-0400
TZNAME:EDT
DTSTART:20230312T070000
END:DAYLIGHT
BEGIN:STANDARD
TZOFFSETFROM:-0400
TZOFFSETTO:-0500
TZNAME:EST
DTSTART:20231105T060000
END:STANDARD
BEGIN:DAYLIGHT
TZOFFSETFROM:-0500
TZOFFSETTO:-0400
TZNAME:EDT
DTSTART:20240310T070000
END:DAYLIGHT
BEGIN:STANDARD
TZOFFSETFROM:-0400
TZOFFSETTO:-0500
TZNAME:EST
DTSTART:20241103T060000
END:STANDARD
BEGIN:DAYLIGHT
TZOFFSETFROM:-0500
TZOFFSETTO:-0400
TZNAME:EDT
DTSTART:20250309T070000
END:DAYLIGHT
BEGIN:STANDARD
TZOFFSETFROM:-0400
TZOFFSETTO:-0500
TZNAME:EST
DTSTART:20251102T060000
END:STANDARD
END:VTIMEZONE
BEGIN:VEVENT
DTSTART;TZID=America/Detroit:20240810T150000
DTEND;TZID=America/Detroit:20240810T170000
DTSTAMP:20260425T085338
CREATED:20240730T143930Z
LAST-MODIFIED:20240730T143930Z
UID:1982-1723302000-1723309200@villageartsfactory.com
SUMMARY:Adaptive Back-to-School Bash
DESCRIPTION:Canton Therapeutic Recreation and our A.C.E. Program are teaming up to host the first annual Adaptive Back to School Bash at the Village Arts Factory! This resource fair and school bash for the special needs community will be sensory friendly and include a silent disco\, face painting\, snacks\, and live music performances. Adaptive school supplies will also be available for the students! This event is free to attend and no registration is required. For more information\, contact our A.C.E. Program coordinator at admin@partnershipforarts.org or call us at (734) 765-7061.
URL:https://villageartsfactory.com/event/adaptive-back-to-school-bash/
LOCATION:Village Arts Factory\, 50755 Cherry Hill Rd\, Canton\, MI\, 48188\, United States
CATEGORIES:A.C.E. Events
ATTACH;FMTTYPE=image/jpeg:https://villageartsfactory.com/wp-content/uploads/2024/07/Adaptive-Back-to-School-Bash-2024-2.0-1920-x-1080-px.jpg
ORGANIZER;CN="A.C.E. Program":MAILTO:admin@partnershipforarts.org
END:VEVENT
END:VCALENDAR