BEGIN:VCALENDAR
VERSION:2.0
PRODID:-//Village Arts Factory - ECPv6.15.20//NONSGML v1.0//EN
CALSCALE:GREGORIAN
METHOD:PUBLISH
X-WR-CALNAME:Village Arts Factory
X-ORIGINAL-URL:https://villageartsfactory.com
X-WR-CALDESC:Events for Village Arts Factory
REFRESH-INTERVAL;VALUE=DURATION:PT1H
X-Robots-Tag:noindex
X-PUBLISHED-TTL:PT1H
BEGIN:VTIMEZONE
TZID:America/Detroit
BEGIN:DAYLIGHT
TZOFFSETFROM:-0500
TZOFFSETTO:-0400
TZNAME:EDT
DTSTART:20220313T070000
END:DAYLIGHT
BEGIN:STANDARD
TZOFFSETFROM:-0400
TZOFFSETTO:-0500
TZNAME:EST
DTSTART:20221106T060000
END:STANDARD
BEGIN:DAYLIGHT
TZOFFSETFROM:-0500
TZOFFSETTO:-0400
TZNAME:EDT
DTSTART:20230312T070000
END:DAYLIGHT
BEGIN:STANDARD
TZOFFSETFROM:-0400
TZOFFSETTO:-0500
TZNAME:EST
DTSTART:20231105T060000
END:STANDARD
BEGIN:DAYLIGHT
TZOFFSETFROM:-0500
TZOFFSETTO:-0400
TZNAME:EDT
DTSTART:20240310T070000
END:DAYLIGHT
BEGIN:STANDARD
TZOFFSETFROM:-0400
TZOFFSETTO:-0500
TZNAME:EST
DTSTART:20241103T060000
END:STANDARD
END:VTIMEZONE
BEGIN:VEVENT
DTSTART;TZID=America/Detroit:20230507T140000
DTEND;TZID=America/Detroit:20230507T153000
DTSTAMP:20260425T152708
CREATED:20230418T182107Z
LAST-MODIFIED:20230418T182107Z
UID:519-1683468000-1683473400@villageartsfactory.com
SUMMARY:Adaptive Family Yoga Workshop
DESCRIPTION:Join us at the Village Arts Factory on Sunday\, May 7 for a special adaptive family yoga workshop led by certified instructors from DownPup Yoga! This workshop is suitable for children ages 5 to 12 who may have special physical\, developmental\, or sensory processing needs. Space is limited to 20 participants and their families. Mats will be provided and all abilities are welcome. For questions or more information\, please contact Jessica at 734-765-7061 or by email at admin@partnershipforarts.org.
URL:https://villageartsfactory.com/event/adaptive-family-yoga-workshop/
LOCATION:Village Arts Factory\, 50755 Cherry Hill Rd\, Canton\, MI\, 48188\, United States
CATEGORIES:A.C.E. Events
ATTACH;FMTTYPE=image/png:https://villageartsfactory.com/wp-content/uploads/2023/04/ACE-Yoga-Workshop.png
ORGANIZER;CN="A.C.E. Program":MAILTO:admin@partnershipforarts.org
END:VEVENT
END:VCALENDAR