BEGIN:VCALENDAR
VERSION:2.0
PRODID:-//Village Arts Factory - ECPv6.15.20//NONSGML v1.0//EN
CALSCALE:GREGORIAN
METHOD:PUBLISH
X-ORIGINAL-URL:https://villageartsfactory.com
X-WR-CALDESC:Events for Village Arts Factory
REFRESH-INTERVAL;VALUE=DURATION:PT1H
X-Robots-Tag:noindex
X-PUBLISHED-TTL:PT1H
BEGIN:VTIMEZONE
TZID:America/Detroit
BEGIN:DAYLIGHT
TZOFFSETFROM:-0500
TZOFFSETTO:-0400
TZNAME:EDT
DTSTART:20220313T070000
END:DAYLIGHT
BEGIN:STANDARD
TZOFFSETFROM:-0400
TZOFFSETTO:-0500
TZNAME:EST
DTSTART:20221106T060000
END:STANDARD
BEGIN:DAYLIGHT
TZOFFSETFROM:-0500
TZOFFSETTO:-0400
TZNAME:EDT
DTSTART:20230312T070000
END:DAYLIGHT
BEGIN:STANDARD
TZOFFSETFROM:-0400
TZOFFSETTO:-0500
TZNAME:EST
DTSTART:20231105T060000
END:STANDARD
BEGIN:DAYLIGHT
TZOFFSETFROM:-0500
TZOFFSETTO:-0400
TZNAME:EDT
DTSTART:20240310T070000
END:DAYLIGHT
BEGIN:STANDARD
TZOFFSETFROM:-0400
TZOFFSETTO:-0500
TZNAME:EST
DTSTART:20241103T060000
END:STANDARD
END:VTIMEZONE
BEGIN:VEVENT
DTSTART;TZID=America/Detroit:20230630T183000
DTEND;TZID=America/Detroit:20230630T193000
DTSTAMP:20260425T124806
CREATED:20230508T183735Z
LAST-MODIFIED:20230509T155729Z
UID:890-1688149800-1688153400@villageartsfactory.com
SUMMARY:Bracelet-Making Workshop with SmokeyCitrine
DESCRIPTION:Hello June Bracelet Class! Craig and Citrine are back at it again with another chance to make your own bracelets! You can choose to make your own set of Stretch Bracelets or you can make a set of Copper Beaded Cuff Bracelets. \nWe are featuring Rainbow Moonstone & Obsidian gemstone beads this time around. An inspiring combination of colorfully flashy black & white beads. \nYou may notice the price for this class is a little more expensive because we want you to have high quality rainbow moonstone and the stone is not cheap. It is one of the most sought after gems because of it’s colorful flash. If you’ve never seen rainbow moonstone\, you’ll know what we mean about flash when you see the stones in person. \nJoin us in making your jewelry dreams come alive. Lets create together.
URL:https://villageartsfactory.com/event/bracelet-making-workshop-with-smokeycitrine-2/
LOCATION:Village Arts Factory\, 50755 Cherry Hill Rd\, Canton\, MI\, 48188\, United States
CATEGORIES:Public Events
ATTACH;FMTTYPE=image/jpeg:https://villageartsfactory.com/wp-content/uploads/2023/05/IMG_0075.jpeg
END:VEVENT
END:VCALENDAR