BEGIN:VCALENDAR
VERSION:2.0
PRODID:-//Village Arts Factory - ECPv6.15.20//NONSGML v1.0//EN
CALSCALE:GREGORIAN
METHOD:PUBLISH
X-ORIGINAL-URL:https://villageartsfactory.com
X-WR-CALDESC:Events for Village Arts Factory
REFRESH-INTERVAL;VALUE=DURATION:PT1H
X-Robots-Tag:noindex
X-PUBLISHED-TTL:PT1H
BEGIN:VTIMEZONE
TZID:America/Detroit
BEGIN:DAYLIGHT
TZOFFSETFROM:-0500
TZOFFSETTO:-0400
TZNAME:EDT
DTSTART:20220313T070000
END:DAYLIGHT
BEGIN:STANDARD
TZOFFSETFROM:-0400
TZOFFSETTO:-0500
TZNAME:EST
DTSTART:20221106T060000
END:STANDARD
BEGIN:DAYLIGHT
TZOFFSETFROM:-0500
TZOFFSETTO:-0400
TZNAME:EDT
DTSTART:20230312T070000
END:DAYLIGHT
BEGIN:STANDARD
TZOFFSETFROM:-0400
TZOFFSETTO:-0500
TZNAME:EST
DTSTART:20231105T060000
END:STANDARD
BEGIN:DAYLIGHT
TZOFFSETFROM:-0500
TZOFFSETTO:-0400
TZNAME:EDT
DTSTART:20240310T070000
END:DAYLIGHT
BEGIN:STANDARD
TZOFFSETFROM:-0400
TZOFFSETTO:-0500
TZNAME:EST
DTSTART:20241103T060000
END:STANDARD
END:VTIMEZONE
BEGIN:VEVENT
DTSTART;TZID=America/Detroit:20231013T180000
DTEND;TZID=America/Detroit:20231013T193000
DTSTAMP:20260425T081642
CREATED:20231009T144804Z
LAST-MODIFIED:20231009T144804Z
UID:1384-1697220000-1697225400@villageartsfactory.com
SUMMARY:Fall Into Art Friday Night Pop-Up
DESCRIPTION:The Village Arts Factory presents the return of FALL INTO ART\, a family pop-up series in Cherry Hill Village! For three consecutive Fridays\, we’ll be hosting fall crafts\, lawn games\, free food\, live music\, and more. These events are free to attend and no registration is required. Bring the family and enjoy all things art and autumn!\n\nFriday\, October 13 will feature hands-on cookie decorating\, live music\, a fall kids craft\, chalk art\, and lawn games for all ages! Enjoy a caramel apple bar\, hot cider\, and free pizza and snacks while listening to live music and creating your perfect autumnal cookie. This event will “pop up” on the lawn of the Cherry Hill School\, weather permitting.\n\nFALL INTO ART is generously sponsored by Community Financial Credit Union.\n\nFor more information\, contact our Community Program Director at kevin.ryan@cantonmi.gov.
URL:https://villageartsfactory.com/event/fall-into-art-friday-night-pop-up-2/
LOCATION:Cherry Hill Schoolhouse\, 50440 Cherry Hill Rd\, Canton\, MI\, 48187
CATEGORIES:Public Events
ATTACH;FMTTYPE=image/png:https://villageartsfactory.com/wp-content/uploads/2023/10/October-13.png
ORGANIZER;CN="Village Arts Factory":MAILTO:kevin.ryan@cantonmi.gov
END:VEVENT
END:VCALENDAR