BEGIN:VCALENDAR
VERSION:2.0
PRODID:-//Village Arts Factory - ECPv6.15.20//NONSGML v1.0//EN
CALSCALE:GREGORIAN
METHOD:PUBLISH
X-WR-CALNAME:Village Arts Factory
X-ORIGINAL-URL:https://villageartsfactory.com
X-WR-CALDESC:Events for Village Arts Factory
REFRESH-INTERVAL;VALUE=DURATION:PT1H
X-Robots-Tag:noindex
X-PUBLISHED-TTL:PT1H
BEGIN:VTIMEZONE
TZID:America/Detroit
BEGIN:DAYLIGHT
TZOFFSETFROM:-0500
TZOFFSETTO:-0400
TZNAME:EDT
DTSTART:20220313T070000
END:DAYLIGHT
BEGIN:STANDARD
TZOFFSETFROM:-0400
TZOFFSETTO:-0500
TZNAME:EST
DTSTART:20221106T060000
END:STANDARD
BEGIN:DAYLIGHT
TZOFFSETFROM:-0500
TZOFFSETTO:-0400
TZNAME:EDT
DTSTART:20230312T070000
END:DAYLIGHT
BEGIN:STANDARD
TZOFFSETFROM:-0400
TZOFFSETTO:-0500
TZNAME:EST
DTSTART:20231105T060000
END:STANDARD
BEGIN:DAYLIGHT
TZOFFSETFROM:-0500
TZOFFSETTO:-0400
TZNAME:EDT
DTSTART:20240310T070000
END:DAYLIGHT
BEGIN:STANDARD
TZOFFSETFROM:-0400
TZOFFSETTO:-0500
TZNAME:EST
DTSTART:20241103T060000
END:STANDARD
END:VTIMEZONE
BEGIN:VEVENT
DTSTART;TZID=America/Detroit:20231020T180000
DTEND;TZID=America/Detroit:20231020T193000
DTSTAMP:20260425T081531
CREATED:20231011T142724Z
LAST-MODIFIED:20231011T142724Z
UID:1390-1697824800-1697830200@villageartsfactory.com
SUMMARY:Fall Into Art Friday Night Pop-Up
DESCRIPTION:The Village Arts Factory presents the return of FALL INTO ART\, a family pop-up series in Cherry Hill Village! For three consecutive Fridays\, we’ll be hosting fall crafts\, lawn games\, free food\, live music\, and more. These events are free to attend and no registration is required. Bring the family and enjoy all things art and autumn! \nFriday\, October 20 will feature a play-in-the-clay with the Cherry Hill Potters Guild! Explore Canton’s state-of-the-art pottery studio while getting your hands muddy at the potters wheel. Then continue your pottery experience with shaping\, stamping\, and pressing rolled clay while learning about this beautiful art form from master potters. Finally\, enjoy pizza\, snacks\, and live music while painting your own takeaway suncatcher. This event will “pop up” inside the Village Arts Factory starting at 6pm. \nFALL INTO ART is generously sponsored by Community Financial Credit Union. \nFor more information\, contact our Community Program Director at kevin.ryan@cantonmi.gov.
URL:https://villageartsfactory.com/event/fall-into-art-friday-night-pop-up-3/
LOCATION:Village Arts Factory\, 50755 Cherry Hill Rd\, Canton\, MI\, 48188\, United States
CATEGORIES:Public Events
ATTACH;FMTTYPE=image/png:https://villageartsfactory.com/wp-content/uploads/2023/10/October-20.png
ORGANIZER;CN="Village Arts Factory":MAILTO:kevin.ryan@cantonmi.gov
END:VEVENT
END:VCALENDAR