BEGIN:VCALENDAR
VERSION:2.0
PRODID:-//Village Arts Factory - ECPv6.15.20//NONSGML v1.0//EN
CALSCALE:GREGORIAN
METHOD:PUBLISH
X-WR-CALNAME:Village Arts Factory
X-ORIGINAL-URL:https://villageartsfactory.com
X-WR-CALDESC:Events for Village Arts Factory
REFRESH-INTERVAL;VALUE=DURATION:PT1H
X-Robots-Tag:noindex
X-PUBLISHED-TTL:PT1H
BEGIN:VTIMEZONE
TZID:America/Detroit
BEGIN:DAYLIGHT
TZOFFSETFROM:-0500
TZOFFSETTO:-0400
TZNAME:EDT
DTSTART:20220313T070000
END:DAYLIGHT
BEGIN:STANDARD
TZOFFSETFROM:-0400
TZOFFSETTO:-0500
TZNAME:EST
DTSTART:20221106T060000
END:STANDARD
BEGIN:DAYLIGHT
TZOFFSETFROM:-0500
TZOFFSETTO:-0400
TZNAME:EDT
DTSTART:20230312T070000
END:DAYLIGHT
BEGIN:STANDARD
TZOFFSETFROM:-0400
TZOFFSETTO:-0500
TZNAME:EST
DTSTART:20231105T060000
END:STANDARD
BEGIN:DAYLIGHT
TZOFFSETFROM:-0500
TZOFFSETTO:-0400
TZNAME:EDT
DTSTART:20240310T070000
END:DAYLIGHT
BEGIN:STANDARD
TZOFFSETFROM:-0400
TZOFFSETTO:-0500
TZNAME:EST
DTSTART:20241103T060000
END:STANDARD
END:VTIMEZONE
BEGIN:VEVENT
DTSTART;TZID=America/Detroit:20231028T160000
DTEND;TZID=America/Detroit:20231028T200000
DTSTAMP:20260425T081531
CREATED:20231009T145716Z
LAST-MODIFIED:20231009T145716Z
UID:1387-1698508800-1698523200@villageartsfactory.com
SUMMARY:Trick-or-Treat Halloween Stroll
DESCRIPTION:The annual Kids’ Halloween Stroll returns to the Village Arts Factory on Saturday\, October 28! Trick-or-Treaters will travel from studio to studio encountering activities\, haunted music\, sweets\, treats\, and spooky decorations along the way. This event is geared toward our younger trick-or-treaters\, ages 12 and under\, and costumes are encouraged! The cost is $5 per child and pre-registration is required; no tickets at the door. \nSpecial sensory-friendly time slots with quieter music and no strobing lights are at 4pm and 4:30pm. Those who would like the full event experience should select a time slot at 5pm or later.
URL:https://villageartsfactory.com/event/trick-or-treat-halloween-stroll/
LOCATION:Village Arts Factory\, 50755 Cherry Hill Rd\, Canton\, MI\, 48188\, United States
CATEGORIES:Public Events
ATTACH;FMTTYPE=image/png:https://villageartsfactory.com/wp-content/uploads/2023/10/Halloween-Stroll-Event-Cover.png
ORGANIZER;CN="Village Arts Factory":MAILTO:kevin.ryan@cantonmi.gov
END:VEVENT
END:VCALENDAR