BEGIN:VCALENDAR
VERSION:2.0
PRODID:-//Village Arts Factory - ECPv6.15.20//NONSGML v1.0//EN
CALSCALE:GREGORIAN
METHOD:PUBLISH
X-WR-CALNAME:Village Arts Factory
X-ORIGINAL-URL:https://villageartsfactory.com
X-WR-CALDESC:Events for Village Arts Factory
REFRESH-INTERVAL;VALUE=DURATION:PT1H
X-Robots-Tag:noindex
X-PUBLISHED-TTL:PT1H
BEGIN:VTIMEZONE
TZID:America/Detroit
BEGIN:DAYLIGHT
TZOFFSETFROM:-0500
TZOFFSETTO:-0400
TZNAME:EDT
DTSTART:20230312T070000
END:DAYLIGHT
BEGIN:STANDARD
TZOFFSETFROM:-0400
TZOFFSETTO:-0500
TZNAME:EST
DTSTART:20231105T060000
END:STANDARD
BEGIN:DAYLIGHT
TZOFFSETFROM:-0500
TZOFFSETTO:-0400
TZNAME:EDT
DTSTART:20240310T070000
END:DAYLIGHT
BEGIN:STANDARD
TZOFFSETFROM:-0400
TZOFFSETTO:-0500
TZNAME:EST
DTSTART:20241103T060000
END:STANDARD
BEGIN:DAYLIGHT
TZOFFSETFROM:-0500
TZOFFSETTO:-0400
TZNAME:EDT
DTSTART:20250309T070000
END:DAYLIGHT
BEGIN:STANDARD
TZOFFSETFROM:-0400
TZOFFSETTO:-0500
TZNAME:EST
DTSTART:20251102T060000
END:STANDARD
END:VTIMEZONE
BEGIN:VEVENT
DTSTART;TZID=America/Detroit:20241004T180000
DTEND;TZID=America/Detroit:20241004T193000
DTSTAMP:20260424T140459
CREATED:20240918T144422Z
LAST-MODIFIED:20240918T144422Z
UID:2134-1728064800-1728070200@villageartsfactory.com
SUMMARY:Fall Into Art: Friday Night Pop-Up
DESCRIPTION:Join us for the return of our popular Fall Into Art pop-up series in Cherry Hill Village! Each Friday night will feature a variety of fall-themed kids craft activities\, live music\, free food\, apple cider\, lawn games\, and Halloween treats. Our series will kick off on October 4 on the lawn of the Cherry Hill Schoolhouse with cider and donuts\, pizza\, pumpkin decorating\, a fall leaf bookmark craft\, candy corn ring toss\, and acoustic music by Jason Locke. There is no cost to attend.\n\nThank you to our community partners at Edward Jones of Cherry Hill Village for their generous sponsorship of Fall Into Art this year!
URL:https://villageartsfactory.com/event/fall-into-art-friday-night-pop-up-4/
LOCATION:Cherry Hill Schoolhouse\, 50440 Cherry Hill Rd\, Canton\, MI\, 48187
CATEGORIES:Public Events
ATTACH;FMTTYPE=image/png:https://villageartsfactory.com/wp-content/uploads/2024/09/Fall-Into-Art-October-4.png
ORGANIZER;CN="Village Arts Factory":MAILTO:kevin.ryan@cantonmi.gov
END:VEVENT
END:VCALENDAR