BEGIN:VCALENDAR
VERSION:2.0
PRODID:-//Village Arts Factory - ECPv6.15.20//NONSGML v1.0//EN
CALSCALE:GREGORIAN
METHOD:PUBLISH
X-WR-CALNAME:Village Arts Factory
X-ORIGINAL-URL:https://villageartsfactory.com
X-WR-CALDESC:Events for Village Arts Factory
REFRESH-INTERVAL;VALUE=DURATION:PT1H
X-Robots-Tag:noindex
X-PUBLISHED-TTL:PT1H
BEGIN:VTIMEZONE
TZID:America/Detroit
BEGIN:DAYLIGHT
TZOFFSETFROM:-0500
TZOFFSETTO:-0400
TZNAME:EDT
DTSTART:20230312T070000
END:DAYLIGHT
BEGIN:STANDARD
TZOFFSETFROM:-0400
TZOFFSETTO:-0500
TZNAME:EST
DTSTART:20231105T060000
END:STANDARD
BEGIN:DAYLIGHT
TZOFFSETFROM:-0500
TZOFFSETTO:-0400
TZNAME:EDT
DTSTART:20240310T070000
END:DAYLIGHT
BEGIN:STANDARD
TZOFFSETFROM:-0400
TZOFFSETTO:-0500
TZNAME:EST
DTSTART:20241103T060000
END:STANDARD
BEGIN:DAYLIGHT
TZOFFSETFROM:-0500
TZOFFSETTO:-0400
TZNAME:EDT
DTSTART:20250309T070000
END:DAYLIGHT
BEGIN:STANDARD
TZOFFSETFROM:-0400
TZOFFSETTO:-0500
TZNAME:EST
DTSTART:20251102T060000
END:STANDARD
END:VTIMEZONE
BEGIN:VEVENT
DTSTART;TZID=America/Detroit:20241005T100000
DTEND;TZID=America/Detroit:20241005T113000
DTSTAMP:20260424T140459
CREATED:20240916T181229Z
LAST-MODIFIED:20240925T144310Z
UID:2127-1728122400-1728127800@villageartsfactory.com
SUMMARY:Cherry Hill Village Art Walk
DESCRIPTION:Join us on Saturday\, October 5th for our final Cherry Hill Village Art Walk of the season! Attendees will enjoy guided tours of the October art gallery exhibits at the Canton Village Theater and Village Arts Factory\, as well as complimentary coffee and donuts. We will meet at the Village Theater at 10am for refreshments and a tour of the current exhibit at The Gallery at Cherry Hill. Next\, we’ll take a stroll through beautiful downtown Cherry Hill Village as we make our way to the Village Arts Factory. The morning will conclude with a tour of the art gallery exhibit at the Village Arts Factory. The event is free to attend\, but pre-registration is required. Please reserve your spot by clicking here. \nFor more information\, please contact Jennifer Collins at the Village Theater at: jennifer.collins@cantonmi.gov
URL:https://villageartsfactory.com/event/cherry-hill-village-art-walk-2/
LOCATION:Cherry Hill Village\, Canton\, MI\, 48188\, United States
CATEGORIES:Public Events
ATTACH;FMTTYPE=image/jpeg:https://villageartsfactory.com/wp-content/uploads/2024/09/460245779_1073569524770122_8044517581529335146_n-scaled.jpg
ORGANIZER;CN="Village Arts Factory":MAILTO:kevin.ryan@cantonmi.gov
END:VEVENT
END:VCALENDAR