BEGIN:VCALENDAR
VERSION:2.0
PRODID:-//Village Arts Factory - ECPv6.15.20//NONSGML v1.0//EN
CALSCALE:GREGORIAN
METHOD:PUBLISH
X-ORIGINAL-URL:https://villageartsfactory.com
X-WR-CALDESC:Events for Village Arts Factory
REFRESH-INTERVAL;VALUE=DURATION:PT1H
X-Robots-Tag:noindex
X-PUBLISHED-TTL:PT1H
BEGIN:VTIMEZONE
TZID:America/Detroit
BEGIN:DAYLIGHT
TZOFFSETFROM:-0500
TZOFFSETTO:-0400
TZNAME:EDT
DTSTART:20230312T070000
END:DAYLIGHT
BEGIN:STANDARD
TZOFFSETFROM:-0400
TZOFFSETTO:-0500
TZNAME:EST
DTSTART:20231105T060000
END:STANDARD
BEGIN:DAYLIGHT
TZOFFSETFROM:-0500
TZOFFSETTO:-0400
TZNAME:EDT
DTSTART:20240310T070000
END:DAYLIGHT
BEGIN:STANDARD
TZOFFSETFROM:-0400
TZOFFSETTO:-0500
TZNAME:EST
DTSTART:20241103T060000
END:STANDARD
BEGIN:DAYLIGHT
TZOFFSETFROM:-0500
TZOFFSETTO:-0400
TZNAME:EDT
DTSTART:20250309T070000
END:DAYLIGHT
BEGIN:STANDARD
TZOFFSETFROM:-0400
TZOFFSETTO:-0500
TZNAME:EST
DTSTART:20251102T060000
END:STANDARD
END:VTIMEZONE
BEGIN:VEVENT
DTSTART;TZID=America/Detroit:20241006T100000
DTEND;TZID=America/Detroit:20241006T120000
DTSTAMP:20260424T140518
CREATED:20240925T144754Z
LAST-MODIFIED:20240925T144754Z
UID:2175-1728208800-1728216000@villageartsfactory.com
SUMMARY:DIY Fall Doormats at the Canton Farmers Market
DESCRIPTION:We’ve partnered with the Canton Farmers Market to offer this fun Fall Doormat Craft Workshop at the Village Arts Factory! Join us during the Farmers Market on Sunday\, October 6 as we get into the creative spirit and create custom fall doormats in celebration of the season. Select from one of eight stencil designs and bring home a beautiful\, fall-themed doormat to decorate your classroom\, porch\, or mudroom. The cost is only $45 and includes all materials! The workshop begins at 10am at the Village Arts Factory and will take approximately one hour to complete. You’ll be able to take your mat home with you that day! All mats are the same standard size: 18”x 30”. This workshop is recommended for ages 16+ but a child may attend with their parent. \nPre-registration is highly recommended\, but select mat designs will be available for walk-ins during the workshop hours\, first come\, first served. Come and create your own personalized Fall Doormat while enjoying your favorite coffee\, food\, art\, and vendors at the Canton Farmers Market! For questions or more information\, contact us at: kevin.ryan@cantonmi.gov or by phone at (734) 765-0650.
URL:https://villageartsfactory.com/event/diy-fall-doormats-at-the-canton-farmers-market/
LOCATION:Village Arts Factory\, 50755 Cherry Hill Rd\, Canton\, MI\, 48188\, United States
CATEGORIES:Public Events
ATTACH;FMTTYPE=image/png:https://villageartsfactory.com/wp-content/uploads/2024/09/Fall-Doormat-Craft-Workshop.png
ORGANIZER;CN="Village Arts Factory":MAILTO:kevin.ryan@cantonmi.gov
END:VEVENT
END:VCALENDAR