BEGIN:VCALENDAR
VERSION:2.0
PRODID:-//Village Arts Factory - ECPv6.15.20//NONSGML v1.0//EN
CALSCALE:GREGORIAN
METHOD:PUBLISH
X-ORIGINAL-URL:https://villageartsfactory.com
X-WR-CALDESC:Events for Village Arts Factory
REFRESH-INTERVAL;VALUE=DURATION:PT1H
X-Robots-Tag:noindex
X-PUBLISHED-TTL:PT1H
BEGIN:VTIMEZONE
TZID:America/Detroit
BEGIN:DAYLIGHT
TZOFFSETFROM:-0500
TZOFFSETTO:-0400
TZNAME:EDT
DTSTART:20230312T070000
END:DAYLIGHT
BEGIN:STANDARD
TZOFFSETFROM:-0400
TZOFFSETTO:-0500
TZNAME:EST
DTSTART:20231105T060000
END:STANDARD
BEGIN:DAYLIGHT
TZOFFSETFROM:-0500
TZOFFSETTO:-0400
TZNAME:EDT
DTSTART:20240310T070000
END:DAYLIGHT
BEGIN:STANDARD
TZOFFSETFROM:-0400
TZOFFSETTO:-0500
TZNAME:EST
DTSTART:20241103T060000
END:STANDARD
BEGIN:DAYLIGHT
TZOFFSETFROM:-0500
TZOFFSETTO:-0400
TZNAME:EDT
DTSTART:20250309T070000
END:DAYLIGHT
BEGIN:STANDARD
TZOFFSETFROM:-0400
TZOFFSETTO:-0500
TZNAME:EST
DTSTART:20251102T060000
END:STANDARD
END:VTIMEZONE
BEGIN:VEVENT
DTSTART;TZID=America/Detroit:20241016T183000
DTEND;TZID=America/Detroit:20241016T203000
DTSTAMP:20260424T140540
CREATED:20240925T143746Z
LAST-MODIFIED:20240925T143746Z
UID:2171-1729103400-1729110600@villageartsfactory.com
SUMMARY:Hocus Pocus Night
DESCRIPTION:The Sanderson Sisters Invite You to a Spooky Night of Fun!\n\nJoin us at the Village Arts Factory on Wednesday\, October 16th for an adults-only Hocus Pocus Night that promises a wickedly good time!\nOur Hocus Pocus watch party kicks off with a black magic candle-making workshop led by Leslie Neal of True 2 You Studio. Next\, you’ll craft your own Halloween-inspired grazing board at our buffet station and whip up spooky concoctions at the mixology station to create your own Halloween mocktails. Plus\, enjoy Hocus Pocus-themed decor and activities throughout the night!\n\nEvent Details: When: Wednesday\, October 16 | 6:30 PM – 8:30 PM Where: Village Arts Factory Cost: $35 per adult (18+)\nTake home your grazing board creation and Halloween mocktail recipes to recreate the magic! This event is perfect for a fun date night or friends’ night out.\n Costumes are encouraged but not required!\n\nSpace is limited\, so reserve your spot today and join us for a night of magical mischief and Hocus Pocus fun!
URL:https://villageartsfactory.com/event/hocus-pocus-night/
LOCATION:Village Arts Factory\, 50755 Cherry Hill Rd\, Canton\, MI\, 48188\, United States
CATEGORIES:Public Events
ATTACH;FMTTYPE=image/png:https://villageartsfactory.com/wp-content/uploads/2024/09/Hocus-Pocus-Night-1920-x-1080-px.png
ORGANIZER;CN="Village Arts Factory":MAILTO:kevin.ryan@cantonmi.gov
END:VEVENT
END:VCALENDAR