BEGIN:VCALENDAR
VERSION:2.0
PRODID:-//Village Arts Factory - ECPv6.15.20//NONSGML v1.0//EN
CALSCALE:GREGORIAN
METHOD:PUBLISH
X-WR-CALNAME:Village Arts Factory
X-ORIGINAL-URL:https://villageartsfactory.com
X-WR-CALDESC:Events for Village Arts Factory
REFRESH-INTERVAL;VALUE=DURATION:PT1H
X-Robots-Tag:noindex
X-PUBLISHED-TTL:PT1H
BEGIN:VTIMEZONE
TZID:America/Detroit
BEGIN:DAYLIGHT
TZOFFSETFROM:-0500
TZOFFSETTO:-0400
TZNAME:EDT
DTSTART:20230312T070000
END:DAYLIGHT
BEGIN:STANDARD
TZOFFSETFROM:-0400
TZOFFSETTO:-0500
TZNAME:EST
DTSTART:20231105T060000
END:STANDARD
BEGIN:DAYLIGHT
TZOFFSETFROM:-0500
TZOFFSETTO:-0400
TZNAME:EDT
DTSTART:20240310T070000
END:DAYLIGHT
BEGIN:STANDARD
TZOFFSETFROM:-0400
TZOFFSETTO:-0500
TZNAME:EST
DTSTART:20241103T060000
END:STANDARD
BEGIN:DAYLIGHT
TZOFFSETFROM:-0500
TZOFFSETTO:-0400
TZNAME:EDT
DTSTART:20250309T070000
END:DAYLIGHT
BEGIN:STANDARD
TZOFFSETFROM:-0400
TZOFFSETTO:-0500
TZNAME:EST
DTSTART:20251102T060000
END:STANDARD
END:VTIMEZONE
BEGIN:VEVENT
DTSTART;TZID=America/Detroit:20241123T100000
DTEND;TZID=America/Detroit:20241123T120000
DTSTAMP:20260424T123548
CREATED:20241107T194526Z
LAST-MODIFIED:20241107T195029Z
UID:2222-1732356000-1732363200@villageartsfactory.com
SUMMARY:DIY Holiday Doormat Workshop
DESCRIPTION:Kick off the holiday season with a fun DIY Holiday Doormat Workshop at the Village Arts Factory! Join us on Saturday\, November 23rd as we get into the creative spirit and stencil custom winter doormats. Select from one of five stencil designs and bring home a beautiful\, holiday-themed doormat to grace your porch or mudroom. The cost is only $45 and includes all materials! The workshop begins at 10am and will run approximately 1.5 hours. You’ll be able to take your mat home with you that day! All mats are the same standard size: 18”x 30”. This workshop is recommended for ages 16+ but a child may attend with their parent.
URL:https://villageartsfactory.com/event/diy-holiday-doormat-workshop/
LOCATION:Village Arts Factory\, 50755 Cherry Hill Rd\, Canton\, MI\, 48188\, United States
CATEGORIES:Public Events
ATTACH;FMTTYPE=image/png:https://villageartsfactory.com/wp-content/uploads/2024/11/Holiday-Doormat-Workshop.png
ORGANIZER;CN="Village Arts Factory":MAILTO:kevin.ryan@cantonmi.gov
END:VEVENT
BEGIN:VEVENT
DTSTART;TZID=America/Detroit:20241123T100000
DTEND;TZID=America/Detroit:20241123T190000
DTSTAMP:20260424T123548
CREATED:20241021T205012Z
LAST-MODIFIED:20241119T162536Z
UID:2192-1732356000-1732388400@villageartsfactory.com
SUMMARY:Handmade Holidays: Artisan Craft Market & Pottery Sale
DESCRIPTION:Get ready to kick off the holiday season at our Handmade Holidays Artisan Market\, which will take place in conjunction with the Cherry Hill Potters Guild Holiday Sale! Join us for a fun day of shopping filled with unique handmade art\, crafts\, beautiful pottery\, and local artisan treasures.\n\n\nHandmade Holiday Artisan Vendors\nBelle Lavande\nDecorlotta Art & Design\nClearly you\nPermanent Jewelry by Irene\nKingdom Coloring\nPat Kubert\nAuthor Jamie Samland (Dyingstar Press LLC)\nKG Sweets\nSkinCare SocialClub\n\n\nWe will also be offering a DIY Holiday Doormat workshop that morning from 10am to 12pm. Come and create your own custom doormat to decorate your front porch or to give away as a gift! The cost is just $45 per person and includes all materials. Click here to register online today!\n\nThe Handmade Holidays Artisan Market and Cherry Hill Potters Guild Holiday Sale will take place inside the Village Arts Factory\, located at 50755 Cherry Hill Rd.\, Canton\, MI 48188 from 10am to 7pm. For more information\, please contact us at: admin@partnershipforarts.org
URL:https://villageartsfactory.com/event/handmade-holidays-artisan-craft-market-pottery-sale/
LOCATION:Village Arts Factory\, 50755 Cherry Hill Rd\, Canton\, MI\, 48188\, United States
CATEGORIES:Public Events
ATTACH;FMTTYPE=image/png:https://villageartsfactory.com/wp-content/uploads/2024/10/Handmade-Holidays-FB-event-cover.png
ORGANIZER;CN="Village Arts Factory":MAILTO:kevin.ryan@cantonmi.gov
END:VEVENT
END:VCALENDAR