BEGIN:VCALENDAR
VERSION:2.0
PRODID:-//Village Arts Factory - ECPv6.15.20//NONSGML v1.0//EN
CALSCALE:GREGORIAN
METHOD:PUBLISH
X-WR-CALNAME:Village Arts Factory
X-ORIGINAL-URL:https://villageartsfactory.com
X-WR-CALDESC:Events for Village Arts Factory
REFRESH-INTERVAL;VALUE=DURATION:PT1H
X-Robots-Tag:noindex
X-PUBLISHED-TTL:PT1H
BEGIN:VTIMEZONE
TZID:America/Detroit
BEGIN:DAYLIGHT
TZOFFSETFROM:-0500
TZOFFSETTO:-0400
TZNAME:EDT
DTSTART:20230312T070000
END:DAYLIGHT
BEGIN:STANDARD
TZOFFSETFROM:-0400
TZOFFSETTO:-0500
TZNAME:EST
DTSTART:20231105T060000
END:STANDARD
BEGIN:DAYLIGHT
TZOFFSETFROM:-0500
TZOFFSETTO:-0400
TZNAME:EDT
DTSTART:20240310T070000
END:DAYLIGHT
BEGIN:STANDARD
TZOFFSETFROM:-0400
TZOFFSETTO:-0500
TZNAME:EST
DTSTART:20241103T060000
END:STANDARD
BEGIN:DAYLIGHT
TZOFFSETFROM:-0500
TZOFFSETTO:-0400
TZNAME:EDT
DTSTART:20250309T070000
END:DAYLIGHT
BEGIN:STANDARD
TZOFFSETFROM:-0400
TZOFFSETTO:-0500
TZNAME:EST
DTSTART:20251102T060000
END:STANDARD
END:VTIMEZONE
BEGIN:VEVENT
DTSTART;TZID=America/Detroit:20241207T150000
DTEND;TZID=America/Detroit:20241207T200000
DTSTAMP:20260424T112742
CREATED:20241030T152806Z
LAST-MODIFIED:20241030T152806Z
UID:2214-1733583600-1733601600@villageartsfactory.com
SUMMARY:Christmas in the Village
DESCRIPTION:Join us for the return of Christmas in the Village on Saturday\, December 7 from 3pm to 8pm at the Village Arts Factory! Visitors will delight in the holiday festivities which include a bustling marketplace\, Swedish warming lodge\, visits and photos with Santa Claus\, a live petting zoo\, kids’ craft activities\, pottery sale\, carolers and live musicians\, a variety of food trucks\, coffee\, hot chocolate\, and more! The annual Tree Lighting Ceremony will take place at 7pm in front of the Village Arts Factory with special guests Anne-Marie Graham Hudak\, IKEA of Canton\, and Santa Claus. \nChristmas in the Village is proudly presented by Greenland Market and Saj Bakery of Cherry Hill Village. Our generous sponsors include: IHA Medical Group\, Jacob Matthew Jewelers\, Sweetwaters Coffee & Tea\, Primrose Schools\, Raising Cane’s\, Comcast\, Village Grocery\, Kumon Learning Center\, Uptown Salon\, AlphaGraphics of Canton\, Schoolcraft College\, Tucker Insurance Agency\, Edward Jones of Cherry Hill Village\, Expressions Music Academy\, and IKEA.
URL:https://villageartsfactory.com/event/christmas-in-the-village-2/
LOCATION:Village Arts Factory\, 50755 Cherry Hill Rd\, Canton\, MI\, 48188\, United States
CATEGORIES:Public Events
ATTACH;FMTTYPE=image/png:https://villageartsfactory.com/wp-content/uploads/2024/10/Christmas-in-the-Village-Banner.png
ORGANIZER;CN="Village Arts Factory":MAILTO:kevin.ryan@cantonmi.gov
END:VEVENT
END:VCALENDAR