BEGIN:VCALENDAR
VERSION:2.0
PRODID:-//Village Arts Factory - ECPv6.15.20//NONSGML v1.0//EN
CALSCALE:GREGORIAN
METHOD:PUBLISH
X-WR-CALNAME:Village Arts Factory
X-ORIGINAL-URL:https://villageartsfactory.com
X-WR-CALDESC:Events for Village Arts Factory
REFRESH-INTERVAL;VALUE=DURATION:PT1H
X-Robots-Tag:noindex
X-PUBLISHED-TTL:PT1H
BEGIN:VTIMEZONE
TZID:America/Detroit
BEGIN:DAYLIGHT
TZOFFSETFROM:-0500
TZOFFSETTO:-0400
TZNAME:EDT
DTSTART:20230312T070000
END:DAYLIGHT
BEGIN:STANDARD
TZOFFSETFROM:-0400
TZOFFSETTO:-0500
TZNAME:EST
DTSTART:20231105T060000
END:STANDARD
BEGIN:DAYLIGHT
TZOFFSETFROM:-0500
TZOFFSETTO:-0400
TZNAME:EDT
DTSTART:20240310T070000
END:DAYLIGHT
BEGIN:STANDARD
TZOFFSETFROM:-0400
TZOFFSETTO:-0500
TZNAME:EST
DTSTART:20241103T060000
END:STANDARD
BEGIN:DAYLIGHT
TZOFFSETFROM:-0500
TZOFFSETTO:-0400
TZNAME:EDT
DTSTART:20250309T070000
END:DAYLIGHT
BEGIN:STANDARD
TZOFFSETFROM:-0400
TZOFFSETTO:-0500
TZNAME:EST
DTSTART:20251102T060000
END:STANDARD
END:VTIMEZONE
BEGIN:VEVENT
DTSTART;TZID=America/Detroit:20241218T180000
DTEND;TZID=America/Detroit:20241218T200000
DTSTAMP:20260424T111712
CREATED:20241212T142243Z
LAST-MODIFIED:20241212T142243Z
UID:2254-1734544800-1734552000@villageartsfactory.com
SUMMARY:Chuck Schroeder: Art Exhibit Open House
DESCRIPTION:Join us on Wednesday\, December 18 for an Art Exhibit Open House at the Village Arts Factory featuring the works of local artist Chuck Schroeder. Come and view the artwork on display and meet the artist!\n\nAbout the Artist:\nI grew up in Northwest Detroit and now split my time between Livonia and Oscoda\, MI. I am married to Vicki\, and we have two grown children and three cats.\n\nAs a child\, I took some art classes at the Detroit Institute of Art. But\, basically\, I am self taught. My style of drawing began in High School using the black BiC Cristal pen which was readily available for doing my schoolwork. My drawings have a lot of fine detail\, and this pen allows me to do the shading the way I like.\n\nI took time away from drawing to work full time and raise my family; but since resuming it about six years ago\, I have completed over 350 drawings. I am a realist. My work is sometimes mistaken for photos. Traditionally a black and white artist\, lately I have been experimenting with adding color. I like people to take the time to really study them and appreciate the detail that goes into each drawing.\n\nI am a member of three local Art Clubs in the Metro Detroit area; and I enjoy entering Juried Art Exhibitions. I have participated in some of the Art Fairs in Northeast Michigan including Harrisville Harmony Weekend where I have won Best Of Show twice. I also like to display in Galleries. In my spare time\, I enjoy jet skiing\, snorkeling\, and kayaking.
URL:https://villageartsfactory.com/event/chuck-schroeder-art-exhibit-open-house/
LOCATION:Village Arts Factory\, 50755 Cherry Hill Rd\, Canton\, MI\, 48188\, United States
CATEGORIES:Public Events
ATTACH;FMTTYPE=image/png:https://villageartsfactory.com/wp-content/uploads/2024/12/Chuck-Schroeder-Art-2024.png
ORGANIZER;CN="Village Arts Factory":MAILTO:kevin.ryan@cantonmi.gov
END:VEVENT
END:VCALENDAR