BEGIN:VCALENDAR
VERSION:2.0
PRODID:-//Village Arts Factory - ECPv6.15.20//NONSGML v1.0//EN
CALSCALE:GREGORIAN
METHOD:PUBLISH
X-WR-CALNAME:Village Arts Factory
X-ORIGINAL-URL:https://villageartsfactory.com
X-WR-CALDESC:Events for Village Arts Factory
REFRESH-INTERVAL;VALUE=DURATION:PT1H
X-Robots-Tag:noindex
X-PUBLISHED-TTL:PT1H
BEGIN:VTIMEZONE
TZID:America/Detroit
BEGIN:DAYLIGHT
TZOFFSETFROM:-0500
TZOFFSETTO:-0400
TZNAME:EDT
DTSTART:20240310T070000
END:DAYLIGHT
BEGIN:STANDARD
TZOFFSETFROM:-0400
TZOFFSETTO:-0500
TZNAME:EST
DTSTART:20241103T060000
END:STANDARD
BEGIN:DAYLIGHT
TZOFFSETFROM:-0500
TZOFFSETTO:-0400
TZNAME:EDT
DTSTART:20250309T070000
END:DAYLIGHT
BEGIN:STANDARD
TZOFFSETFROM:-0400
TZOFFSETTO:-0500
TZNAME:EST
DTSTART:20251102T060000
END:STANDARD
BEGIN:DAYLIGHT
TZOFFSETFROM:-0500
TZOFFSETTO:-0400
TZNAME:EDT
DTSTART:20260308T070000
END:DAYLIGHT
BEGIN:STANDARD
TZOFFSETFROM:-0400
TZOFFSETTO:-0500
TZNAME:EST
DTSTART:20261101T060000
END:STANDARD
END:VTIMEZONE
BEGIN:VEVENT
DTSTART;TZID=America/Detroit:20250115T180000
DTEND;TZID=America/Detroit:20250115T200000
DTSTAMP:20260424T094056
CREATED:20250102T154711Z
LAST-MODIFIED:20250102T154711Z
UID:2289-1736964000-1736971200@villageartsfactory.com
SUMMARY:Second Glances: Artists' Reception & Gallery Open House
DESCRIPTION:Second Glances is an artistic collaboration between The Gallery at Cherry Hill (Canton Village Theater) and the Fine Art Gallery at the neighboring Village Arts Factory. This eclectic and immersive exhibit features the works of 7 award-winning artists from Canton’s 30th Annual Fine Arts Exhibition\, adjudicated by juror Tom Hale in October 2024. Visitors to the gallery will delight in the variety of mediums on display including oil\, acrylic\, photography\, sculpture\, and collage. The exhibit is on public display at the Village Arts Factory and free to view through January 29\, 2025 For more information\, please contact: kevin.ryan@cantonmi.gov. \n— \nCome meet the award-winning artists in person at the Artists’ Reception and Gallery Open House on Wednesday\, January 15\, while enjoying an opportunity to view the works up close. Hors d’oeuvres and light refreshments will be available for your enjoyment as you browse the artwork on display in the gallery. Doors open at 6:00pm and the gallery open house will run until 8:00pm. This event is free to attend and open to all.
URL:https://villageartsfactory.com/event/second-glances-artists-reception-gallery-open-house/
LOCATION:Village Arts Factory\, 50755 Cherry Hill Rd\, Canton\, MI\, 48188\, United States
CATEGORIES:Public Events
ATTACH;FMTTYPE=image/png:https://villageartsfactory.com/wp-content/uploads/2024/12/Second-Glances-2025-Banner.png
ORGANIZER;CN="Village Arts Factory":MAILTO:kevin.ryan@cantonmi.gov
END:VEVENT
END:VCALENDAR