BEGIN:VCALENDAR
VERSION:2.0
PRODID:-//Village Arts Factory - ECPv6.15.20//NONSGML v1.0//EN
CALSCALE:GREGORIAN
METHOD:PUBLISH
X-WR-CALNAME:Village Arts Factory
X-ORIGINAL-URL:https://villageartsfactory.com
X-WR-CALDESC:Events for Village Arts Factory
REFRESH-INTERVAL;VALUE=DURATION:PT1H
X-Robots-Tag:noindex
X-PUBLISHED-TTL:PT1H
BEGIN:VTIMEZONE
TZID:America/Detroit
BEGIN:DAYLIGHT
TZOFFSETFROM:-0500
TZOFFSETTO:-0400
TZNAME:EDT
DTSTART:20240310T070000
END:DAYLIGHT
BEGIN:STANDARD
TZOFFSETFROM:-0400
TZOFFSETTO:-0500
TZNAME:EST
DTSTART:20241103T060000
END:STANDARD
BEGIN:DAYLIGHT
TZOFFSETFROM:-0500
TZOFFSETTO:-0400
TZNAME:EDT
DTSTART:20250309T070000
END:DAYLIGHT
BEGIN:STANDARD
TZOFFSETFROM:-0400
TZOFFSETTO:-0500
TZNAME:EST
DTSTART:20251102T060000
END:STANDARD
BEGIN:DAYLIGHT
TZOFFSETFROM:-0500
TZOFFSETTO:-0400
TZNAME:EDT
DTSTART:20260308T070000
END:DAYLIGHT
BEGIN:STANDARD
TZOFFSETFROM:-0400
TZOFFSETTO:-0500
TZNAME:EST
DTSTART:20261101T060000
END:STANDARD
END:VTIMEZONE
BEGIN:VEVENT
DTSTART;TZID=America/Detroit:20250122T183000
DTEND;TZID=America/Detroit:20250122T193000
DTSTAMP:20260424T094056
CREATED:20250103T143855Z
LAST-MODIFIED:20250103T143855Z
UID:2300-1737570600-1737574200@villageartsfactory.com
SUMMARY:Adult Fitness Pop-Up: Pilates Mat Class
DESCRIPTION:Join us for a 1-hour Pilates mat class followed by an afterglow with refreshments at the Village Arts Factory in Cherry Hill Village! Pilates is a low-impact\, moderate-intensity workout that stretches and strengthens the entire body. It’s a great way to tone your muscles\, improve your flexibility\, and burn calories. No previous experience necessary and all fitness levels welcome! If you’ve ever been curious to try Pilates\, this is the perfect opportunity to sample this fun and unique fitness medium. \nFollowing the Pilates mat class\, our afterglow will include light refreshments such as fruit and nuts\, cheese and crackers\, beverages\, and water. There will also be time to socialize\, connect with other attendees\, and explore the art gallery at the Village Arts Factory. For questions or more information\, contact Kevin Ryan at kevin.ryan@cantonmi.gov \nLocation: Village Arts Factory (50755 Cherry Hill Rd.) \nDate: January 22 \nTime: 6:30-7:30pm \nFee: $10 per person \nAges: Ages 21+ \nRegistration: Pre-registration required
URL:https://villageartsfactory.com/event/adult-fitness-pop-up-pilates-mat-class/
LOCATION:Village Arts Factory\, 50755 Cherry Hill Rd\, Canton\, MI\, 48188\, United States
CATEGORIES:Public Events
ATTACH;FMTTYPE=image/png:https://villageartsfactory.com/wp-content/uploads/2025/01/Pilates-Jan-22.png
END:VEVENT
END:VCALENDAR