BEGIN:VCALENDAR
VERSION:2.0
PRODID:-//Village Arts Factory - ECPv6.15.20//NONSGML v1.0//EN
CALSCALE:GREGORIAN
METHOD:PUBLISH
X-WR-CALNAME:Village Arts Factory
X-ORIGINAL-URL:https://villageartsfactory.com
X-WR-CALDESC:Events for Village Arts Factory
REFRESH-INTERVAL;VALUE=DURATION:PT1H
X-Robots-Tag:noindex
X-PUBLISHED-TTL:PT1H
BEGIN:VTIMEZONE
TZID:America/Detroit
BEGIN:DAYLIGHT
TZOFFSETFROM:-0500
TZOFFSETTO:-0400
TZNAME:EDT
DTSTART:20240310T070000
END:DAYLIGHT
BEGIN:STANDARD
TZOFFSETFROM:-0400
TZOFFSETTO:-0500
TZNAME:EST
DTSTART:20241103T060000
END:STANDARD
BEGIN:DAYLIGHT
TZOFFSETFROM:-0500
TZOFFSETTO:-0400
TZNAME:EDT
DTSTART:20250309T070000
END:DAYLIGHT
BEGIN:STANDARD
TZOFFSETFROM:-0400
TZOFFSETTO:-0500
TZNAME:EST
DTSTART:20251102T060000
END:STANDARD
BEGIN:DAYLIGHT
TZOFFSETFROM:-0500
TZOFFSETTO:-0400
TZNAME:EDT
DTSTART:20260308T070000
END:DAYLIGHT
BEGIN:STANDARD
TZOFFSETFROM:-0400
TZOFFSETTO:-0500
TZNAME:EST
DTSTART:20261101T060000
END:STANDARD
END:VTIMEZONE
BEGIN:VEVENT
DTSTART;TZID=America/Detroit:20250206T180000
DTEND;TZID=America/Detroit:20250206T200000
DTSTAMP:20260424T081821
CREATED:20250122T164759Z
LAST-MODIFIED:20250122T181337Z
UID:2365-1738864800-1738872000@villageartsfactory.com
SUMMARY:Art Exhibit Reception: Brilliant Stained-Glass Mosaics by Ghada Ayoub
DESCRIPTION:Piece By Piece: A Solo Exhibit by Ghada Ayoub \nJoin us for the opening reception of Piece By Piece\, a solo exhibition by mixed-media artist Ghada Ayoub\, on Thursday\, February 6\, from 6:00 to 8:00pm at the Village Arts Factory. This exciting exhibit will showcase Ayoub’s intricate mosaic artwork\, blending glass mosaic and stained-glass painting to create vibrant\, dynamic pieces that capture the light and beauty of the natural world. \nOriginally from Beirut\, Lebanon\, and now based in Michigan\, Ghada Ayoub’s artistic journey is rooted in a lifelong passion for creativity. After studying architectural drafting and construction management\, Ayoub explored her love for art through scholastic competitions in Lebanon\, where she received a first-place prize. For Ayoub\, art offers a vital escape from daily stress and serves as a channel to reflect on life’s unexpected wonders. \nAyoub’s recent decision to share her work with the broader community has been met with positive reception in local exhibitions\, earning critical praise for her unique approach. Inspired by real-life experiences and the beauty of the natural world\, Ayoub draws creative energy from exploring galleries and engaging with the work of other artists. \nAfter taking a stained-glass painting course\, Ayoub fell in love with the texture and patterns of glass\, which she now skillfully integrates into her mixed-media pieces. The interplay of glass colors\, light reflection\, and her distinctive designs make her artwork come alive\, inviting viewers into a world of vibrant expression and beauty. \nWe invite you to explore Ayoub’s captivating artwork\, meet the artist\, and enjoy light refreshments at the opening reception. The exhibit will be on display at the Village Arts Factory through the end of February\, with gallery hours from 9:00am to 7:00pm\, Monday through Saturday. \nFor more information\, please contact us at: kevin.ryan@cantonmi.gov.
URL:https://villageartsfactory.com/event/art-exhibit-reception-brilliant-stained-glass-by-ghada-ayoub/
LOCATION:Village Arts Factory\, 50755 Cherry Hill Rd\, Canton\, MI\, 48188\, United States
CATEGORIES:Public Events
ATTACH;FMTTYPE=image/png:https://villageartsfactory.com/wp-content/uploads/2025/01/Piece-by-Piece-Banner-Feb-2025-FINAL.png
ORGANIZER;CN="Village Arts Factory":MAILTO:kevin.ryan@cantonmi.gov
END:VEVENT
END:VCALENDAR