BEGIN:VCALENDAR
VERSION:2.0
PRODID:-//Village Arts Factory - ECPv6.15.20//NONSGML v1.0//EN
CALSCALE:GREGORIAN
METHOD:PUBLISH
X-WR-CALNAME:Village Arts Factory
X-ORIGINAL-URL:https://villageartsfactory.com
X-WR-CALDESC:Events for Village Arts Factory
REFRESH-INTERVAL;VALUE=DURATION:PT1H
X-Robots-Tag:noindex
X-PUBLISHED-TTL:PT1H
BEGIN:VTIMEZONE
TZID:America/Detroit
BEGIN:DAYLIGHT
TZOFFSETFROM:-0500
TZOFFSETTO:-0400
TZNAME:EDT
DTSTART:20240310T070000
END:DAYLIGHT
BEGIN:STANDARD
TZOFFSETFROM:-0400
TZOFFSETTO:-0500
TZNAME:EST
DTSTART:20241103T060000
END:STANDARD
BEGIN:DAYLIGHT
TZOFFSETFROM:-0500
TZOFFSETTO:-0400
TZNAME:EDT
DTSTART:20250309T070000
END:DAYLIGHT
BEGIN:STANDARD
TZOFFSETFROM:-0400
TZOFFSETTO:-0500
TZNAME:EST
DTSTART:20251102T060000
END:STANDARD
BEGIN:DAYLIGHT
TZOFFSETFROM:-0500
TZOFFSETTO:-0400
TZNAME:EDT
DTSTART:20260308T070000
END:DAYLIGHT
BEGIN:STANDARD
TZOFFSETFROM:-0400
TZOFFSETTO:-0500
TZNAME:EST
DTSTART:20261101T060000
END:STANDARD
END:VTIMEZONE
BEGIN:VEVENT
DTSTART;TZID=America/Detroit:20250311T183000
DTEND;TZID=America/Detroit:20250311T193000
DTSTAMP:20260424T065701
CREATED:20250131T155930Z
LAST-MODIFIED:20250131T182530Z
UID:2383-1741717800-1741721400@villageartsfactory.com
SUMMARY:Adult Fitness Pop-Up: Yoga
DESCRIPTION:Our popular Adult Fitness Pop-Up series concludes this March with Yoga at the Village Arts Factory! Join us on Tuesday\, March 11 for an approachable\, 1-hour yoga flow led by our certified instructor surrounded by art and candlelight. Yoga is a wonderful opportunity to relax your mind\, create positive focus\, and gently stretch the body. Both practiced yogis and first-time beginners will enjoy this guided flow in our unique art studio space. You are welcome to bring your own mat\, or we will have plenty available to borrow. An afterglow with snacks and refreshments will follow the class\, including an opportunity to stroll the art gallery and socialize with friends and neighbors. The cost is just $10 per person and you can register online by clicking here. \nProceeds from this Adult Fitness Pop-Up will support the Learn.Advocate.Mentor program\, a Lead #LikeAGirl initiative of Canton’s B.L.O.C.K. program.
URL:https://villageartsfactory.com/event/adult-fitness-pop-up-yoga/
LOCATION:Village Arts Factory\, 50755 Cherry Hill Rd\, Canton\, MI\, 48188\, United States
CATEGORIES:Public Events
ATTACH;FMTTYPE=image/png:https://villageartsfactory.com/wp-content/uploads/2025/01/Yoga-Pop-Up-March-11.png
ORGANIZER;CN="Village Arts Factory":MAILTO:kevin.ryan@cantonmi.gov
END:VEVENT
END:VCALENDAR