BEGIN:VCALENDAR
VERSION:2.0
PRODID:-//Village Arts Factory - ECPv6.15.20//NONSGML v1.0//EN
CALSCALE:GREGORIAN
METHOD:PUBLISH
X-WR-CALNAME:Village Arts Factory
X-ORIGINAL-URL:https://villageartsfactory.com
X-WR-CALDESC:Events for Village Arts Factory
REFRESH-INTERVAL;VALUE=DURATION:PT1H
X-Robots-Tag:noindex
X-PUBLISHED-TTL:PT1H
BEGIN:VTIMEZONE
TZID:America/Detroit
BEGIN:DAYLIGHT
TZOFFSETFROM:-0500
TZOFFSETTO:-0400
TZNAME:EDT
DTSTART:20240310T070000
END:DAYLIGHT
BEGIN:STANDARD
TZOFFSETFROM:-0400
TZOFFSETTO:-0500
TZNAME:EST
DTSTART:20241103T060000
END:STANDARD
BEGIN:DAYLIGHT
TZOFFSETFROM:-0500
TZOFFSETTO:-0400
TZNAME:EDT
DTSTART:20250309T070000
END:DAYLIGHT
BEGIN:STANDARD
TZOFFSETFROM:-0400
TZOFFSETTO:-0500
TZNAME:EST
DTSTART:20251102T060000
END:STANDARD
BEGIN:DAYLIGHT
TZOFFSETFROM:-0500
TZOFFSETTO:-0400
TZNAME:EDT
DTSTART:20260308T070000
END:DAYLIGHT
BEGIN:STANDARD
TZOFFSETFROM:-0400
TZOFFSETTO:-0500
TZNAME:EST
DTSTART:20261101T060000
END:STANDARD
END:VTIMEZONE
BEGIN:VEVENT
DTSTART;TZID=America/Detroit:20250411T170000
DTEND;TZID=America/Detroit:20250411T190000
DTSTAMP:20260424T052213
CREATED:20250313T134736Z
LAST-MODIFIED:20250313T134736Z
UID:2507-1744390800-1744398000@villageartsfactory.com
SUMMARY:Holi Festival of Colors: Arts & Crafts Pop-Up
DESCRIPTION:We’re celebrating the Holi Festival of Colors with a special arts & crafts pop-up event on Friday\, April 11 from 5:00 to 7:00p.m. The cultural celebration of Holi symbolizes the arrival of spring\, the triumph of good over evil\, and a time for renewal and unity. Bring the kids and take part in free art activities while exploring the significance of this joyful festival. Round out your evening with delicious offerings from an authentic Indian food truck and Kulfi ice cream vendor. Save the date!
URL:https://villageartsfactory.com/event/holi-festival-of-colors-arts-crafts-pop-up/
LOCATION:Village Arts Factory\, 50755 Cherry Hill Rd\, Canton\, MI\, 48188\, United States
CATEGORIES:Public Events
ATTACH;FMTTYPE=image/jpeg:https://villageartsfactory.com/wp-content/uploads/2025/03/Holi-Festival-of-Color-social-media.jpg
ORGANIZER;CN="Village Arts Factory":MAILTO:kevin.ryan@cantonmi.gov
END:VEVENT
END:VCALENDAR