BEGIN:VCALENDAR
VERSION:2.0
PRODID:-//Village Arts Factory - ECPv6.15.20//NONSGML v1.0//EN
CALSCALE:GREGORIAN
METHOD:PUBLISH
X-WR-CALNAME:Village Arts Factory
X-ORIGINAL-URL:https://villageartsfactory.com
X-WR-CALDESC:Events for Village Arts Factory
REFRESH-INTERVAL;VALUE=DURATION:PT1H
X-Robots-Tag:noindex
X-PUBLISHED-TTL:PT1H
BEGIN:VTIMEZONE
TZID:America/Detroit
BEGIN:DAYLIGHT
TZOFFSETFROM:-0500
TZOFFSETTO:-0400
TZNAME:EDT
DTSTART:20240310T070000
END:DAYLIGHT
BEGIN:STANDARD
TZOFFSETFROM:-0400
TZOFFSETTO:-0500
TZNAME:EST
DTSTART:20241103T060000
END:STANDARD
BEGIN:DAYLIGHT
TZOFFSETFROM:-0500
TZOFFSETTO:-0400
TZNAME:EDT
DTSTART:20250309T070000
END:DAYLIGHT
BEGIN:STANDARD
TZOFFSETFROM:-0400
TZOFFSETTO:-0500
TZNAME:EST
DTSTART:20251102T060000
END:STANDARD
BEGIN:DAYLIGHT
TZOFFSETFROM:-0500
TZOFFSETTO:-0400
TZNAME:EDT
DTSTART:20260308T070000
END:DAYLIGHT
BEGIN:STANDARD
TZOFFSETFROM:-0400
TZOFFSETTO:-0500
TZNAME:EST
DTSTART:20261101T060000
END:STANDARD
END:VTIMEZONE
BEGIN:VEVENT
DTSTART;TZID=America/Detroit:20250426T100000
DTEND;TZID=America/Detroit:20250426T170000
DTSTAMP:20260424T052213
CREATED:20250213T162044Z
LAST-MODIFIED:20250421T142222Z
UID:2428-1745661600-1745686800@villageartsfactory.com
SUMMARY:Art in Bloom: Spring Artisan Market
DESCRIPTION:Mark your calendars for the return of Art in Bloom at the Village Arts Factory! Presented by The Village Grocery\, this annual Spring Artisan Market in Cherry Hill Village will feature our Arts Warehouse studio artists\, food trucks\, coffee\, concessions\, live music\, face painting\, and over 20 local vendors selling their art\, crafts\, concessions\, and artisanal wares. Bring the kids to enjoy a fun spring craft activity and fairy door scavenger hunt with prizes. This event is free and open to the public. Come and spend a beautiful day with us at the Village Arts Factory as we celebrate the return of all things spring! \n2025 Art in Bloom: Marketplace Vendors \nAll Hands on DesignChariot CraftsCherry Hill Potters GuildCoyly ScriptD & M Art StudioDonna Jean ArtDrangonfly JewelsEvermore Homestead Creations LLCFlowing ScriptFransArtSpaceFreezie Fitz CandyIvory and IronJump-A-Rama Gymnastics & FitnessKelly’s Creative ShopLily Pad CraftsMementosByLetiMiranda St. CreationsNalu Nalu This & ThatNimble ShipNothing Bundt CakesPartnership for the Arts & HumanitiesPat’s CreationsPermanent Jewelry by IrosePourMeArtSignWoodworksSkinCare Social ClubSweet Creations by MicheleThe Village Doctor at Cherry HillThe Village GroceryWild Wolf Coffee \nSpecial thanks to our generous event sponsors: The Village Grocery\, Jacob Matthew Jewelers\, Blink Eyecare\, The Village Doctor at Cherry Hill\, and Merrill Mueting Lyczak Group.
URL:https://villageartsfactory.com/event/art-in-bloom-spring-artisan-market-2/
LOCATION:Village Arts Factory\, 50755 Cherry Hill Rd\, Canton\, MI\, 48188\, United States
CATEGORIES:Public Events
ATTACH;FMTTYPE=image/png:https://villageartsfactory.com/wp-content/uploads/2025/02/Art-in-Bloom-TV-2.png
ORGANIZER;CN="Village Arts Factory":MAILTO:kevin.ryan@cantonmi.gov
END:VEVENT
END:VCALENDAR