BEGIN:VCALENDAR
VERSION:2.0
PRODID:-//Village Arts Factory - ECPv6.15.20//NONSGML v1.0//EN
CALSCALE:GREGORIAN
METHOD:PUBLISH
X-ORIGINAL-URL:https://villageartsfactory.com
X-WR-CALDESC:Events for Village Arts Factory
REFRESH-INTERVAL;VALUE=DURATION:PT1H
X-Robots-Tag:noindex
X-PUBLISHED-TTL:PT1H
BEGIN:VTIMEZONE
TZID:America/Detroit
BEGIN:DAYLIGHT
TZOFFSETFROM:-0500
TZOFFSETTO:-0400
TZNAME:EDT
DTSTART:20240310T070000
END:DAYLIGHT
BEGIN:STANDARD
TZOFFSETFROM:-0400
TZOFFSETTO:-0500
TZNAME:EST
DTSTART:20241103T060000
END:STANDARD
BEGIN:DAYLIGHT
TZOFFSETFROM:-0500
TZOFFSETTO:-0400
TZNAME:EDT
DTSTART:20250309T070000
END:DAYLIGHT
BEGIN:STANDARD
TZOFFSETFROM:-0400
TZOFFSETTO:-0500
TZNAME:EST
DTSTART:20251102T060000
END:STANDARD
BEGIN:DAYLIGHT
TZOFFSETFROM:-0500
TZOFFSETTO:-0400
TZNAME:EDT
DTSTART:20260308T070000
END:DAYLIGHT
BEGIN:STANDARD
TZOFFSETFROM:-0400
TZOFFSETTO:-0500
TZNAME:EST
DTSTART:20261101T060000
END:STANDARD
END:VTIMEZONE
BEGIN:VEVENT
DTSTART;TZID=America/Detroit:20250430T180000
DTEND;TZID=America/Detroit:20250430T190000
DTSTAMP:20260424T040751
CREATED:20250415T173219Z
LAST-MODIFIED:20250429T204112Z
UID:2564-1746036000-1746039600@villageartsfactory.com
SUMMARY:Islamic Art Workshop
DESCRIPTION:**EVENT CANCELLED** Discover the beauty of Islamic-inspired art! In this workshop\, you’ll create a personalized mixed-media piece using your Arabic initials\, layered with geometric and floral patterns inspired by traditional Islamic designs. Through stamps\, stencils\, and guided techniques\, you’ll learn how to build a harmonious composition that blends personal meaning with cultural artistry. \nThe cost is just $30 per person and all materials are included. Participants will enjoy complimentary Middle Eastern snacks and refreshments. Recommended for children and adults ages 11+. \nCome and celebrate Arab-American History Month with us while creating a beautiful piece of art to take home and display! For more information\, please contact us at: frani.lantigua@cantonmi.gov
URL:https://villageartsfactory.com/event/islamic-art-workshop/
LOCATION:Village Arts Factory\, 50755 Cherry Hill Rd\, Canton\, MI\, 48188\, United States
CATEGORIES:Public Events
ATTACH;FMTTYPE=image/png:https://villageartsfactory.com/wp-content/uploads/2025/04/Islamic-Art-Workshop.png
ORGANIZER;CN="Village Arts Factory":MAILTO:kevin.ryan@cantonmi.gov
END:VEVENT
END:VCALENDAR