BEGIN:VCALENDAR
VERSION:2.0
PRODID:-//Village Arts Factory - ECPv6.15.20//NONSGML v1.0//EN
CALSCALE:GREGORIAN
METHOD:PUBLISH
X-WR-CALNAME:Village Arts Factory
X-ORIGINAL-URL:https://villageartsfactory.com
X-WR-CALDESC:Events for Village Arts Factory
REFRESH-INTERVAL;VALUE=DURATION:PT1H
X-Robots-Tag:noindex
X-PUBLISHED-TTL:PT1H
BEGIN:VTIMEZONE
TZID:America/Detroit
BEGIN:DAYLIGHT
TZOFFSETFROM:-0500
TZOFFSETTO:-0400
TZNAME:EDT
DTSTART:20240310T070000
END:DAYLIGHT
BEGIN:STANDARD
TZOFFSETFROM:-0400
TZOFFSETTO:-0500
TZNAME:EST
DTSTART:20241103T060000
END:STANDARD
BEGIN:DAYLIGHT
TZOFFSETFROM:-0500
TZOFFSETTO:-0400
TZNAME:EDT
DTSTART:20250309T070000
END:DAYLIGHT
BEGIN:STANDARD
TZOFFSETFROM:-0400
TZOFFSETTO:-0500
TZNAME:EST
DTSTART:20251102T060000
END:STANDARD
BEGIN:DAYLIGHT
TZOFFSETFROM:-0500
TZOFFSETTO:-0400
TZNAME:EDT
DTSTART:20260308T070000
END:DAYLIGHT
BEGIN:STANDARD
TZOFFSETFROM:-0400
TZOFFSETTO:-0500
TZNAME:EST
DTSTART:20261101T060000
END:STANDARD
END:VTIMEZONE
BEGIN:VEVENT
DTSTART;TZID=America/Detroit:20250709T170000
DTEND;TZID=America/Detroit:20250709T200000
DTSTAMP:20260424T014202
CREATED:20250521T163929Z
LAST-MODIFIED:20250707T203635Z
UID:2630-1752080400-1752091200@villageartsfactory.com
SUMMARY:Concerts & Cuisine: Summer Music and Market Series
DESCRIPTION:Join us in the heart of Cherry Hill Village this July for four consecutive Wednesday nights of live bands\, Canton Farmer’s Market\, mini golf\, food\, art\, and fun! Bring your friends\, family\, and a lawn chair\, and come enjoy the return of this popular community event series at the Village Arts Factory. Generously sponsored by Brackney Chiropractic and funded through a grant from the Partnership for the Arts & Humanities\, this event is free to attend and open to the entire community. We hope to see you there! \nEvent Details: \nLocation: Village Arts Factory\, 50755 Cherry Hill Road \nDate: July 9\, 16\, 23\, 30 \nDay: Wed \nTime: 5:00-8:00pm \nFee: FREE \nAges: All Ages \nRegistration: No pre-registration required \nFood & Music Schedule: \nDate: July 9 \nBand: Denise Davis and the Motor City Sensations \nFood Trucks: Stello’s Burgers and Loaded Fries\, Meltdown Creamery\, Travelin’ Tom’s Coffee & Beverages \nKids’ Crafts: Rhythm Boards\, Coffee Filter Records \nKids’ Snack: Blueberry Sparklers \nAdditional Activities: Face Painting ($)\, Mini Golf (Free) \n— \nDate: July 16 \nBand: Lisa Mary \nFood: Travelin’ Toms \n— \nDate: July 23 \nBand: The Jason Locke Band \nFood: Travelin’ Toms \n— \nDate: July 30 \nBand: Depot Town Big Band \nFood: Travelin’ Toms
URL:https://villageartsfactory.com/event/concerts-cuisine-summer-music-and-market-series/
LOCATION:Village Arts Factory\, 50755 Cherry Hill Rd\, Canton\, MI\, 48188\, United States
CATEGORIES:Public Events
ATTACH;FMTTYPE=image/png:https://villageartsfactory.com/wp-content/uploads/2025/05/Concerts-Cuisine-FB-Banner-2.0.png
ORGANIZER;CN="Village Arts Factory":MAILTO:kevin.ryan@cantonmi.gov
END:VEVENT
END:VCALENDAR