BEGIN:VCALENDAR
VERSION:2.0
PRODID:-//Village Arts Factory - ECPv6.15.20//NONSGML v1.0//EN
CALSCALE:GREGORIAN
METHOD:PUBLISH
X-ORIGINAL-URL:https://villageartsfactory.com
X-WR-CALDESC:Events for Village Arts Factory
REFRESH-INTERVAL;VALUE=DURATION:PT1H
X-Robots-Tag:noindex
X-PUBLISHED-TTL:PT1H
BEGIN:VTIMEZONE
TZID:America/Detroit
BEGIN:DAYLIGHT
TZOFFSETFROM:-0500
TZOFFSETTO:-0400
TZNAME:EDT
DTSTART:20240310T070000
END:DAYLIGHT
BEGIN:STANDARD
TZOFFSETFROM:-0400
TZOFFSETTO:-0500
TZNAME:EST
DTSTART:20241103T060000
END:STANDARD
BEGIN:DAYLIGHT
TZOFFSETFROM:-0500
TZOFFSETTO:-0400
TZNAME:EDT
DTSTART:20250309T070000
END:DAYLIGHT
BEGIN:STANDARD
TZOFFSETFROM:-0400
TZOFFSETTO:-0500
TZNAME:EST
DTSTART:20251102T060000
END:STANDARD
BEGIN:DAYLIGHT
TZOFFSETFROM:-0500
TZOFFSETTO:-0400
TZNAME:EDT
DTSTART:20260308T070000
END:DAYLIGHT
BEGIN:STANDARD
TZOFFSETFROM:-0400
TZOFFSETTO:-0500
TZNAME:EST
DTSTART:20261101T060000
END:STANDARD
END:VTIMEZONE
BEGIN:VEVENT
DTSTART;TZID=America/Detroit:20250710T100000
DTEND;TZID=America/Detroit:20250710T120000
DTSTAMP:20260424T013344
CREATED:20250617T173140Z
LAST-MODIFIED:20250618T175913Z
UID:2708-1752141600-1752148800@villageartsfactory.com
SUMMARY:Lavender Wreath Workshop with Belle Lavande
DESCRIPTION:Join us at the Village Arts Factory for a Lavender Wreath Workshop with Belle Lavande Lavender Farm! Classes will be offered on Thursday\, July 10 from 10am to 12pm\, 1pm to 3pm. or 6:30 to 8:30pm. The cost is just $65 per person and all materials are included. Instructor Windy Mack of Belle Lavande will guide you in creating a beautiful lavender wreath for your home or garden! \nClick Here to Register!
URL:https://villageartsfactory.com/event/lavender-wreath-workshop-with-belle-lavande/
LOCATION:Village Arts Factory\, 50755 Cherry Hill Rd\, Canton\, MI\, 48188\, United States
CATEGORIES:Public Events
ATTACH;FMTTYPE=image/png:https://villageartsfactory.com/wp-content/uploads/2025/06/Lavender-Wreath-Workshop-June-25.png
ORGANIZER;CN="Belle Lavande Lavender Farm":MAILTO:bellelavande40@gmail.com
END:VEVENT
BEGIN:VEVENT
DTSTART;TZID=America/Detroit:20250710T130000
DTEND;TZID=America/Detroit:20250710T150000
DTSTAMP:20260424T013344
CREATED:20250617T173641Z
LAST-MODIFIED:20250618T180011Z
UID:2712-1752152400-1752159600@villageartsfactory.com
SUMMARY:Lavender Wreath Workshop with Belle Lavande
DESCRIPTION:Join us at the Village Arts Factory for a Lavender Wreath Workshop with Belle Lavande Lavender Farm! Classes will be offered on Thursday\, July 10 from 10am to 12pm\, 1pm to 3pm\, or 6:30 to 8:30pm. The cost is just $65 per person and all materials are included. Instructor Windy Mack of Belle Lavande will guide you in creating a beautiful lavender wreath for your home or garden! \nClick Here to Register!
URL:https://villageartsfactory.com/event/lavender-wreath-workshop-with-belle-lavande-2/
LOCATION:Village Arts Factory\, 50755 Cherry Hill Rd\, Canton\, MI\, 48188\, United States
CATEGORIES:Public Events
ATTACH;FMTTYPE=image/png:https://villageartsfactory.com/wp-content/uploads/2025/06/Lavender-Wreath-Workshop-June-25.png
ORGANIZER;CN="Belle Lavande Lavender Farm":MAILTO:bellelavande40@gmail.com
END:VEVENT
BEGIN:VEVENT
DTSTART;TZID=America/Detroit:20250710T183000
DTEND;TZID=America/Detroit:20250710T203000
DTSTAMP:20260424T013344
CREATED:20250618T165150Z
LAST-MODIFIED:20250620T141647Z
UID:2717-1752172200-1752179400@villageartsfactory.com
SUMMARY:Lavender Wreath Workshop with Belle Lavande
DESCRIPTION:Join us at the Village Arts Factory for a Lavender Wreath Workshop with Belle Lavande Lavender Farm! Classes will be offered on Thursday\, July 10 from 10am to 12pm\, 1pm to 3pm\, or 6:30 to 8:30pm. The cost is just $65 per person and all materials are included. Instructor Windy Mack of Belle Lavande will guide you in creating a beautiful lavender wreath for your home or garden! \nClick Here to Register!
URL:https://villageartsfactory.com/event/lavender-wreath-workshop-with-belle-lavande-3/
LOCATION:Village Arts Factory\, 50755 Cherry Hill Rd\, Canton\, MI\, 48188\, United States
CATEGORIES:Public Events
ATTACH;FMTTYPE=image/png:https://villageartsfactory.com/wp-content/uploads/2025/06/Lavender-Wreath-Workshop-June-25.png
ORGANIZER;CN="Belle Lavande Lavender Farm":MAILTO:bellelavande40@gmail.com
END:VEVENT
END:VCALENDAR